{"text_format":"1","workbook":"xlsx","n_sheets":36,"sheets":["Инструкция","Обновление","Лог обновления","Титульный","Форма 3.1","F_3_1","Форма 3.1 (L)","П1.30","П1.3","П1.4","П1.5","Прямые договоры с потребителями","Договоры взаиморасчёта","Комментарии","Проверка","modPass","modCommonProv","modProv","modProvGeneralProc","tech","modSheetTitle","TECHSHEET","modInfo","modCommandButton","modUpdTemplMain","modCommonProcedures","modfrmCheckUpdates","modfrmUpdateIsInProgress","REESTR_ORG","modP1_30","modfrmReestr","modAuthorizationUtilities","AUTHORIZATION","modfrmCheckInIsInProgress","modOrgData","Лист1"],"not_rendered":{"charts":0,"images":17,"macros":1,"external_links":0,"defined_names":205,"comments":2,"pivot_tables":0},"unopened":[],"bounds":{"document_bytes":16777216,"sheet_cells":100000,"rows_first":2000,"rows_last":500,"rows_between":2000,"halvings":0,"cell_chars":16384,"cell_head_chars":4096},"cells_cut":0,"cells_raw":0,"read":"whole","date_system":"1900"}

{"sheet":"Инструкция","index":0,"n_rows":57,"n_cols":6,"rows_kept":57,"cut":false,"hidden":false,"merged":[[43,2,43,4],[50,2,50,4],[51,2,51,4],[48,2,48,4],[49,2,49,4],[44,2,44,4],[45,2,45,4],[46,2,46,4],[47,2,47,4],[18,3,18,4],[19,3,19,4],[23,2,23,4],[57,2,57,4],[63,1,63,4],[31,2,31,4],[32,2,32,4],[33,2,33,4],[34,2,34,4],[35,2,35,4],[20,2,20,4],[21,2,21,4],[17,3,17,4],[30,2,30,4],[22,2,22,4],[12,2,12,4],[13,2,13,4],[14,2,14,4],[15,2,15,3],[16,3,16,4],[29,2,29,4],[24,2,24,4],[25,2,25,4],[26,2,26,4],[27,2,27,4],[28,2,28,4],[1,1,1,4],[3,1,3,4],[5,2,5,4],[6,2,6,4],[10,2,10,4],[11,2,11,4],[7,2,7,4],[8,2,8,4],[9,2,9,4]]}
[]
[null,{"$f":"\"Код шаблона: \" & GetCode()","v":"Код шаблона: ENERGY.KTL.NET.PLAN"}]
[null,{"$f":"\"Версия \" & GetVersion()","v":"Версия 3.3.1"}]
[null,"Инструкция"]
[]
[null,null,"1.  Технические требования",null,null,"t"]
[null,null," • на рабочем месте должен быть установлен MS Office 2003 SP3, 2007 SP3, 2010 с полной версией MS Excel"]
[null,null," • макросы во время работы должны быть включены (!)"]
[null,null," • для корректной работы шаблона требуется выбрать низкий уровень безопасности"]
[null,null,"(В меню MS Excel 2003: Сервис | Макрос | Безопасность | выбрать нижний пункт «Низкая безопасность» | OK)"]
[null,null,"(В меню MS Excel 2007/2010: Параметры Excel | Центр управления безопасностью | Параметры центра управления безопасностью | Параметры макросов | Включить все макросы | ОК)"]
[null,null,"• Если Вы работаете в табличном процессоре MS Excel 2007 и выше, то можете использовать для работы формат XLSM (Книга Excel с поддержкой макросов). При работе в формате XLSM заметно быстрее происходит сохранение шаблона, а также уменьшается размер файла по сравнению с форматом XLS."]
[null,null,"• Не рекомендуется снимать защиту с листов и каким-либо образом модифицировать защищаемые формулы и расчётные поля, в противном случае, шаблон будет отклонён системой"]
[null,null,"• При сохранении не следует выбирать формат XLSX (Книга Excel), так как в указанном формате макросы, задействованные при работе с шаблоном, безвозвратно удаляются."]
[null,null,"2.  Условные обозначения",null,null,"u"]
[null,null,"Типы ячеек:"]
[null,null,"●"," - обязательные для заполнения;"]
[null,null,"●"," - предназначенные для заполнения;"]
[null,null,"●"," - с формулами и константами или заполняемые автоматически (например, при выборе организации)."]
[null,null,null,"Пояснение к заполнению на листе."]
[null,null,"3.  Работа с реестрами",null,null,"u"]
[null,null,"Если в предложенном Вам списке необходимая организация (МР/МО) отсутствует, обновите реестр с помощью кнопки «Обновить реестр организаций» («Обновить реестр МО»)."]
[null,null,"В результате синхронизации с базой данных список организаций (МР/МО) будет заменён актуальным (механизм синхронизации требует подключения к сети Интернет и основан на использовании протокола HTTPS (TCP порт 443)). "]
[null,null,"Если после обновления Вам не удалось найти необходимую организацию в списке, обратитесь к ответственному за поддержание реестра Вашего региона. Информация о региональных органах регулирования доступна по ссылке:"]
[null,null,"http://www.fstrf.ru/regions/region/showlist"]
[null,null,"4.  Работа с листом «Проверка»",null,null,"u"]
[null,null,"• При сохранении шаблона осуществляется проверка корректности данных, в том числе на наличие значений в ячейках, обязательных для заполнения. "]
[null,null,"• Если какая-то ячейка не удовлетворяет условию проверки, на лист «Проверка» добавляется гиперссылка на данную ячейку и указывается причина ошибки."]
[null,null,"• В колонке «Статус» для каждого сообщения возможны 2 значения: ошибка и предупреждение. "]
[null,null,"• При наличии сообщений со статусом «Ошибка» шаблон будет отклонён системой и не будет загружен в хранилище данных, сообщения со статусом «Предупреждение» носят информационный характер, и такой шаблон будет принят системой."]
[]
[null,null,"• Если Вы работаете в табличном процессоре Microsoft Excel 2007 и выше, Вы можете использовать для работы формат XLSM (Книга Excel с поддержкой макросов)."]
[null,null,"• При сохранении не следует выбирать формат XLSX (Книга Excel), так как в указанном формате макросы, задействованные при работе с шаблоном, БЕЗВОЗВРАТНО УДАЛЯЮТСЯ."]
[null,null,"• После того, как будут устранены все замечания, при сохранении шаблона появится сообщение «Шаблон готов к сохранению без замечаний»."]
[]
[null,null,"5.  Организационно-технические консультации",null,null,"u"]
[null,null,null,"ФИО:",""]
[null,null,null,"Телефон:",""]
[null,null,null,"E-mail:"]
[null,null,null,"Web-сайт:","http://support.eias.ru/index.php?a=add&catid=15"]
[null,null,null,"Комментарий",""]
[null,null,null,"Дистрибутивы:","http://eias.ru/?page=show_distrs"]
[null,null,null,null,"для устранения ошибок (напр., \"Compile error in hidden module\")"]
[null,null,"6.  Методология заполнения",null,null,"t"]
[null,null,"«Предложения территориальных сетевых организаций по передаче электрической энергии и мощности»"]
[]
[null,null,"На листах \"Форма 3.1\", \"П1.30\" , \"П1.3\" и \"П1.4\" гиперссылки \"-\" / \"+\" позволяют управлять видимостью блоков с помесячной детализацией периодов"]
[]
[]
[]
[null,null,"   Комментарии, замечания и пожелания по всем формам Вы можете отразить на листе «Комментарии». "]
[null,null,"7.  Консультации по методологии заполнения",null,null,"u"]
[null,null,null,"ФИО:",""]
[null,null,null,"Телефон:",""]
[null,null,null,"E-mail:"]
[null,null,null,"Web-сайт:","http://support.eias.ru/index.php?a=add&catid=15"]
[null,null,null,"Комментарий",""]

{"sheet":"Обновление","index":1,"n_rows":23,"n_cols":4,"rows_kept":23,"cut":false,"hidden":false,"merged":[[7,3,7,14],[8,3,8,14],[2,3,2,14],[4,3,4,14],[5,3,5,14],[6,3,6,14],[15,3,15,14],[22,3,22,7],[22,8,22,14],[9,3,9,14],[10,3,10,14],[11,3,11,14],[12,3,12,14],[13,3,13,14],[14,3,14,14]]}
[]
[]
[null,null,null,"Инструкция по обновлению шаблона"]
[]
[null,null,null,"Технические требования:"]
[null,null,null,"• на рабочем месте должен быть установлен MS Office 2003, 2007, 2010 с полной версией MS Excel"]
[null,null,null,"• макросы во время работы должны быть включены "]
[null,null,null,"• для корректной работы шаблона рекомендуется выбрать низкий уровень безопасности"]
[null,null,null,"(В меню MS Excel 2003: Сервис -> Макрос -> Безопасность -> выбрать нижний пункт«Низкая безопасность» -> «OK»)\n(В MS Excel 2007 после открытия файла шаблона нажать на кнопку «Параметры…» в строке «Предупреждение системы безопасности», далее выбрать «Включить это содержимое» -> «OK»)"]
[null,null,null,"Чтобы проверить наличие обновлений, нажмите кнопку «Обновить текущую версию шаблона». Лог обновления и статусные сообщения дублируются на листе «Лог обновления».\n\n"]
[]
[]
[]
[]
[]
[]
[]
[]
[]
[]
[]
[]
[null,null,null,"Если компьютер имеет подключение к Интернет, можно автоматически проверять наличие доступных обновлений. Выберите способ оповещения о наличии обновлений для шаблона:"]

{"sheet":"Лог обновления","index":2,"n_rows":2,"n_cols":4,"rows_kept":2,"cut":false,"hidden":true,"merged":[]}
[]
["3/17/2012  12:12:41 AM","Дата/Время","Сообщение","Статус"]

{"sheet":"Титульный","index":3,"n_rows":64,"n_cols":8,"rows_kept":64,"cut":false,"hidden":false,"merged":[[3,5,3,6],[6,5,6,6],[56,4,56,5],[4,4,4,5],[53,4,53,5],[50,4,50,5]]}
[]
[]
[null,null,null,null,null,{"$f":"version","v":"Версия 3.3.1"}]
[]
[null,null,null,null,{"$f":"\"Предложения территориальных сетевых организаций по передаче электрической энергии и мощности на \" & IF(god=\"\",\"Не определено\",god) & \" год\"","v":"Предложения территориальных сетевых организаций по передаче электрической энергии и мощности на 2015 год"}]
[]
[]
[null,null,null,null,"Субъект РФ","Тюменская область"]
[]
[null,null,null,null,"Период регулирования",2015]
[]
[null,null,null,null,"Тип данных","План"]
[]
[null,null,null,null,"Количество лет регулирования","5"]
[]
[null,null,null,null,"Первый период долгосрочного регулирования",2015]
[]
[null,null,null,null,"Версия","Версия организации"]
[null,null,null,null,null,null,null,"Дата последнего обновления реестра организаций 09.04.2014 15:52:35"]
[null,null,null,null,"Наименование юридического лица","ООО \"Ремэнергостройсервис\""]
[]
[]
[]
[]
[]
[null,null,null,null,"ИНН","7224023014"]
[null,null,null,null,"КПП","722401001"]
[]
[]
[]
[]
[]
[]
[]
[]
[]
[]
[]
[]
[]
[]
[]
[]
[]
[]
[]
[]
[]
[null,null,null,null,"Юридический адрес","625501,Тюменская область,Тюменский район, д.Патрушева, ул.Центральная, д.39\"А\""]
[null,null,null,null,"Почтовый адрес","625000, г.Тюмень, ул.Герцена, д.84, корп.2А"]
[null,null,null,null,"Руководитель"]
[null,null,null,null,"Фамилия, имя, отчество","Краснопёров Фёдор Петрович"]
[null,null,null,null,"Контактный телефон","(3452)46-87-40"]
[null,null,null,null,"Главный бухгалтер"]
[null,null,null,null,"Фамилия, имя, отчество","Бокова Вера Петровна"]
[null,null,null,null,"Контактный телефон","(3452)46-87-54"]
[null,null,null,null,"Должностное лицо, ответственное за составление формы"]
["L11.1","Ответственный.ФИО",null,null,"Фамилия, имя, отчество","Кирнозенко Елена Николаевна"]
["L11.2","Ответственный.Должность",null,null,"Должность","начальник ПТО"]
["L11.3","Ответственный.Телефон",null,null,"Контактный телефон","(3452)46-87-45"]
["L11.4","Ответственный. E-Mail",null,null,"e-mail","ress@com72.ru"]
[]
[]
[null,null,null,null,"Отображаемое число знаков после запятой для числовых полей","2"]

{"sheet":"Форма 3.1","index":4,"n_rows":38,"n_cols":29,"rows_kept":38,"cut":false,"hidden":false,"merged":[[6,3,6,25],[7,9,7,20],[11,9,11,20],[11,3,12,3],[11,5,12,5],[11,6,12,6],[11,7,12,7],[11,8,12,8],[11,4,12,4],[11,21,12,21],[1,21,1,25],[11,22,12,22],[11,23,12,23],[11,24,12,24],[11,25,12,25]]}
[]
[]
[]
[]
[]
[]
[null,null,null,{"$f":"\"Предложения по технологическому расходу электроэнергии (мощности) - потерям в электрических сетях на \" & IF(god=\"\",\"Не определено\",god) & \" год: для формирования тарифа\"","v":"Предложения по технологическому расходу электроэнергии (мощности) - потерям в электрических сетях на 2015 год: для формирования тарифа"}]
[null,null,null,null,null,null,null,null,null,null,null,null,null,null,null,null,null,null,null,null,null,"-"]
[]
[]
[]
[null,null,null,"№ п/п","Наименование","Единица измерения",{"$f":"\"План \" & IF(god=\"\",\"Не определено\",god-2) & \" год\"","v":"План 2013 год"},{"$f":"\"Факт \" & IF(god=\"\",\"Не определено\",god-2) & \" год\"","v":"Факт 2013 год"},{"$f":"\"План \" & IF(god=\"\",\"Не определено\",god-1) & \" год\"","v":"План 2014 год"},{"$f":"\"План \" & IF(god=\"\",\"Не определено\",god) & \" год\"","v":"План 2015 год"},null,null,null,null,null,null,null,null,null,null,null,{"$f":"\"План \" & IF(god=\"\",\"Не определено\",god) & \" год\"","v":"План 2015 год"},{"$f":"\"План \" & IF(god=\"\",\"Не определено\",god+1) & \" год\"","v":"План 2016 год"},{"$f":"\"План \" & IF(god=\"\",\"Не определено\",god+2) & \" год\"","v":"План 2017 год"},{"$f":"\"План \" & IF(god=\"\",\"Не определено\",god+3) & \" год\"","v":"План 2018 год"},{"$f":"\"План \" & IF(god=\"\",\"Не определено\",god+4) & \" год\"","v":"План 2019 год"}]
[null,null,null,null,null,null,null,null,null,"Январь","Февраль","Март","Апрель","Май","Июнь","Июль","Август","Сентябрь","Октябрь","Ноябрь","Декабрь"]
[null,null,null,1,{"$f":"D14+1","v":2},{"$f":"E14+1","v":3},4,5,6,7,8,9,10,11,12,13,14,15,16,17,18,19,20,21,22,23]
[null,null,null,null,"Электроэнергия"]
[null,null,null,1,"Поступление в сеть","млн.кВтч",{"$f":"П1.4!F15","v":39.67},{"$f":"П1.4!X15","v":46.413522},{"$f":"П1.4!AP15","v":44.564999999999998},{"$f":"J19+J23","v":5.1052},{"$f":"K19+K23","v":4.3270999999999997},4.6395999999999997,3.5948000000000002,3.6146000000000003,3.0938000000000003,3.0166999999999997,2.9603999999999999,3.6124999999999998,4.3052000000000001,4.4417,{"$f":"U19+U23-0.01","v":4.3159999999999998},{"$f":"П1.30!CB17","v":47.029274999999998},{"$f":"П1.4!ET15","v":0},{"$f":"П1.4!FL15","v":0},{"$f":"П1.4!GD15","v":0},{"$f":"П1.4!GV15","v":0},null,{"$f":"SUM(J16:U16)","v":47.0276},"Электроэнергия"]
[null,null,null,2,"Потери в электрической сети, в т.ч. относимые на:","млн.кВтч",{"$f":"SUM(G18:G19)","v":0.39},1.265217,0.6100000000000001,0.20419999999999999,0.1731,0.18559999999999999,0.14380000000000001,0.14460000000000001,0.12379999999999999,0.1207,0.11840000000000001,0.14449999999999999,0.17219999999999999,0.1777,0.17299999999999999,1.8815,1.9,1.9300000000000002,1.94,{"$f":"SUM(Z18:Z19)","v":1.96}]
[null,null,null,"2.1","собственное потребление","млн.кВтч",{"$f":"П1.4!F27","v":0},{"$f":"П1.4!X27","v":0},{"$f":"П1.4!AP27","v":0},null,null,null,null,null,null,null,null,null,null,null,null,{"$f":"П1.30!CB39","v":0},{"$f":"П1.4!ET27","v":0},{"$f":"П1.4!FL27","v":0},{"$f":"П1.4!GD27","v":0},{"$f":"П1.4!GV27","v":0},null,{"$f":"SUM(J18:U18)","v":0},"Электроэнергия"]
[null,null,null,"2.2","передачу сторонним потребителям (субабонентам)","млн.кВтч",{"$f":"П1.4!F28","v":0.39},{"$f":"П1.4!X28","v":1.265217},{"$f":"П1.4!AP28","v":0.6100000000000001},0.20419999999999999,0.1731,0.18559999999999999,0.14380000000000001,0.14460000000000001,0.12379999999999999,0.1207,0.11840000000000001,0.14449999999999999,0.17219999999999999,0.1777,0.17299999999999999,{"$f":"П1.30!CB40","v":1.8815},{"$f":"П1.4!ET28","v":1.9},{"$f":"П1.4!FL28","v":1.9300000000000002},{"$f":"П1.4!GD28","v":1.94},{"$f":"П1.4!GV28","v":1.96},null,{"$f":"SUM(J19:U19)","v":1.8815999999999999},"Электроэнергия"]
[null,null,null,3,"Относительные потери","%",{"$f":"IF(G16=0,0,G17/G16*100)","v":0.98311066296949834},2.7259663681631401,1.3687871648154384,3.9998432970304787,4.0003697626585941,4.0003448573152856,4.0002225436741963,4.0004426492557954,4.0015514900769276,4.0010607617595388,3.9994595324956093,4,3.9998141782031031,4.0007204448747098,4.008341056533828,4.0006995642607714,{"$f":"IF(W16=0,0,W17/W16*100)","v":0},{"$f":"IF(X16=0,0,X17/X16*100)","v":0},{"$f":"IF(Y16=0,0,Y17/Y16*100)","v":0},{"$f":"IF(Z16=0,0,Z17/Z16*100)","v":0}]
[null,null,null,4,"Отпуск из сети (полезный отпуск ), в т.ч. для:","млн.кВтч",{"$f":"G16-G17","v":39.28},45.148305000000001,43.954999999999998,4.9009999999999998,4.1539999999999999,4.4539999999999997,3.4510000000000001,3.47,2.97,2.8959999999999999,2.8420000000000001,3.468,4.133,4.2640000000000002,4.1429999999999998,45.147774999999996,{"$f":"W16-W17","v":-1.9},{"$f":"X16-X17","v":-1.9300000000000002},{"$f":"Y16-Y17","v":-1.94},{"$f":"Z16-Z17","v":-1.96}]
[null,null,null,"4.1","собственного потребления","млн.кВтч",{"$f":"П1.4!F29","v":0},{"$f":"П1.4!X29","v":0},{"$f":"П1.4!AP29","v":0},null,null,null,null,null,null,null,null,null,null,null,null,{"$f":"П1.30!CB45","v":0},{"$f":"П1.4!ET29","v":0},{"$f":"П1.4!FL29","v":0},{"$f":"П1.4!GD29","v":0},{"$f":"П1.4!GV29","v":0},null,{"$f":"SUM(J22:U22)","v":0},"Электроэнергия"]
[null,null,null,"4.2","передачи сторонним потребителям (субабонентам)","млн.кВтч",{"$f":"П1.4!F30","v":39.277299999999997},{"$f":"П1.4!X30","v":45.148302000000001},{"$f":"П1.4!AP30","v":43.95684},4.9009999999999998,4.1539999999999999,4.4539999999999997,3.4510000000000001,3.47,2.97,2.8959999999999999,2.8420000000000001,3.468,4.133,4.2640000000000002,4.1529999999999996,{"$f":"П1.30!CB48","v":45.156000000000006},{"$f":"П1.4!ET30","v":45.606999999999999},{"$f":"П1.4!FL30","v":46.064},{"$f":"П1.4!GD30","v":46.525000000000006},{"$f":"П1.4!GV30","v":46.99},null,{"$f":"SUM(J23:U23)","v":45.155999999999999},"Электроэнергия"]
[null,null,null,null,"Мощность"]
[null,null,null,"5","Поступление в сеть","МВт",{"$f":"П1.5!F15","v":6.3},{"$f":"П1.5!X15","v":7.5690675146771049},{"$f":"П1.5!AP15","v":8.5697931173680484},{"$f":"J28+J32","v":11.702},{"$f":"K28+K32","v":10.949},10.626999999999999,8.4870000000000001,8.34,7.3259999999999996,6.8570000000000002,6.6790000000000003,8.6120000000000001,9.8569999999999993,10.53,9.798,{"$f":"П1.30!CT17","v":9.1455130275356282},{"$f":"П1.5!ET15","v":0},{"$f":"П1.5!FL15","v":0},{"$f":"П1.5!GD15","v":0},{"$f":"П1.5!GV15","v":0},null,{"$f":"SUM(J25:U25)/12","v":9.1470000000000002},"Мощность"]
[null,null,null,"6","Потери в электрической сети, в т.ч. относимые на:","МВт",{"$f":"SUM(G27:G28)","v":0.06},0.20633023483365953,0.11899999999999999,0.46700000000000003,0.438,0.42399999999999999,0.34,0.33100000000000002,0.29199999999999998,0.27600000000000002,0.27100000000000002,0.34100000000000003,0.39400000000000002,0.42,0.39600000000000002,0.36499999999999999,0,0,0,{"$f":"SUM(Z27:Z28)","v":0}]
[null,null,null,"6.1","собственное потребление","МВт",{"$f":"П1.5!F26","v":0},{"$f":"П1.5!X26","v":0},{"$f":"П1.5!AP26","v":0},null,null,null,null,null,null,null,null,null,null,null,null,{"$f":"П1.30!CT39","v":0},{"$f":"П1.5!ET26","v":0},{"$f":"П1.5!FL26","v":0},{"$f":"П1.5!GD26","v":0},{"$f":"П1.5!GV26","v":0},null,{"$f":"SUM(J27:U27)/12","v":0},"Мощность"]
[null,null,null,"6.2","передачу сторонним потребителям (субабонентам)","МВт",{"$f":"П1.5!F27","v":0.06},{"$f":"П1.5!X27","v":0.20633023483365953},{"$f":"П1.5!AP27","v":0.11899999999999999},0.46700000000000003,0.438,0.42399999999999999,0.34,0.33100000000000002,0.29199999999999998,0.27600000000000002,0.27100000000000002,0.34100000000000003,0.39400000000000002,0.42,0.39600000000000002,{"$f":"П1.30!CT40","v":0.36499999999999999},{"$f":"П1.5!ET27","v":0},{"$f":"П1.5!FL27","v":0},{"$f":"П1.5!GD27","v":0},{"$f":"П1.5!GV27","v":0},null,{"$f":"SUM(J28:U28)/12","v":0.36583333333333329},"Мощность"]
[null,null,null,"7","Относительные потери","%",{"$f":"IF(G25=0,0,G26/G25*100)","v":0.95238095238095233},2.7259663681631401,1.3885982820148548,3.9907708084088194,4.0003653301671394,3.9898372071139554,4.0061270177919175,3.9688249400479618,3.9858039858039858,4.0250838559136648,4.0574936367719721,3.9595912679981424,3.9971593791214373,3.9886039886039883,4.0416411512553578,3.9910281566604882,{"$f":"IF(W25=0,0,W26/W25*100)","v":0},{"$f":"IF(X25=0,0,X26/X25*100)","v":0},{"$f":"IF(Y25=0,0,Y26/Y25*100)","v":0},{"$f":"IF(Z25=0,0,Z26/Z25*100)","v":0}]
[null,null,null,"8","Отпуск из сети (полезный отпуск), в т.ч. для:","МВт",{"$f":"G25-G26","v":6.24},7.3627372798434454,8.4507931173680486,11.234999999999999,10.510999999999999,10.202999999999999,8.1470000000000002,8.0090000000000003,7.0339999999999998,6.5810000000000004,6.4080000000000004,8.2710000000000008,9.4629999999999992,10.11,9.4019999999999992,8.780513027535628,{"$f":"W25-W26","v":0},{"$f":"X25-X26","v":0},{"$f":"Y25-Y26","v":0},{"$f":"Z25-Z26","v":0}]
[null,null,null,"8.1","собственного потребления","МВт",{"$f":"П1.5!F28","v":0},{"$f":"П1.5!X28","v":0},{"$f":"П1.5!AP28","v":0},null,null,null,null,null,null,null,null,null,null,null,null,{"$f":"П1.30!CT45","v":0},{"$f":"П1.5!ET28","v":0},{"$f":"П1.5!FL28","v":0},{"$f":"П1.5!GD28","v":0},{"$f":"П1.5!GV28","v":0},null,{"$f":"SUM(J31:U31)/12","v":0},"Мощность"]
[null,null,null,"8.2","передачи сторонним потребителям (субабонентам)","МВт",{"$f":"П1.5!F29","v":6.24},{"$f":"П1.5!X29","v":7.3640613176777556},{"$f":"П1.5!AP29","v":8.4489999999999998},11.234999999999999,10.510999999999999,10.202999999999999,8.1470000000000002,8.0090000000000003,7.0339999999999998,6.5810000000000004,6.4080000000000004,8.2710000000000008,9.4629999999999992,10.11,9.4019999999999992,{"$f":"П1.30!CT48","v":8.7809999999999988},{"$f":"П1.5!ET29","v":0},{"$f":"П1.5!FL29","v":0},{"$f":"П1.5!GD29","v":0},{"$f":"П1.5!GV29","v":0},null,{"$f":"SUM(J32:U32)/12","v":8.7811666666666657},"Мощность"]
[null,null,null,"9","Заявленная мощность ","МВт",{"$f":"SUM(G34:G35)","v":0},0,0,11.234999999999999,10.510999999999999,10.202999999999999,8.1470000000000002,8.0090000000000003,7.0339999999999998,6.5810000000000004,6.4080000000000004,8.2710000000000008,9.4629999999999992,10.11,9.4019999999999992,8.7809999999999988,0,0,0,0]
[null,null,null,"9.1","собственное потребление","МВт",null,null,null,null,null,null,null,null,null,null,null,null,null,null,null,{"$f":"П1.30!CZ45","v":0},null,null,null,null,null,{"$f":"SUM(J34:U34)/12","v":0},"Мощность"]
[null,null,null,"9.2","сторонних потребителей (субабонентов)","МВт",null,null,null,{"$f":"J32","v":11.234999999999999},{"$f":"K32","v":10.510999999999999},10.202999999999999,8.1470000000000002,8.0090000000000003,7.0339999999999998,6.5810000000000004,6.4080000000000004,8.2710000000000008,9.4629999999999992,10.11,9.4019999999999992,{"$f":"П1.30!CZ48","v":8.7809999999999988},null,null,null,null,null,{"$f":"SUM(J35:U35)/12","v":8.7811666666666657},"Мощность"]
[null,null,null,"10","Присоединенная мощность ","МВА",{"$f":"SUM(G37:G38)","v":0},0,0,0,0,0,0,0,0,0,0,0,0,0,0,0,0,0,0,{"$f":"SUM(Z37:Z38)","v":0}]
[null,null,null,"10.1","собственное потребление","МВА",null,null,null,null,null,null,null,null,null,null,null,null,null,null,null,{"$f":"П1.30!DF45","v":0},null,null,null,null,null,{"$f":"MAX(J37:U37)","v":0},"Мощность"]
[null,null,null,"10.2","сторонних потребителей (субабонентов)","МВА",null,null,null,null,null,null,null,null,null,null,null,null,null,null,null,{"$f":"П1.30!DF48","v":0},null,null,null,null,null,{"$f":"MAX(J38:U38)","v":0},"Мощность"]

{"sheet":"F_3_1","index":5,"n_rows":0,"n_cols":0,"rows_kept":0,"cut":false,"hidden":true,"merged":[]}

{"sheet":"Форма 3.1 (L)","index":6,"n_rows":38,"n_cols":22,"rows_kept":38,"cut":false,"hidden":false,"merged":[[11,6,12,6],[11,7,12,7],[11,8,12,8],[11,9,11,20],[11,25,12,25],[6,3,6,25],[7,9,7,20],[7,24,7,25],[11,3,12,3],[11,4,12,4],[11,5,12,5],[11,21,12,21],[11,22,12,22],[11,23,12,23],[11,24,12,24]]}
[]
[]
[]
[]
[]
[]
[null,null,null,{"$f":"\"Предложения по технологическому расходу электроэнергии (мощности) - потерям в электрических сетях на \" & IF(god=\"\",\"Не определено\",god) & \" год: по данным мониторинга FORM3.1.XXXX\"","v":"Предложения по технологическому расходу электроэнергии (мощности) - потерям в электрических сетях на 2015 год: по данным мониторинга FORM3.1.XXXX"}]
[null,null,null,null,"(лист заполняется автоматически при наличии отчёта FORM3.1.XXXX от организации)",null,null,null,null,null,null,null,null,null,null,null,null,null,null,null,null,"-"]
[]
[]
[]
[null,null,null,"№ п/п","Наименование","Единица измерения",{"$f":"\"План \" & IF(god=\"\",\"Не определено\",god-2) & \" год\"","v":"План 2013 год"},{"$f":"\"Факт \" & IF(god=\"\",\"Не определено\",god-2) & \" год\"","v":"Факт 2013 год"},{"$f":"\"План \" & IF(god=\"\",\"Не определено\",god-1) & \" год\"","v":"План 2014 год"},{"$f":"\"План \" & IF(god=\"\",\"Не определено\",god) & \" год\"","v":"План 2015 год"},null,null,null,null,null,null,null,null,null,null,null,{"$f":"\"План \" & IF(god=\"\",\"Не определено\",god) & \" год\"","v":"План 2015 год"}]
[null,null,null,null,null,null,null,null,null,"Январь","Февраль","Март","Апрель","Май","Июнь","Июль","Август","Сентябрь","Октябрь","Ноябрь","Декабрь"]
[null,null,null,1,{"$f":"D14+1","v":2},{"$f":"E14+1","v":3},4,5,6,7,8,9,10,11,12,13,14,15,16,17,18,19]
[null,null,null,null,"Электроэнергия"]
[null,null,null,1,"Поступление в сеть","млн.кВтч"]
[null,null,null,2,"Потери в электрической сети, в т.ч. относимые на:","млн.кВтч"]
[null,null,null,"2.1","собственное потребление","млн.кВтч"]
[null,null,null,"2.2","передачу сторонним потребителям (субабонентам)","млн.кВтч"]
[null,null,null,3,"Относительные потери","%"]
[null,null,null,4,"Отпуск из сети (полезный отпуск ), в т.ч. для:","млн.кВтч"]
[null,null,null,"4.1","собственного потребления","млн.кВтч"]
[null,null,null,"4.2","передачи сторонним потребителям (субабонентам)","млн.кВтч"]
[null,null,null,null,"Мощность"]
[null,null,null,"5","Поступление в сеть","МВт"]
[null,null,null,"6","Потери в электрической сети, в т.ч. относимые на:","МВт"]
[null,null,null,"6.1","собственное потребление","МВт"]
[null,null,null,"6.2","передачу сторонним потребителям (субабонентам)","МВт"]
[null,null,null,"7","Относительные потери","%"]
[null,null,null,"8","Отпуск из сети (полезный отпуск), в т.ч. для:","МВт"]
[null,null,null,"8.1","собственного потребления","МВт"]
[null,null,null,"8.2","передачи сторонним потребителям (субабонентам)","МВт"]
[null,null,null,"9","Заявленная мощность ","МВт"]
[null,null,null,"9.1","собственное потребление","МВт"]
[null,null,null,"9.2","сторонних потребителей (субабонентов)","МВт"]
[null,null,null,"10","Присоединенная мощность ","МВА"]
[null,null,null,"10.1","собственное потребление","МВА"]
[null,null,null,"10.2","сторонних потребителей (субабонентов)","МВА"]

{"sheet":"П1.30","index":7,"n_rows":67,"n_cols":115,"rows_kept":67,"cut":false,"hidden":false,"merged":[[10,3,14,3],[12,7,12,24],[57,3,59,3],[57,4,59,4],[60,3,62,3],[60,4,62,4],[6,3,6,114],[12,103,12,108],[12,109,12,114],[12,67,12,72],[12,73,12,78],[13,37,13,42],[13,109,13,114],[13,73,13,78],[10,6,14,6],[10,5,14,5],[12,61,12,66],[12,25,12,30],[12,37,12,42],[13,25,13,30],[13,7,13,24],[13,43,13,60],[10,4,14,4],[12,97,12,102],[10,79,10,114],[10,43,10,78],[11,97,11,114],[12,79,12,96],[12,31,12,36],[13,79,13,96],[13,103,13,108],[11,43,11,48],[11,79,11,84],[11,85,11,90],[11,91,11,96],[13,31,13,36],[13,61,13,66],[11,55,11,60],[11,61,11,78],[13,67,13,72],[12,43,12,60],[11,49,11,54],[13,97,13,102],[7,7,7,12],[7,43,7,48],[7,79,7,84],[11,7,11,12],[11,13,11,18],[11,19,11,24],[11,25,11,42],[10,7,10,42]]}
[]
[]
[]
[]
[]
[]
[null,null,null,"Отпуск (передача) электроэнергии"]
[null,null,null,null,null,null,null,"+",null,null,null,null,null,null,null,null,null,null,null,null,null,null,null,null,null,null,null,null,null,null,null,null,null,null,null,null,null,null,null,null,null,null,null,"+",null,null,null,null,null,null,null,null,null,null,null,null,null,null,null,null,null,null,null,null,null,null,null,null,null,null,null,null,null,null,null,null,null,null,null,"+"]
[]
[]
[null,null,null,"№ п/п","Показатели",null,"Наименование получателя платежа по ЕКТ",{"$f":"\"Фактические данные на период, предшествующий отчётному периоду (\" & IF(god=\"\",\"Не определено\",god-2) & \" год факт)\"","v":"Фактические данные на период, предшествующий отчётному периоду (2013 год факт)"},null,null,null,null,null,null,null,null,null,null,null,null,null,null,null,null,null,null,null,null,null,null,null,null,null,null,null,null,null,null,null,null,null,null,null,{"$f":"\"Данные на период, предшествующий периоду регулирования (\" & IF(god=\"\",\"Не определено\",god-1) & \" год план)\"","v":"Данные на период, предшествующий периоду регулирования (2014 год план)"},null,null,null,null,null,null,null,null,null,null,null,null,null,null,null,null,null,null,null,null,null,null,null,null,null,null,null,null,null,null,null,null,null,null,null,{"$f":"\"Данные на период регулирования (\" & IF(god=\"\",\"Не определено\",god) & \" год план)\"","v":"Данные на период регулирования (2015 год план)"}]
[null,null,null,null,null,null,null,"За год",null,null,null,null,null,"I полугодие",null,null,null,null,null,"II полугодие",null,null,null,null,null,"За год",null,null,null,null,null,null,null,null,null,null,null,null,null,null,null,null,null,"За год",null,null,null,null,null,"I полугодие",null,null,null,null,null,"II полугодие",null,null,null,null,null,"За год",null,null,null,null,null,null,null,null,null,null,null,null,null,null,null,null,null,"За год",null,null,null,null,null,"I полугодие",null,null,null,null,null,"II полугодие",null,null,null,null,null,"За год"]
[null,null,null,null,null,null,null,"Электрическая энергия",null,null,null,null,null,null,null,null,null,null,null,null,null,null,null,null,null,"Мощность (для расчёта)",null,null,null,null,null,"Заявленная мощность",null,null,null,null,null,"Присоединенная мощность потребителей",null,null,null,null,null,"Электрическая энергия",null,null,null,null,null,null,null,null,null,null,null,null,null,null,null,null,null,"Мощность (для расчёта)",null,null,null,null,null,"Заявленная мощность",null,null,null,null,null,"Присоединенная мощность потребителей",null,null,null,null,null,"Электрическая энергия",null,null,null,null,null,null,null,null,null,null,null,null,null,null,null,null,null,"Мощность (для расчёта)",null,null,null,null,null,"Заявленная мощность",null,null,null,null,null,"Присоединенная мощность потребителей"]
[null,null,null,null,null,null,null,"Млн. кВтч",null,null,null,null,null,null,null,null,null,null,null,null,null,null,null,null,null,"МВт",null,null,null,null,null,"МВт",null,null,null,null,null,"МВт",null,null,null,null,null,"Млн. кВтч",null,null,null,null,null,null,null,null,null,null,null,null,null,null,null,null,null,"МВт",null,null,null,null,null,"МВт",null,null,null,null,null,"МВт",null,null,null,null,null,"Млн. кВтч",null,null,null,null,null,null,null,null,null,null,null,null,null,null,null,null,null,"МВт",null,null,null,null,null,"МВт",null,null,null,null,null,"МВт"]
[null,null,null,null,null,null,null,"Всего","ВН","в т.ч. ГН","СН 1","СН 2","НН","Всего","ВН","в т.ч. ГН","СН 1","СН 2","НН","Всего","ВН","в т.ч. ГН","СН 1","СН 2","НН","Всего","ВН","в т.ч. ГН","СН 1","СН 2","НН","Всего","ВН","в т.ч. ГН","СН 1","СН 2","НН","Всего","ВН",null,"СН 1","СН 2","НН","Всего","ВН","в т.ч. ГН","СН 1","СН 2","НН","Всего","ВН","в т.ч. ГН","СН 1","СН 2","НН","Всего","ВН","в т.ч. ГН","СН 1","СН 2","НН","Всего","ВН","в т.ч. ГН","СН 1","СН 2","НН","Всего","ВН","в т.ч. ГН","СН 1","СН 2","НН","Всего","ВН",null,"СН 1","СН 2","НН","Всего","ВН","в т.ч. ГН","СН 1","СН 2","НН","Всего","ВН","в т.ч. ГН","СН 1","СН 2","НН","Всего","ВН","в т.ч. ГН","СН 1","СН 2","НН","Всего","ВН","в т.ч. ГН","СН 1","СН 2","НН","Всего","ВН","в т.ч. ГН","СН 1","СН 2","НН","Всего","ВН",null,"СН 1","СН 2","НН"]
[]
[null,null,null,"1","Поступило в сеть, всего, в том числе:",null,null,{"$f":"I17+K17+L17+M17","v":46.413522},{"$f":"I18+I21+I33","v":17.752230999999998},null,{"$f":"K18+K21+K33","v":0},{"$f":"L18+L21+L33","v":28.661291000000002},{"$f":"M18+M21+M33","v":0},{"$f":"O17+Q17+R17+S17","v":23.746003999999996},{"$f":"O18+O21+O33","v":8.7092509999999983},null,{"$f":"Q18+Q21+Q33","v":0},{"$f":"R18+R21+R33","v":15.036752999999997},{"$f":"S18+S21+S33","v":0},{"$f":"U17+W17+X17+Y17","v":22.667518000000001},{"$f":"U18+U21+U33","v":9.04298},null,{"$f":"W18+W21+W33","v":0},{"$f":"X18+X21+X33","v":13.624538000000003},{"$f":"Y18+Y21+Y33","v":0},{"$f":"AA17+AC17+AD17+AE17","v":7.5690675146771049},{"$f":"AA18+AA21+AA33","v":2.8950148401826481},null,{"$f":"AC18+AC21+AC33","v":0},{"$f":"AD18+AD21+AD33","v":4.6740526744944564},{"$f":"AE18+AE21+AE33","v":0},{"$f":"AG17+AI17+AJ17+AK17","v":7.5690675146771049},{"$f":"AG18+AG21+AG33","v":2.8950148401826481},null,{"$f":"AI18+AI21+AI33","v":0},{"$f":"AJ18+AJ21+AJ33","v":4.6740526744944564},{"$f":"AK18+AK21+AK33","v":0},null,null,null,null,null,null,{"$f":"AS17+AU17+AV17+AW17","v":44.564999999999998},{"$f":"AS18+AS21+AS33","v":17.608000000000001},null,{"$f":"AU18+AU21+AU33","v":0},{"$f":"AV18+AV21+AV33","v":26.956999999999997},{"$f":"AW18+AW21+AW33","v":0},{"$f":"AY17+BA17+BB17+BC17","v":22.531000000000002},{"$f":"AY18+AY21+AY33","v":8.7100000000000009},null,{"$f":"BA18+BA21+BA33","v":0},{"$f":"BB18+BB21+BB33","v":13.821000000000002},{"$f":"BC18+BC21+BC33","v":0},{"$f":"BE17+BG17+BH17+BI17","v":22.033999999999999},{"$f":"BE18+BE21+BE33","v":8.8979999999999997},null,{"$f":"BG18+BG21+BG33","v":0},{"$f":"BH18+BH21+BH33","v":13.136000000000001},{"$f":"BI18+BI21+BI33","v":0},{"$f":"BK17+BM17+BN17+BO17","v":8.5697931173680484},{"$f":"BK18+BK21+BK33","v":3.8207932182864064},null,{"$f":"BM18+BM21+BM33","v":0},{"$f":"BN18+BN21+BN33","v":4.7489998990816424},{"$f":"BO18+BO21+BO33","v":0},{"$f":"BQ17+BS17+BT17+BU17","v":8.5697931173680484},{"$f":"BQ18+BQ21+BQ33","v":3.8207932182864064},null,{"$f":"BS18+BS21+BS33","v":0},{"$f":"BT18+BT21+BT33","v":4.7489998990816424},{"$f":"BU18+BU21+BU33","v":0},null,null,null,null,null,null,{"$f":"CC17+CE17+CF17+CG17","v":47.029274999999998},{"$f":"CC18+CC21+CC33","v":17.577089999999998},null,{"$f":"CE18+CE21+CE33","v":0},{"$f":"CF18+CF21+CF33","v":29.452184999999997},{"$f":"CG18+CG21+CG33","v":0},{"$f":"CI17+CK17+CL17+CM17","v":24.370004999999999},{"$f":"CI18+CI21+CI33","v":9.1897000000000002},null,{"$f":"CK18+CK21+CK33","v":0},{"$f":"CL18+CL21+CL33","v":15.180305000000001},{"$f":"CM18+CM21+CM33","v":0},{"$f":"CO17+CQ17+CR17+CS17","v":22.659269999999999},{"$f":"CO18+CO21+CO33","v":8.3873899999999999},null,{"$f":"CQ18+CQ21+CQ33","v":0},{"$f":"CR18+CR21+CR33","v":14.271879999999998},{"$f":"CS18+CS21+CS33","v":0},{"$f":"CU17+CW17+CX17+CY17","v":9.1455130275356282},{"$f":"CU18+CU21+CU33","v":4.0591165144596646},null,{"$f":"CW18+CW21+CW33","v":0},{"$f":"CX18+CX21+CX33","v":5.0863965130759645},{"$f":"CY18+CY21+CY33","v":0},{"$f":"DA17+DC17+DD17+DE17","v":9.1455130275356282},{"$f":"DA18+DA21+DA33","v":4.0591165144596646},null,{"$f":"DC18+DC21+DC33","v":0},{"$f":"DD18+DD21+DD33","v":5.0863965130759645},{"$f":"DE18+DE21+DE33","v":0}]
[null,null,null,"1.1","От несетевых организаций",null,null,{"$f":"I18+K18+L18+M18","v":0},{"$f":"I19+I20","v":0},null,{"$f":"K19+K20","v":0},{"$f":"L19+L20","v":0},{"$f":"M19+M20","v":0},0,{"$f":"O19+O20","v":0},null,{"$f":"Q19+Q20","v":0},{"$f":"R19+R20","v":0},{"$f":"S19+S20","v":0},0,{"$f":"U19+U20","v":0},null,{"$f":"W19+W20","v":0},{"$f":"X19+X20","v":0},{"$f":"Y19+Y20","v":0},{"$f":"AA18+AC18+AD18+AE18","v":0},{"$f":"AA19+AA20","v":0},null,{"$f":"AC19+AC20","v":0},{"$f":"AD19+AD20","v":0},{"$f":"AE19+AE20","v":0},{"$f":"AG18+AI18+AJ18+AK18","v":0},{"$f":"AG19+AG20","v":0},null,{"$f":"AI19+AI20","v":0},{"$f":"AJ19+AJ20","v":0},{"$f":"AK19+AK20","v":0},null,null,null,null,null,null,{"$f":"AS18+AU18+AV18+AW18","v":0},{"$f":"AS19+AS20","v":0},null,{"$f":"AU19+AU20","v":0},{"$f":"AV19+AV20","v":0},{"$f":"AW19+AW20","v":0},0,{"$f":"AY19+AY20","v":0},null,{"$f":"BA19+BA20","v":0},{"$f":"BB19+BB20","v":0},{"$f":"BC19+BC20","v":0},0,{"$f":"BE19+BE20","v":0},null,{"$f":"BG19+BG20","v":0},{"$f":"BH19+BH20","v":0},{"$f":"BI19+BI20","v":0},{"$f":"BK18+BM18+BN18+BO18","v":0},{"$f":"BK19+BK20","v":0},null,{"$f":"BM19+BM20","v":0},{"$f":"BN19+BN20","v":0},{"$f":"BO19+BO20","v":0},{"$f":"BQ18+BS18+BT18+BU18","v":0},{"$f":"BQ19+BQ20","v":0},null,{"$f":"BS19+BS20","v":0},{"$f":"BT19+BT20","v":0},{"$f":"BU19+BU20","v":0},null,null,null,null,null,null,{"$f":"CC18+CE18+CF18+CG18","v":0},{"$f":"CC19+CC20","v":0},null,{"$f":"CE19+CE20","v":0},{"$f":"CF19+CF20","v":0},{"$f":"CG19+CG20","v":0},0,{"$f":"CI19+CI20","v":0},null,{"$f":"CK19+CK20","v":0},{"$f":"CL19+CL20","v":0},{"$f":"CM19+CM20","v":0},0,{"$f":"CO19+CO20","v":0},null,{"$f":"CQ19+CQ20","v":0},{"$f":"CR19+CR20","v":0},{"$f":"CS19+CS20","v":0},{"$f":"CU18+CW18+CX18+CY18","v":0},{"$f":"CU19+CU20","v":0},null,{"$f":"CW19+CW20","v":0},{"$f":"CX19+CX20","v":0},{"$f":"CY19+CY20","v":0},{"$f":"DA18+DC18+DD18+DE18","v":0},{"$f":"DA19+DA20","v":0},null,{"$f":"DC19+DC20","v":0},{"$f":"DD19+DD20","v":0},{"$f":"DE19+DE20","v":0}]
[null,null,null,"1.1.1","От региональной генерации",null,null,0,null,null,null,null,null,0,null,null,null,null,null,0,null,null,null,null,null,0,null,null,null,null,null,0,null,null,null,null,null,null,null,null,null,null,null,0,null,null,null,null,null,0,null,null,null,null,null,0,null,null,null,null,null,0,null,null,null,null,null,0,null,null,null,null,null,null,null,null,null,null,null,0,null,null,null,null,null,0,null,null,null,null,null,0,null,null,null,null,null,0,null,null,null,null,null,0]
[null,null,null,"1.1.2","От генерации - участника ОРЭМ",null,null,0,null,null,null,null,null,0,null,null,null,null,null,0,null,null,null,null,null,0,null,null,null,null,null,0,null,null,null,null,null,null,null,null,null,null,null,0,null,null,null,null,null,0,null,null,null,null,null,0,null,null,null,null,null,0,null,null,null,null,null,0,null,null,null,null,null,null,null,null,null,null,null,0,null,null,null,null,null,0,null,null,null,null,null,0,null,null,null,null,null,0,null,null,null,null,null,0]
[null,null,null,"1.2","От сетевых компаний, в том числе:",null,null,46.413522,{"$f":"I22+I23+I24","v":17.752230999999998},null,{"$f":"K22+K23+K24","v":0},{"$f":"L22+L23+L24","v":28.661291000000002},{"$f":"M22+M23+M24","v":0},23.746003999999996,{"$f":"O22+O23+O24","v":8.7092509999999983},null,{"$f":"Q22+Q23+Q24","v":0},{"$f":"R22+R23+R24","v":15.036752999999997},{"$f":"S22+S23+S24","v":0},22.667518000000001,{"$f":"U22+U23+U24","v":9.04298},null,{"$f":"W22+W23+W24","v":0},{"$f":"X22+X23+X24","v":13.624538000000003},{"$f":"Y22+Y23+Y24","v":0},7.5690675146771049,{"$f":"AA22+AA23+AA24","v":2.8950148401826481},null,{"$f":"AC22+AC23+AC24","v":0},{"$f":"AD22+AD23+AD24","v":4.6740526744944564},{"$f":"AE22+AE23+AE24","v":0},7.5690675146771049,{"$f":"AG22+AG23+AG24","v":2.8950148401826481},null,{"$f":"AI22+AI23+AI24","v":0},{"$f":"AJ22+AJ23+AJ24","v":4.6740526744944564},{"$f":"AK22+AK23+AK24","v":0},null,null,null,null,null,null,44.564999999999998,{"$f":"AS22+AS23+AS24","v":17.608000000000001},null,{"$f":"AU22+AU23+AU24","v":0},{"$f":"AV22+AV23+AV24","v":26.956999999999997},{"$f":"AW22+AW23+AW24","v":0},22.531000000000002,{"$f":"AY22+AY23+AY24","v":8.7100000000000009},null,{"$f":"BA22+BA23+BA24","v":0},{"$f":"BB22+BB23+BB24","v":13.821000000000002},{"$f":"BC22+BC23+BC24","v":0},22.033999999999999,{"$f":"BE22+BE23+BE24","v":8.8979999999999997},null,{"$f":"BG22+BG23+BG24","v":0},{"$f":"BH22+BH23+BH24","v":13.136000000000001},{"$f":"BI22+BI23+BI24","v":0},8.5697931173680484,{"$f":"BK22+BK23+BK24","v":3.8207932182864064},null,{"$f":"BM22+BM23+BM24","v":0},{"$f":"BN22+BN23+BN24","v":4.7489998990816424},{"$f":"BO22+BO23+BO24","v":0},8.5697931173680484,{"$f":"BQ22+BQ23+BQ24","v":3.8207932182864064},null,{"$f":"BS22+BS23+BS24","v":0},{"$f":"BT22+BT23+BT24","v":4.7489998990816424},{"$f":"BU22+BU23+BU24","v":0},null,null,null,null,null,null,47.029274999999998,{"$f":"CC22+CC23+CC24","v":17.577089999999998},null,{"$f":"CE22+CE23+CE24","v":0},{"$f":"CF22+CF23+CF24","v":29.452184999999997},{"$f":"CG22+CG23+CG24","v":0},24.370004999999999,{"$f":"CI22+CI23+CI24","v":9.1897000000000002},null,{"$f":"CK22+CK23+CK24","v":0},{"$f":"CL22+CL23+CL24","v":15.180305000000001},{"$f":"CM22+CM23+CM24","v":0},22.659269999999999,{"$f":"CO22+CO23+CO24","v":8.3873899999999999},null,{"$f":"CQ22+CQ23+CQ24","v":0},{"$f":"CR22+CR23+CR24","v":14.271879999999998},{"$f":"CS22+CS23+CS24","v":0},9.1455130275356282,{"$f":"CU22+CU23+CU24","v":4.0591165144596646},null,{"$f":"CW22+CW23+CW24","v":0},{"$f":"CX22+CX23+CX24","v":5.0863965130759645},{"$f":"CY22+CY23+CY24","v":0},9.1455130275356282,{"$f":"DA22+DA23+DA24","v":4.0591165144596646},null,{"$f":"DC22+DC23+DC24","v":0},{"$f":"DD22+DD23+DD24","v":5.0863965130759645},{"$f":"DE22+DE23+DE24","v":0}]
[null,null,null,"1.2.1","Из сети ЕНЭС",null,null,0,null,null,null,null,null,0,null,null,null,null,null,0,null,null,null,null,null,0,null,null,null,null,null,0,null,null,null,null,null,null,null,null,null,null,null,0,null,null,null,null,null,0,null,null,null,null,null,0,null,null,null,null,null,0,null,null,null,null,null,0,null,null,null,null,null,null,null,null,null,null,null,0,null,null,null,null,null,0,null,null,null,null,null,0,null,null,null,null,null,0,null,null,null,null,null,0]
[null,null,null,"1.2.2","Из сети РСК",null,null,0,null,null,null,null,null,0,null,null,null,null,null,0,null,null,null,null,null,0,null,null,null,null,null,0,null,null,null,null,null,null,null,null,null,null,null,0,null,null,null,null,null,0,null,null,null,null,null,0,null,null,null,null,null,0,null,null,null,null,null,0,null,null,null,null,null,null,null,null,null,null,null,0,null,null,null,null,null,0,null,null,null,null,null,0,null,null,null,null,null,0,null,null,null,null,null,0]
[null,null,null,"1.2.3","Из сети прочих ТСО, в том числе:",null,null,46.413522,{"$f":"SUM(I25:I32)","v":17.752230999999998},null,{"$f":"SUM(K25:K32)","v":0},{"$f":"SUM(L25:L32)","v":28.661291000000002},{"$f":"SUM(M25:M32)","v":0},23.746003999999996,{"$f":"SUM(O25:O32)","v":8.7092509999999983},null,{"$f":"SUM(Q25:Q32)","v":0},{"$f":"SUM(R25:R32)","v":15.036752999999997},{"$f":"SUM(S25:S32)","v":0},22.667518000000001,{"$f":"SUM(U25:U32)","v":9.04298},null,{"$f":"SUM(W25:W32)","v":0},{"$f":"SUM(X25:X32)","v":13.624538000000003},{"$f":"SUM(Y25:Y32)","v":0},7.5690675146771049,{"$f":"SUM(AA25:AA32)","v":2.8950148401826481},null,{"$f":"SUM(AC25:AC32)","v":0},{"$f":"SUM(AD25:AD32)","v":4.6740526744944564},{"$f":"SUM(AE25:AE32)","v":0},7.5690675146771049,{"$f":"SUM(AG25:AG32)","v":2.8950148401826481},null,{"$f":"SUM(AI25:AI32)","v":0},{"$f":"SUM(AJ25:AJ32)","v":4.6740526744944564},{"$f":"SUM(AK25:AK32)","v":0},null,null,null,null,null,null,44.564999999999998,{"$f":"SUM(AS25:AS32)","v":17.608000000000001},null,{"$f":"SUM(AU25:AU32)","v":0},{"$f":"SUM(AV25:AV32)","v":26.956999999999997},{"$f":"SUM(AW25:AW32)","v":0},22.531000000000002,{"$f":"SUM(AY25:AY32)","v":8.7100000000000009},null,{"$f":"SUM(BA25:BA32)","v":0},{"$f":"SUM(BB25:BB32)","v":13.821000000000002},{"$f":"SUM(BC25:BC32)","v":0},22.033999999999999,{"$f":"SUM(BE25:BE32)","v":8.8979999999999997},null,{"$f":"SUM(BG25:BG32)","v":0},{"$f":"SUM(BH25:BH32)","v":13.136000000000001},{"$f":"SUM(BI25:BI32)","v":0},8.5697931173680484,{"$f":"SUM(BK25:BK32)","v":3.8207932182864064},null,{"$f":"SUM(BM25:BM32)","v":0},{"$f":"SUM(BN25:BN32)","v":4.7489998990816424},{"$f":"SUM(BO25:BO32)","v":0},8.5697931173680484,{"$f":"SUM(BQ25:BQ32)","v":3.8207932182864064},null,{"$f":"SUM(BS25:BS32)","v":0},{"$f":"SUM(BT25:BT32)","v":4.7489998990816424},{"$f":"SUM(BU25:BU32)","v":0},null,null,null,null,null,null,47.029274999999998,{"$f":"SUM(CC25:CC32)","v":17.577089999999998},null,{"$f":"SUM(CE25:CE32)","v":0},{"$f":"SUM(CF25:CF32)","v":29.452184999999997},{"$f":"SUM(CG25:CG32)","v":0},24.370004999999999,{"$f":"SUM(CI25:CI32)","v":9.1897000000000002},null,{"$f":"SUM(CK25:CK32)","v":0},{"$f":"SUM(CL25:CL32)","v":15.180305000000001},{"$f":"SUM(CM25:CM32)","v":0},22.659269999999999,{"$f":"SUM(CO25:CO32)","v":8.3873899999999999},null,{"$f":"SUM(CQ25:CQ32)","v":0},{"$f":"SUM(CR25:CR32)","v":14.271879999999998},{"$f":"SUM(CS25:CS32)","v":0},9.1455130275356282,{"$f":"SUM(CU25:CU32)","v":4.0591165144596646},null,{"$f":"SUM(CW25:CW32)","v":0},{"$f":"SUM(CX25:CX32)","v":5.0863965130759645},{"$f":"SUM(CY25:CY32)","v":0},9.1455130275356282,{"$f":"SUM(DA25:DA32)","v":4.0591165144596646},null,{"$f":"SUM(DC25:DC32)","v":0},{"$f":"SUM(DD25:DD32)","v":5.0863965130759645},{"$f":"SUM(DE25:DE32)","v":0}]
[null,null,null,"1.2.3.0"]
[null,null,"r","1.2.3.1","ОАО \"Тюменьэнерго\"",null,null,{"$f":"I26+K26+L26+M26","v":33.729741000000004},{"$f":"O26+U26","v":11.956962999999998},null,null,{"$f":"R26+X26","v":21.772778000000002},null,{"$f":"O26+Q26+R26+S26","v":17.324985999999996},{"$f":"(1180.26+1086.1+1136.32+947.82+814.16+771.84)/1000","v":5.9364999999999988},null,null,{"$f":"(2362.317+2032.015+2149.287+1685.185+1722.882+1436.8)/1000","v":11.388485999999999},null,{"$f":"U26+W26+X26+Y26","v":16.404755000000002},{"$f":"(865.9+875.54+869.94+1123.725+1069.352+1216.006)/1000","v":6.0204630000000003},null,null,{"$f":"(1356.729+1249.507+1727.596+1995.333+2212.149+1842.978)/1000","v":10.384292000000002},null,{"$f":"AA26+AC26+AD26+AE26","v":5.5006100782778873},{"$f":"I26/6132*1000","v":1.9499287345075014},null,null,{"$f":"L26/6132*1000","v":3.5506813437703855},null,{"$f":"AG26+AI26+AJ26+AK26","v":5.5006100782778873},{"$f":"I26/6132*1000","v":1.9499287345075014},null,null,{"$f":"L26/6132*1000","v":3.5506813437703855},null,null,null,null,null,null,null,{"$f":"AS26+AU26+AV26+AW26","v":34.855000000000004},{"$f":"AY26+BE26","v":11.818000000000001},null,null,{"$f":"BB26+BH26","v":23.036999999999999},null,{"$f":"AY26+BA26+BB26+BC26","v":17.801000000000002},5.94,null,null,11.861000000000001,null,{"$f":"BE26+BG26+BH26+BI26","v":17.054000000000002},5.8780000000000001,null,null,11.176,null,{"$f":"BK26+BM26+BN26+BO26","v":6.1199999999999992},2.36,null,null,3.76,null,{"$f":"BQ26+BS26+BT26+BU26","v":6.1199999999999992},{"$f":"BK26","v":2.36},null,null,{"$f":"BN26","v":3.76},null,null,null,null,null,null,null,{"$f":"CC26+CE26+CF26+CG26","v":35.029274999999998},{"$f":"CI26+CO26","v":11.877089999999999},{"$f":"CJ26+CP26","v":0},null,{"$f":"CL26+CR26","v":23.152184999999996},null,{"$f":"CI26+CK26+CL26+CM26","v":17.890004999999999},{"$f":"5.94*1.005","v":5.9696999999999996},null,null,{"$f":"11.861*1.005","v":11.920304999999999},null,{"$f":"CO26+CQ26+CR26+CS26","v":17.139269999999996},{"$f":"5.878*1.005","v":5.9073899999999995},null,null,{"$f":"11.176*1.005","v":11.231879999999999},null,{"$f":"CU26+CW26+CX26+CY26","v":6.4219499999999989},{"$f":"2.63*1.005","v":2.6431499999999994},null,null,{"$f":"3.76*1.005","v":3.7787999999999995},null,{"$f":"DA26+DC26+DD26+DE26","v":6.4219499999999989},{"$f":"CU26","v":2.6431499999999994},null,null,{"$f":"CX26","v":3.7787999999999995}]
[null,null,"r","1.2.3.2","ОАО \"СУЭНКО\"",null,null,2.5699529999999999,null,null,null,2.5699529999999999,null,1.320316,null,null,null,{"$f":"(266.078+223.036+238.458+202.249+205.09+185.405)/1000","v":1.320316},null,1.2496370000000001,null,null,null,{"$f":"(165.336+170.409+194.937+224.999+226.74+267.216)/1000","v":1.2496370000000001},null,0.41910518590998042,null,null,null,{"$f":"L27/6132*1000","v":0.41910518590998042},null,0.41910518590998042,null,null,null,0.41910518590998042,null,null,null,null,null,null,null,2.71,null,null,null,{"$f":"BB27+BH27","v":2.71},null,1.4,null,null,null,1.4,null,1.31,null,null,null,1.31,null,0.6837218690079726,null,null,null,{"$f":"AV27/367/24/0.45*1000","v":0.6837218690079726},null,0.6837218690079726,null,null,null,0.6837218690079726,null,null,null,null,null,null,null,2.48,null,{"$f":"CJ27+CP27","v":0},null,2.48,null,1.32,null,null,null,1.32,null,1.1599999999999999,null,null,null,{"$f":"1.25-0.09","v":1.1599999999999999},null,0.51473640514736407,null,null,null,{"$f":"CF27/365/24/0.55*1000","v":0.51473640514736407},null,0.51473640514736407,null,null,null,{"$f":"CX27","v":0.51473640514736407}]
[null,null,"r","1.2.3.3","филиал ОАО \"РЖД\"- Свердловская ж.д. (Тюменская дистанция)",null,null,5.7952680000000001,{"$f":"O28+U28","v":5.7952680000000001},null,null,null,null,2.772751,{"$f":"(572.221+427.028+501.022+373.185+510.61+388.685)/1000","v":2.772751},null,null,null,null,3.0225170000000001,{"$f":"(368.694+394.307+487.457+568.308+519.784+683.967)/1000","v":3.0225170000000001},null,null,null,null,0.94508610567514673,{"$f":"I28/6132*1000","v":0.94508610567514673},null,null,null,null,0.94508610567514673,{"$f":"I28/6132*1000","v":0.94508610567514673},null,null,null,null,null,null,null,null,null,null,5.79,{"$f":"AY28+BE28","v":5.79},null,null,null,null,2.77,2.77,null,null,null,null,3.02,3.02,null,null,null,null,1.4607932182864065,{"$f":"AS28/367/24/0.45*1000","v":1.4607932182864065},null,null,null,null,1.4607932182864065,{"$f":"BK28","v":1.4607932182864065},null,null,null,null,null,null,null,null,null,null,5.7,{"$f":"CI28+CO28","v":5.7},{"$f":"CJ28+CP28","v":0},null,null,null,3.22,{"$f":"2.77+0.54-0.09","v":3.22},null,null,null,null,2.48,{"$f":"3.02-0.54","v":2.48},null,null,null,null,1.4159665144596651,{"$f":"CC28/365/24/0.45*1000-0.03","v":1.4159665144596651},null,null,null,null,1.4159665144596651,{"$f":"CU28","v":1.4159665144596651}]
[null,null,"r","1.2.3.4","ООО \"Элтранс\"",null,null,1.2096260000000001,null,null,null,1.2096260000000001,null,0.58653700000000009,null,null,null,{"$f":"(93.38+79.239+104.771+75.205+109.391+124.551)/1000","v":0.58653700000000009},null,0.62308899999999989,null,null,null,{"$f":"(125.435+93.039+116.28+113.497+88.019+86.819)/1000","v":0.62308899999999989},null,0.19726451402478801,null,null,null,{"$f":"L29/6132*1000","v":0.19726451402478801},null,0.19726451402478801,null,null,null,0.19726451402478801,null,null,null,null,null,null,null,0.2,null,null,null,{"$f":"BB29+BH29","v":0.2},null,0.1,null,null,null,0.1,null,0.1,null,null,null,0.1,null,5.0459178524573614E-2,null,null,null,{"$f":"AV29/367/24/0.45*1000","v":5.0459178524573614E-2},null,5.0459178524573614E-2,null,null,null,5.0459178524573614E-2,null,null,null,null,null,null,null,1.21,null,null,null,1.21,null,0.59,null,null,null,0.59,null,0.62,null,null,null,0.62,null,0.25114155251141551,null,null,null,{"$f":"CF29/365/24/0.55*1000","v":0.25114155251141551},null,0.25114155251141551,null,null,null,{"$f":"CX29","v":0.25114155251141551}]
[null,null,"r","1.2.3.5","ООО \"Тарманское-Центральное\"",null,null,2.2125130000000004,null,null,null,2.2125130000000004,null,1.205905,null,null,null,{"$f":"(318.384+245.549+251.103+159.724+173.72+57.425)/1000","v":1.205905},null,1.0066080000000002,null,null,null,{"$f":"(48.357+61.034+117.047+234.346+261.176+284.648)/1000","v":1.0066080000000002},null,0.36081425309849974,null,null,null,{"$f":"L30/6132*1000","v":0.36081425309849974},null,0.36081425309849974,null,null,null,0.36081425309849974,null,null,null,null,null,null,null,0.11,null,null,null,{"$f":"BB30+BH30","v":0.11},null,0.06,null,null,null,0.06,null,0.05,null,null,null,0.05,null,2.775254818851549E-2,null,null,null,{"$f":"AV30/367/24/0.45*1000","v":2.775254818851549E-2},null,2.775254818851549E-2,null,null,null,2.775254818851549E-2,null,null,null,null,null,null,null,1.71,null,null,null,1.71,null,0.81,null,null,null,{"$f":"1.01-0.2","v":0.81},null,0.9,null,null,null,0.9,null,0.35491905354919051,null,null,null,{"$f":"CF30/365/24/0.55*1000","v":0.35491905354919051},null,0.35491905354919051,null,null,null,{"$f":"CX30","v":0.35491905354919051}]
[null,null,"r","1.2.3.6","ООО \" Тюменская электросетевая компания\"",null,null,0.89642100000000002,null,null,null,0.89642100000000002,null,0.53550900000000001,null,null,null,{"$f":"(206.412+96.997+80.076+59.942+51.294+40.788)/1000","v":0.53550900000000001},null,0.36091200000000001,null,null,null,{"$f":"(32.96+30.9+51.5+76.014+70.246+99.292)/1000","v":0.36091200000000001},null,0.14618737769080234,null,null,null,{"$f":"L31/6132*1000","v":0.14618737769080234},null,0.14618737769080234,null,null,null,0.14618737769080234,null,null,null,null,null,null,null,0.9,null,null,null,0.9,null,0.4,null,null,null,{"$f":"0.54-0.14","v":0.4},null,0.5,null,null,null,{"$f":"0.36+0.14","v":0.5},null,0.22706630336058128,null,null,null,{"$f":"AV31/367/24/0.45*1000","v":0.22706630336058128},null,0.22706630336058128,null,null,null,0.22706630336058128,null,null,null,null,null,null,null,0.9,null,null,null,0.9,null,0.54,null,null,null,0.54,null,0.36,null,null,null,0.36,null,0.18679950186799499,null,null,null,{"$f":"CF31/365/24/0.55*1000","v":0.18679950186799499},null,0.18679950186799499,null,null,null,{"$f":"CX31","v":0.18679950186799499}]
[null,null,null,null,"Добавить ТСО"]
[null,null,null,"1.3","Поступление из смежных субъектов",null,null,{"$f":"I33+K33+L33+M33","v":0},null,null,null,null,null,{"$f":"O33+Q33+R33+S33","v":0},null,null,null,null,null,{"$f":"U33+W33+X33+Y33","v":0},null,null,null,null,null,{"$f":"AA33+AC33+AD33+AE33","v":0},null,null,null,null,null,{"$f":"AG33+AI33+AJ33+AK33","v":0},null,null,null,null,null,null,null,null,null,null,null,{"$f":"AS33+AU33+AV33+AW33","v":0},null,null,null,null,null,{"$f":"AY33+BA33+BB33+BC33","v":0},null,null,null,null,null,{"$f":"BE33+BG33+BH33+BI33","v":0},null,null,null,null,null,{"$f":"BK33+BM33+BN33+BO33","v":0},null,null,null,null,null,{"$f":"BQ33+BS33+BT33+BU33","v":0},null,null,null,null,null,null,null,null,null,null,null,{"$f":"CC33+CE33+CF33+CG33","v":0},null,null,null,null,null,{"$f":"CI33+CK33+CL33+CM33","v":0},null,null,null,null,null,{"$f":"CO33+CQ33+CR33+CS33","v":0},null,null,null,null,null,{"$f":"CU33+CW33+CX33+CY33","v":0},null,null,null,null,null,{"$f":"DA33+DC33+DD33+DE33","v":0}]
[null,null,null,"2","Поступление в сеть на другие уровни напряжения (трансформация), в т.ч. из:",null,null,{"$f":"SUM(I34:M34)","v":29.77806600000001},null,null,{"$f":"SUM(K35:K37)","v":0},{"$f":"SUM(L35:L37)","v":17.343401},{"$f":"SUM(M35:M37)","v":12.434665000000008},{"$f":"SUM(O34:S34)","v":15.403897999999991},null,null,{"$f":"SUM(Q35:Q37)","v":0},{"$f":"SUM(R35:R37)","v":8.5947309999999977},{"$f":"SUM(S35:S37)","v":6.8091669999999942},{"$f":"SUM(U34:Y34)","v":14.374168000000006},null,null,{"$f":"SUM(W35:W37)","v":0},{"$f":"SUM(X35:X37)","v":8.7486700000000006},{"$f":"SUM(Y35:Y37)","v":5.6254980000000057},{"$f":"SUM(AA34:AE34)","v":4.8561751467710383},null,null,{"$f":"SUM(AC35:AC37)","v":0},{"$f":"SUM(AD35:AD37)","v":2.8283432811480753},{"$f":"SUM(AE35:AE37)","v":2.0278318656229626},{"$f":"SUM(AG34:AK34)","v":4.8561751467710383},null,null,{"$f":"SUM(AI35:AI37)","v":0},{"$f":"SUM(AJ35:AJ37)","v":2.8283432811480753},{"$f":"SUM(AK35:AK37)","v":2.0278318656229626},null,null,null,null,null,null,{"$f":"SUM(AS34:AW34)","v":29.231029999999993},null,null,{"$f":"SUM(AU35:AU37)","v":0},{"$f":"SUM(AV35:AV37)","v":17.408000000000001},{"$f":"SUM(AW35:AW37)","v":11.823029999999992},{"$f":"SUM(AY34:BC34)","v":15.195180000000004},null,null,{"$f":"SUM(BA35:BA37)","v":0},{"$f":"SUM(BB35:BB37)","v":8.6100000000000012},{"$f":"SUM(BC35:BC37)","v":6.5851800000000038},{"$f":"SUM(BE34:BI34)","v":14.035850000000003},null,null,{"$f":"SUM(BG35:BG37)","v":0},{"$f":"SUM(BH35:BH37)","v":8.798},{"$f":"SUM(BI35:BI37)","v":5.2378500000000026},{"$f":"SUM(BK34:BO34)","v":6.1935863356544552},null,null,{"$f":"SUM(BM35:BM37)","v":0},{"$f":"SUM(BN35:BN37)","v":3.7947932182864066},{"$f":"SUM(BO35:BO37)","v":2.398793117368049},{"$f":"SUM(BQ34:BU34)","v":6.1935863356544552},null,null,{"$f":"SUM(BS35:BS37)","v":0},{"$f":"SUM(BT35:BT37)","v":3.7947932182864066},{"$f":"SUM(BU35:BU37)","v":2.398793117368049},null,null,null,null,null,null,{"$f":"SUM(CC34:CG34)","v":29.593964999999983},null,null,{"$f":"SUM(CE35:CE37)","v":0},{"$f":"SUM(CF35:CF37)","v":17.163189999999997},{"$f":"SUM(CG35:CG37)","v":12.430774999999986},{"$f":"SUM(CI34:CM34)","v":15.782205000000001},null,null,{"$f":"SUM(CK35:CK37)","v":0},{"$f":"SUM(CL35:CL37)","v":8.975200000000001},{"$f":"SUM(CM35:CM37)","v":6.8070050000000002},{"$f":"SUM(CO34:CS34)","v":13.811759999999996},null,null,{"$f":"SUM(CQ35:CQ37)","v":0},{"$f":"SUM(CR35:CR37)","v":8.1879899999999992},{"$f":"SUM(CS35:CS37)","v":5.6237699999999977},{"$f":"SUM(CU34:CY34)","v":6.519629541995295},null,null,{"$f":"SUM(CW35:CW37)","v":0},{"$f":"SUM(CX35:CX37)","v":3.9791165144596645},{"$f":"SUM(CY35:CY37)","v":2.5405130275356305},{"$f":"SUM(DA34:DE34)","v":6.519629541995295},null,null,{"$f":"SUM(DC35:DC37)","v":0},{"$f":"SUM(DD35:DD37)","v":3.9791165144596645},{"$f":"SUM(DE35:DE37)","v":2.5405130275356305}]
[null,null,null,"2.1","ВН",null,null,{"$f":"SUM(I35:M35)","v":17.343401},null,null,null,{"$f":"I17-I38","v":17.343401},null,{"$f":"SUM(O35:S35)","v":8.5947309999999977},null,null,null,{"$f":"O17-O38","v":8.5947309999999977},null,{"$f":"SUM(U35:Y35)","v":8.7486700000000006},null,null,null,{"$f":"U17-U38","v":8.7486700000000006},null,{"$f":"SUM(AA35:AE35)","v":2.8283432811480753},null,null,null,{"$f":"AA17-AA38","v":2.8283432811480753},null,{"$f":"SUM(AG35:AK35)","v":2.8283432811480753},null,null,null,{"$f":"AG17-AG38","v":2.8283432811480753},null,null,null,null,null,null,null,{"$f":"SUM(AS35:AW35)","v":17.408000000000001},null,null,null,{"$f":"AS17-AS38","v":17.408000000000001},null,{"$f":"SUM(AY35:BC35)","v":8.6100000000000012},null,null,null,{"$f":"AY17-AY38","v":8.6100000000000012},null,{"$f":"SUM(BE35:BI35)","v":8.798},null,null,null,{"$f":"BE17-BE38","v":8.798},null,{"$f":"SUM(BK35:BO35)","v":3.7947932182864066},null,null,null,{"$f":"BK17-BK38","v":3.7947932182864066},null,{"$f":"SUM(BQ35:BU35)","v":3.7947932182864066},null,null,null,{"$f":"BQ17-BQ38","v":3.7947932182864066},null,null,null,null,null,null,null,{"$f":"SUM(CC35:CG35)","v":17.163189999999997},null,null,null,{"$f":"CC17-CC38","v":17.163189999999997},null,{"$f":"SUM(CI35:CM35)","v":8.975200000000001},null,null,null,{"$f":"CI17-CI38","v":8.975200000000001},null,{"$f":"SUM(CO35:CS35)","v":8.1879899999999992},null,null,null,{"$f":"CO17-CO38","v":8.1879899999999992},null,{"$f":"SUM(CU35:CY35)","v":3.9791165144596645},null,null,null,{"$f":"CU17-CU38","v":3.9791165144596645},null,{"$f":"SUM(DA35:DE35)","v":3.9791165144596645},null,null,null,{"$f":"DA17-DA38","v":3.9791165144596645}]
[null,null,null,"2.2","СН 1",null,null,{"$f":"SUM(I36:M36)","v":0},null,null,null,null,null,{"$f":"SUM(O36:S36)","v":0},null,null,null,null,null,{"$f":"SUM(U36:Y36)","v":0},null,null,null,null,null,{"$f":"SUM(AA36:AE36)","v":0},null,null,null,null,null,{"$f":"SUM(AG36:AK36)","v":0},null,null,null,null,null,null,null,null,null,null,null,{"$f":"SUM(AS36:AW36)","v":0},null,null,null,null,null,{"$f":"SUM(AY36:BC36)","v":0},null,null,null,null,null,{"$f":"SUM(BE36:BI36)","v":0},null,null,null,null,null,{"$f":"SUM(BK36:BO36)","v":0},null,null,null,null,null,{"$f":"SUM(BQ36:BU36)","v":0},null,null,null,null,null,null,null,null,null,null,null,{"$f":"SUM(CC36:CG36)","v":0},null,null,null,null,null,{"$f":"SUM(CI36:CM36)","v":0},null,null,null,null,null,{"$f":"SUM(CO36:CS36)","v":0},null,null,null,null,null,{"$f":"SUM(CU36:CY36)","v":0},null,null,null,null,null,{"$f":"SUM(DA36:DE36)","v":0}]
[null,null,null,"2.3","СН 2",null,null,{"$f":"SUM(I37:M37)","v":12.434665000000008},null,null,null,null,{"$f":"L17+L34-L48-L38","v":12.434665000000008},{"$f":"SUM(O37:S37)","v":6.8091669999999942},null,null,null,null,{"$f":"R17+R34-R48-R38","v":6.8091669999999942},{"$f":"SUM(U37:Y37)","v":5.6254980000000057},null,null,null,null,{"$f":"X17+X34-X48-X38","v":5.6254980000000057},{"$f":"SUM(AA37:AE37)","v":2.0278318656229626},null,null,null,null,{"$f":"AD17+AD34-AD48-AD38","v":2.0278318656229626},{"$f":"SUM(AG37:AK37)","v":2.0278318656229626},null,null,null,null,{"$f":"AJ17+AJ34-AJ48-AJ38","v":2.0278318656229626},null,null,null,null,null,null,{"$f":"SUM(AS37:AW37)","v":11.823029999999992},null,null,null,null,{"$f":"AV17+AV34-AV48-AV38","v":11.823029999999992},{"$f":"SUM(AY37:BC37)","v":6.5851800000000038},null,null,null,null,{"$f":"BB17+BB34-BB48-BB38","v":6.5851800000000038},{"$f":"SUM(BE37:BI37)","v":5.2378500000000026},null,null,null,null,{"$f":"BH17+BH34-BH48-BH38","v":5.2378500000000026},{"$f":"SUM(BK37:BO37)","v":2.398793117368049},null,null,null,null,{"$f":"BN17+BN34-BN48-BN38","v":2.398793117368049},{"$f":"SUM(BQ37:BU37)","v":2.398793117368049},null,null,null,null,{"$f":"BT17+BT34-BT48-BT38","v":2.398793117368049},null,null,null,null,null,null,{"$f":"SUM(CC37:CG37)","v":12.430774999999986},null,null,null,null,{"$f":"CF17+CF34-CF48-CF38","v":12.430774999999986},{"$f":"SUM(CI37:CM37)","v":6.8070050000000002},null,null,null,null,{"$f":"CL17+CL34-CL48-CL38","v":6.8070050000000002},{"$f":"SUM(CO37:CS37)","v":5.6237699999999977},null,null,null,null,{"$f":"CR17+CR34-CR48-CR38","v":5.6237699999999977},{"$f":"SUM(CU37:CY37)","v":2.5405130275356305},null,null,null,null,{"$f":"CX17+CX34-CX48-CX38","v":2.5405130275356305},{"$f":"SUM(DA37:DE37)","v":2.5405130275356305},null,null,null,null,{"$f":"DD17+DD34-DD48-DD38","v":2.5405130275356305}]
[null,null,null,3,"Потери, в том числе:",null,null,{"$f":"I38+K38+L38+M38","v":1.265217},{"$f":"SUM(I39:I40)","v":0.40883000000000003},null,{"$f":"SUM(K39:K40)","v":0},{"$f":"SUM(L39:L40)","v":0.85638700000000001},{"$f":"SUM(M39:M40)","v":0},{"$f":"O38+Q38+R38+S38","v":0.350968},{"$f":"SUM(O39:O40)","v":0.11451999999999998},null,{"$f":"SUM(Q39:Q40)","v":0},{"$f":"SUM(R39:R40)","v":0.23644800000000002},{"$f":"SUM(S39:S40)","v":0},{"$f":"U38+W38+X38+Y38","v":0.91424900000000009},{"$f":"SUM(U39:U40)","v":0.29431000000000002},null,{"$f":"SUM(W39:W40)","v":0},{"$f":"SUM(X39:X40)","v":0.61993900000000002},{"$f":"SUM(Y39:Y40)","v":0},{"$f":"AA38+AC38+AD38+AE38","v":0.20633023483365953},{"$f":"SUM(AA39:AA40)","v":6.6671559034572739E-2},null,{"$f":"SUM(AC39:AC40)","v":0},{"$f":"SUM(AD39:AD40)","v":0.13965867579908678},{"$f":"SUM(AE39:AE40)","v":0},{"$f":"AG38+AI38+AJ38+AK38","v":0.20633023483365953},{"$f":"SUM(AG39:AG40)","v":6.6671559034572739E-2},null,{"$f":"SUM(AI39:AI40)","v":0},{"$f":"SUM(AJ39:AJ40)","v":0.13965867579908678},{"$f":"SUM(AK39:AK40)","v":0},null,null,null,null,null,null,{"$f":"AS38+AU38+AV38+AW38","v":0.6100000000000001},{"$f":"SUM(AS39:AS40)","v":0.2},null,{"$f":"SUM(AU39:AU40)","v":0},{"$f":"SUM(AV39:AV40)","v":0.41000000000000003},{"$f":"SUM(AW39:AW40)","v":0},{"$f":"AY38+BA38+BB38+BC38","v":0.30000000000000004},{"$f":"SUM(AY39:AY40)","v":0.1},null,{"$f":"SUM(BA39:BA40)","v":0},{"$f":"SUM(BB39:BB40)","v":0.2},{"$f":"SUM(BC39:BC40)","v":0},{"$f":"BE38+BG38+BH38+BI38","v":0.31},{"$f":"SUM(BE39:BE40)","v":0.1},null,{"$f":"SUM(BG39:BG40)","v":0},{"$f":"SUM(BH39:BH40)","v":0.21},{"$f":"SUM(BI39:BI40)","v":0},{"$f":"BK38+BM38+BN38+BO38","v":0.11899999999999999},{"$f":"SUM(BK39:BK40)","v":2.5999999999999999E-2},null,{"$f":"SUM(BM39:BM40)","v":0},{"$f":"SUM(BN39:BN40)","v":9.2999999999999999E-2},{"$f":"SUM(BO39:BO40)","v":0},{"$f":"BQ38+BS38+BT38+BU38","v":0.11899999999999999},{"$f":"SUM(BQ39:BQ40)","v":2.5999999999999999E-2},null,{"$f":"SUM(BS39:BS40)","v":0},{"$f":"SUM(BT39:BT40)","v":9.2999999999999999E-2},{"$f":"SUM(BU39:BU40)","v":0},null,null,null,null,null,null,{"$f":"CC38+CE38+CF38+CG38","v":1.8815},{"$f":"SUM(CC39:CC40)","v":0.41389999999999999},null,{"$f":"SUM(CE39:CE40)","v":0},{"$f":"SUM(CF39:CF40)","v":1.4676},{"$f":"SUM(CG39:CG40)","v":0},{"$f":"CI38+CK38+CL38+CM38","v":0.97499999999999998},{"$f":"SUM(CI39:CI40)","v":0.2145},null,{"$f":"SUM(CK39:CK40)","v":0},{"$f":"SUM(CL39:CL40)","v":0.76049999999999995},{"$f":"SUM(CM39:CM40)","v":0},{"$f":"CO38+CQ38+CR38+CS38","v":0.90649999999999997},{"$f":"SUM(CO39:CO40)","v":0.19939999999999999},null,{"$f":"SUM(CQ39:CQ40)","v":0},{"$f":"SUM(CR39:CR40)","v":0.70709999999999995},{"$f":"SUM(CS39:CS40)","v":0},{"$f":"CU38+CW38+CX38+CY38","v":0.36499999999999999},{"$f":"SUM(CU39:CU40)","v":0.08},null,{"$f":"SUM(CW39:CW40)","v":0},{"$f":"SUM(CX39:CX40)","v":0.28499999999999998},{"$f":"SUM(CY39:CY40)","v":0},{"$f":"DA38+DC38+DD38+DE38","v":0.36499999999999999},{"$f":"SUM(DA39:DA40)","v":0.08},null,{"$f":"SUM(DC39:DC40)","v":0},{"$f":"SUM(DD39:DD40)","v":0.28499999999999998},{"$f":"SUM(DE39:DE40)","v":0}]
[null,null,null,"3.1","относимые на основное производство",null,null,{"$f":"I39+K39+L39+M39","v":0},null,null,null,null,null,{"$f":"O39+Q39+R39+S39","v":0},null,null,null,null,null,{"$f":"U39+W39+X39+Y39","v":0},null,null,null,null,null,{"$f":"AA39+AC39+AD39+AE39","v":0},null,null,null,null,null,{"$f":"AG39+AI39+AJ39+AK39","v":0},null,null,null,null,null,null,null,null,null,null,null,{"$f":"AS39+AU39+AV39+AW39","v":0},null,null,null,null,null,{"$f":"AY39+BA39+BB39+BC39","v":0},null,null,null,null,null,{"$f":"BE39+BG39+BH39+BI39","v":0},null,null,null,null,null,{"$f":"BK39+BM39+BN39+BO39","v":0},null,null,null,null,null,{"$f":"BQ39+BS39+BT39+BU39","v":0},null,null,null,null,null,null,null,null,null,null,null,{"$f":"CC39+CE39+CF39+CG39","v":0},null,null,null,null,null,{"$f":"CI39+CK39+CL39+CM39","v":0},null,null,null,null,null,{"$f":"CO39+CQ39+CR39+CS39","v":0},null,null,null,null,null,{"$f":"CU39+CW39+CX39+CY39","v":0},null,null,null,null,null,{"$f":"DA39+DC39+DD39+DE39","v":0}]
[null,null,null,"3.2","относимые на сторонних потребителей",null,null,{"$f":"I40+K40+L40+M40","v":1.265217},{"$f":"I42","v":0.40883000000000003},null,null,{"$f":"L42","v":0.85638700000000001},null,{"$f":"O40+Q40+R40+S40","v":0.350968},{"$f":"O42","v":0.11451999999999998},null,null,{"$f":"R42","v":0.23644800000000002},null,{"$f":"U40+W40+X40+Y40","v":0.91424900000000009},{"$f":"U42","v":0.29431000000000002},null,null,{"$f":"X42","v":0.61993900000000002},null,{"$f":"AA40+AC40+AD40+AE40","v":0.20633023483365953},{"$f":"AA42","v":6.6671559034572739E-2},null,null,{"$f":"AD42","v":0.13965867579908678},null,{"$f":"AG40+AI40+AJ40+AK40","v":0.20633023483365953},{"$f":"AG42","v":6.6671559034572739E-2},null,null,{"$f":"AJ42","v":0.13965867579908678},null,null,null,null,null,null,null,{"$f":"AS40+AU40+AV40+AW40","v":0.6100000000000001},{"$f":"AS42","v":0.2},null,null,{"$f":"AV42","v":0.41000000000000003},null,{"$f":"AY40+BA40+BB40+BC40","v":0.30000000000000004},{"$f":"AY42","v":0.1},null,null,{"$f":"BB42","v":0.2},null,{"$f":"BE40+BG40+BH40+BI40","v":0.31},{"$f":"BE42","v":0.1},null,null,{"$f":"BH42","v":0.21},null,{"$f":"BK40+BM40+BN40+BO40","v":0.11899999999999999},{"$f":"BK42","v":2.5999999999999999E-2},null,null,{"$f":"BN42","v":9.2999999999999999E-2},null,{"$f":"BQ40+BS40+BT40+BU40","v":0.11899999999999999},{"$f":"BQ42","v":2.5999999999999999E-2},null,null,{"$f":"BT42","v":9.2999999999999999E-2},null,null,null,null,null,null,null,{"$f":"CC40+CE40+CF40+CG40","v":1.8815},{"$f":"CC42","v":0.41389999999999999},null,null,{"$f":"CF42","v":1.4676},null,{"$f":"CI40+CK40+CL40+CM40","v":0.97499999999999998},{"$f":"CI42","v":0.2145},null,null,{"$f":"CL42","v":0.76049999999999995},null,{"$f":"CO40+CQ40+CR40+CS40","v":0.90649999999999997},{"$f":"CO42","v":0.19939999999999999},null,null,{"$f":"CR42","v":0.70709999999999995},null,{"$f":"CU40+CW40+CX40+CY40","v":0.36499999999999999},{"$f":"CU42","v":0.08},null,null,{"$f":"CX42","v":0.28499999999999998},null,{"$f":"DA40+DC40+DD40+DE40","v":0.36499999999999999},{"$f":"DA42","v":0.08},null,null,{"$f":"DD42","v":0.28499999999999998}]
[null,null,null,"3.0.0"]
[null,null,"r","3.0.1","ОАО \"Тюменская энергосбытовая компания\"",null,null,{"$f":"I42+K42+L42+M42","v":1.265217},{"$f":"O42+U42","v":0.40883000000000003},null,null,{"$f":"R42+X42","v":0.85638700000000001},null,{"$f":"O42+Q42+R42+S42","v":0.350968},{"$f":"(31.179+6.097+4.054+19.199+53.415+0.576)/1000","v":0.11451999999999998},null,null,{"$f":"(68.634+30.837+3.377+32.992+64.477+36.131)/1000","v":0.23644800000000002},null,{"$f":"U42+W42+X42+Y42","v":0.91424900000000009},{"$f":"(16.96+0+58.285+74.369+72.013+72.683)/1000","v":0.29431000000000002},null,null,{"$f":"(50.796+33.373+38.729+129.725+111.707+255.609)/1000","v":0.61993900000000002},null,{"$f":"AA42+AC42+AD42+AE42","v":0.20633023483365953},{"$f":"I42/6132*1000","v":6.6671559034572739E-2},null,null,{"$f":"L42/6132*1000","v":0.13965867579908678},null,{"$f":"AG42+AI42+AJ42+AK42","v":0.20633023483365953},{"$f":"I42/6132*1000","v":6.6671559034572739E-2},null,null,{"$f":"L42/6132*1000","v":0.13965867579908678},null,null,null,null,null,null,null,{"$f":"AS42+AU42+AV42+AW42","v":0.6100000000000001},{"$f":"AY42+BE42","v":0.2},null,null,{"$f":"BB42+BH42","v":0.41000000000000003},null,{"$f":"AY42+BA42+BB42+BC42","v":0.30000000000000004},0.1,null,null,0.2,null,{"$f":"BE42+BG42+BH42+BI42","v":0.31},0.1,null,null,0.21,null,{"$f":"BK42+BM42+BN42+BO42","v":0.11899999999999999},2.5999999999999999E-2,null,null,{"$f":"0.119-BK42","v":9.2999999999999999E-2},null,{"$f":"BQ42+BS42+BT42+BU42","v":0.11899999999999999},2.5999999999999999E-2,null,null,{"$f":"0.119-BQ42","v":9.2999999999999999E-2},null,null,null,null,null,null,null,{"$f":"CC42+CE42+CF42+CG42","v":1.8815},{"$f":"CI42+CO42","v":0.41389999999999999},null,null,{"$f":"CL42+CR42","v":1.4676},null,{"$f":"CI42+CK42+CL42+CM42","v":0.97499999999999998},0.2145,null,null,0.76049999999999995,null,{"$f":"CO42+CQ42+CR42+CS42","v":0.90649999999999997},0.19939999999999999,null,null,0.70709999999999995,null,{"$f":"CU42+CW42+CX42+CY42","v":0.36499999999999999},0.08,null,null,{"$f":"0.365-0.08","v":0.28499999999999998},null,{"$f":"DA42+DC42+DD42+DE42","v":0.36499999999999999},{"$f":"CU42","v":0.08},null,null,{"$f":"CX42","v":0.28499999999999998}]
[null,null,null,null,"Добавить организацию-продавца потерь"]
[null,null,null,null,null,null,null,{"$f":"I44+K44+L44+M44","v":1.265217},{"$f":"SUM(I41:I43)","v":0.40883000000000003},null,{"$f":"SUM(K41:K43)","v":0},{"$f":"SUM(L41:L43)","v":0.85638700000000001},{"$f":"SUM(M41:M43)","v":0},{"$f":"O44+Q44+R44+S44","v":0.350968},{"$f":"SUM(O41:O43)","v":0.11451999999999998},null,{"$f":"SUM(Q41:Q43)","v":0},{"$f":"SUM(R41:R43)","v":0.23644800000000002},{"$f":"SUM(S41:S43)","v":0},{"$f":"U44+W44+X44+Y44","v":0.91424900000000009},{"$f":"SUM(U41:U43)","v":0.29431000000000002},null,{"$f":"SUM(W41:W43)","v":0},{"$f":"SUM(X41:X43)","v":0.61993900000000002},{"$f":"SUM(Y41:Y43)","v":0},{"$f":"AA44+AC44+AD44+AE44","v":0.20633023483365953},{"$f":"SUM(AA41:AA43)","v":6.6671559034572739E-2},null,{"$f":"SUM(AC41:AC43)","v":0},{"$f":"SUM(AD41:AD43)","v":0.13965867579908678},{"$f":"SUM(AE41:AE43)","v":0},{"$f":"AG44+AI44+AJ44+AK44","v":0.20633023483365953},{"$f":"SUM(AG41:AG43)","v":6.6671559034572739E-2},null,{"$f":"SUM(AI41:AI43)","v":0},{"$f":"SUM(AJ41:AJ43)","v":0.13965867579908678},{"$f":"SUM(AK41:AK43)","v":0},null,null,null,null,null,null,{"$f":"AS44+AU44+AV44+AW44","v":0.6100000000000001},{"$f":"SUM(AS41:AS43)","v":0.2},null,{"$f":"SUM(AU41:AU43)","v":0},{"$f":"SUM(AV41:AV43)","v":0.41000000000000003},{"$f":"SUM(AW41:AW43)","v":0},{"$f":"AY44+BA44+BB44+BC44","v":0.30000000000000004},{"$f":"SUM(AY41:AY43)","v":0.1},null,{"$f":"SUM(BA41:BA43)","v":0},{"$f":"SUM(BB41:BB43)","v":0.2},{"$f":"SUM(BC41:BC43)","v":0},{"$f":"BE44+BG44+BH44+BI44","v":0.31},{"$f":"SUM(BE41:BE43)","v":0.1},null,{"$f":"SUM(BG41:BG43)","v":0},{"$f":"SUM(BH41:BH43)","v":0.21},{"$f":"SUM(BI41:BI43)","v":0},{"$f":"BK44+BM44+BN44+BO44","v":0.11899999999999999},{"$f":"SUM(BK41:BK43)","v":2.5999999999999999E-2},null,{"$f":"SUM(BM41:BM43)","v":0},{"$f":"SUM(BN41:BN43)","v":9.2999999999999999E-2},{"$f":"SUM(BO41:BO43)","v":0},{"$f":"BQ44+BS44+BT44+BU44","v":0.11899999999999999},{"$f":"SUM(BQ41:BQ43)","v":2.5999999999999999E-2},null,{"$f":"SUM(BS41:BS43)","v":0},{"$f":"SUM(BT41:BT43)","v":9.2999999999999999E-2},{"$f":"SUM(BU41:BU43)","v":0},null,null,null,null,null,null,{"$f":"CC44+CE44+CF44+CG44","v":1.8815},{"$f":"SUM(CC41:CC43)","v":0.41389999999999999},null,{"$f":"SUM(CE41:CE43)","v":0},{"$f":"SUM(CF41:CF43)","v":1.4676},{"$f":"SUM(CG41:CG43)","v":0},{"$f":"CI44+CK44+CL44+CM44","v":0.97499999999999998},{"$f":"SUM(CI41:CI43)","v":0.2145},null,{"$f":"SUM(CK41:CK43)","v":0},{"$f":"SUM(CL41:CL43)","v":0.76049999999999995},{"$f":"SUM(CM41:CM43)","v":0},{"$f":"CO44+CQ44+CR44+CS44","v":0.90649999999999997},{"$f":"SUM(CO41:CO43)","v":0.19939999999999999},null,{"$f":"SUM(CQ41:CQ43)","v":0},{"$f":"SUM(CR41:CR43)","v":0.70709999999999995},{"$f":"SUM(CS41:CS43)","v":0},{"$f":"CU44+CW44+CX44+CY44","v":0.36499999999999999},{"$f":"SUM(CU41:CU43)","v":0.08},null,{"$f":"SUM(CW41:CW43)","v":0},{"$f":"SUM(CX41:CX43)","v":0.28499999999999998},{"$f":"SUM(CY41:CY43)","v":0},{"$f":"DA44+DC44+DD44+DE44","v":0.36499999999999999},{"$f":"SUM(DA41:DA43)","v":0.08},null,{"$f":"SUM(DC41:DC43)","v":0},{"$f":"SUM(DD41:DD43)","v":0.28499999999999998},{"$f":"SUM(DE41:DE43)","v":0}]
[null,null,null,"4","Расход электроэнергии на производственные и хозяйственные нужды (собственное потребление организаций, для которых оказание услуг по передаче не является основным видом деятельности)",null,null,{"$f":"I45+K45+L45+M45","v":0},{"$f":"SUM(I46:I47)","v":0},{"$f":"SUM(J46:J47)","v":0},{"$f":"SUM(K46:K47)","v":0},{"$f":"SUM(L46:L47)","v":0},{"$f":"SUM(M46:M47)","v":0},{"$f":"O45+Q45+R45+S45","v":0},{"$f":"SUM(O46:O47)","v":0},{"$f":"SUM(P46:P47)","v":0},{"$f":"SUM(Q46:Q47)","v":0},{"$f":"SUM(R46:R47)","v":0},{"$f":"SUM(S46:S47)","v":0},{"$f":"U45+W45+X45+Y45","v":0},{"$f":"SUM(U46:U47)","v":0},{"$f":"SUM(V46:V47)","v":0},{"$f":"SUM(W46:W47)","v":0},{"$f":"SUM(X46:X47)","v":0},{"$f":"SUM(Y46:Y47)","v":0},{"$f":"AA45+AC45+AD45+AE45","v":0},{"$f":"SUM(AA46:AA47)","v":0},{"$f":"SUM(AB46:AB47)","v":0},{"$f":"SUM(AC46:AC47)","v":0},{"$f":"SUM(AD46:AD47)","v":0},{"$f":"SUM(AE46:AE47)","v":0},{"$f":"AG45+AI45+AJ45+AK45","v":0},{"$f":"SUM(AG46:AG47)","v":0},{"$f":"SUM(AH46:AH47)","v":0},{"$f":"SUM(AI46:AI47)","v":0},{"$f":"SUM(AJ46:AJ47)","v":0},{"$f":"SUM(AK46:AK47)","v":0},{"$f":"AM45+AO45+AP45+AQ45","v":0},{"$f":"SUM(AM46:AM47)","v":0},null,{"$f":"SUM(AO46:AO47)","v":0},{"$f":"SUM(AP46:AP47)","v":0},{"$f":"SUM(AQ46:AQ47)","v":0},{"$f":"AS45+AU45+AV45+AW45","v":0},{"$f":"SUM(AS46:AS47)","v":0},{"$f":"SUM(AT46:AT47)","v":0},{"$f":"SUM(AU46:AU47)","v":0},{"$f":"SUM(AV46:AV47)","v":0},{"$f":"SUM(AW46:AW47)","v":0},{"$f":"AY45+BA45+BB45+BC45","v":0},{"$f":"SUM(AY46:AY47)","v":0},{"$f":"SUM(AZ46:AZ47)","v":0},{"$f":"SUM(BA46:BA47)","v":0},{"$f":"SUM(BB46:BB47)","v":0},{"$f":"SUM(BC46:BC47)","v":0},{"$f":"BE45+BG45+BH45+BI45","v":0},{"$f":"SUM(BE46:BE47)","v":0},{"$f":"SUM(BF46:BF47)","v":0},{"$f":"SUM(BG46:BG47)","v":0},{"$f":"SUM(BH46:BH47)","v":0},{"$f":"SUM(BI46:BI47)","v":0},{"$f":"BK45+BM45+BN45+BO45","v":0},{"$f":"SUM(BK46:BK47)","v":0},{"$f":"SUM(BL46:BL47)","v":0},{"$f":"SUM(BM46:BM47)","v":0},{"$f":"SUM(BN46:BN47)","v":0},{"$f":"SUM(BO46:BO47)","v":0},{"$f":"BQ45+BS45+BT45+BU45","v":0},{"$f":"SUM(BQ46:BQ47)","v":0},{"$f":"SUM(BR46:BR47)","v":0},{"$f":"SUM(BS46:BS47)","v":0},{"$f":"SUM(BT46:BT47)","v":0},{"$f":"SUM(BU46:BU47)","v":0},{"$f":"BW45+BY45+BZ45+CA45","v":0},{"$f":"SUM(BW46:BW47)","v":0},null,{"$f":"SUM(BY46:BY47)","v":0},{"$f":"SUM(BZ46:BZ47)","v":0},{"$f":"SUM(CA46:CA47)","v":0},{"$f":"CC45+CE45+CF45+CG45","v":0},{"$f":"SUM(CC46:CC47)","v":0},{"$f":"SUM(CD46:CD47)","v":0},{"$f":"SUM(CE46:CE47)","v":0},{"$f":"SUM(CF46:CF47)","v":0},{"$f":"SUM(CG46:CG47)","v":0},{"$f":"CI45+CK45+CL45+CM45","v":0},{"$f":"SUM(CI46:CI47)","v":0},{"$f":"SUM(CJ46:CJ47)","v":0},{"$f":"SUM(CK46:CK47)","v":0},{"$f":"SUM(CL46:CL47)","v":0},{"$f":"SUM(CM46:CM47)","v":0},{"$f":"CO45+CQ45+CR45+CS45","v":0},{"$f":"SUM(CO46:CO47)","v":0},{"$f":"SUM(CP46:CP47)","v":0},{"$f":"SUM(CQ46:CQ47)","v":0},{"$f":"SUM(CR46:CR47)","v":0},{"$f":"SUM(CS46:CS47)","v":0},{"$f":"CU45+CW45+CX45+CY45","v":0},{"$f":"SUM(CU46:CU47)","v":0},{"$f":"SUM(CV46:CV47)","v":0},{"$f":"SUM(CW46:CW47)","v":0},{"$f":"SUM(CX46:CX47)","v":0},{"$f":"SUM(CY46:CY47)","v":0},{"$f":"DA45+DC45+DD45+DE45","v":0},{"$f":"SUM(DA46:DA47)","v":0},{"$f":"SUM(DB46:DB47)","v":0},{"$f":"SUM(DC46:DC47)","v":0},{"$f":"SUM(DD46:DD47)","v":0},{"$f":"SUM(DE46:DE47)","v":0},{"$f":"DG45+DI45+DJ45+DK45","v":0},{"$f":"SUM(DG46:DG47)","v":0},null,{"$f":"SUM(DI46:DI47)","v":0},{"$f":"SUM(DJ46:DJ47)","v":0},{"$f":"SUM(DK46:DK47)","v":0}]
[null,null,null,"4.0"]
[null,null,null,null,"Добавить организацию-продавца"]
[null,null,null,5,"Отпущено из сети, всего, в том числе:",null,null,{"$f":"I48+K48+L48+M48","v":45.148302000000001},{"$f":"I49+I53+I56+I65","v":0},{"$f":"J49+J53+J56+J65","v":0},{"$f":"K49+K53+K56+K65","v":0},{"$f":"L49+L53+L56+L65","v":32.713639999999998},{"$f":"M49+M53+M56+M65","v":12.434661999999999},{"$f":"O48+Q48+R48+S48","v":23.395032999999998},{"$f":"O49+O53+O56+O65","v":0},{"$f":"P49+P53+P56+P65","v":0},{"$f":"Q49+Q53+Q56+Q65","v":0},{"$f":"R49+R53+R56+R65","v":16.585868999999999},{"$f":"S49+S53+S56+S65","v":6.809164},{"$f":"U48+W48+X48+Y48","v":21.753269},{"$f":"U49+U53+U56+U65","v":0},{"$f":"V49+V53+V56+V65","v":0},{"$f":"W49+W53+W56+W65","v":0},{"$f":"X49+X53+X56+X65","v":16.127770999999999},{"$f":"Y49+Y53+Y56+Y65","v":5.6254980000000003},{"$f":"AA48+AC48+AD48+AE48","v":7.3627367906066539},{"$f":"AA49+AA53+AA56+AA65","v":0},{"$f":"AB49+AB53+AB56+AB65","v":0},{"$f":"AC49+AC53+AC56+AC65","v":0},{"$f":"AD49+AD53+AD56+AD65","v":5.3349054142204828},{"$f":"AE49+AE53+AE56+AE65","v":2.0278313763861706},{"$f":"AG48+AI48+AJ48+AK48","v":7.3627367906066539},{"$f":"AG49+AG53+AG56+AG65","v":0},{"$f":"AH49+AH53+AH56+AH65","v":0},{"$f":"AI49+AI53+AI56+AI65","v":0},{"$f":"AJ49+AJ53+AJ56+AJ65","v":5.3349054142204828},{"$f":"AK49+AK53+AK56+AK65","v":2.0278313763861706},{"$f":"AM48+AO48+AP48+AQ48","v":0},{"$f":"AM49+AM53+AM56+AM65","v":0},null,{"$f":"AO49+AO53+AO56+AO65","v":0},{"$f":"AP49+AP53+AP56+AP65","v":0},{"$f":"AQ49+AQ53+AQ56+AQ65","v":0},{"$f":"AS48+AU48+AV48+AW48","v":43.956810000000004},{"$f":"AS49+AS53+AS56+AS65","v":0},{"$f":"AT49+AT53+AT56+AT65","v":0},{"$f":"AU49+AU53+AU56+AU65","v":0},{"$f":"AV49+AV53+AV56+AV65","v":32.131970000000003},{"$f":"AW49+AW53+AW56+AW65","v":11.824840000000002},{"$f":"AY48+BA48+BB48+BC48","v":22.23245},{"$f":"AY49+AY53+AY56+AY65","v":0},{"$f":"AZ49+AZ53+AZ56+AZ65","v":0},{"$f":"BA49+BA53+BA56+BA65","v":0},{"$f":"BB49+BB53+BB56+BB65","v":15.645820000000001},{"$f":"BC49+BC53+BC56+BC65","v":6.5866300000000004},{"$f":"BE48+BG48+BH48+BI48","v":21.724359999999997},{"$f":"BE49+BE53+BE56+BE65","v":0},{"$f":"BF49+BF53+BF56+BF65","v":0},{"$f":"BG49+BG53+BG56+BG65","v":0},{"$f":"BH49+BH53+BH56+BH65","v":16.486149999999999},{"$f":"BI49+BI53+BI56+BI65","v":5.2382099999999996},{"$f":"BK48+BM48+BN48+BO48","v":8.4489999999999998},{"$f":"BK49+BK53+BK56+BK65","v":0},{"$f":"BL49+BL53+BL56+BL65","v":0},{"$f":"BM49+BM53+BM56+BM65","v":0},{"$f":"BN49+BN53+BN56+BN65","v":6.0519999999999996},{"$f":"BO49+BO53+BO56+BO65","v":2.3970000000000002},{"$f":"BQ48+BS48+BT48+BU48","v":8.4489999999999998},{"$f":"BQ49+BQ53+BQ56+BQ65","v":0},{"$f":"BR49+BR53+BR56+BR65","v":0},{"$f":"BS49+BS53+BS56+BS65","v":0},{"$f":"BT49+BT53+BT56+BT65","v":6.0519999999999996},{"$f":"BU49+BU53+BU56+BU65","v":2.3970000000000002},{"$f":"BW48+BY48+BZ48+CA48","v":0},{"$f":"BW49+BW53+BW56+BW65","v":0},null,{"$f":"BY49+BY53+BY56+BY65","v":0},{"$f":"BZ49+BZ53+BZ56+BZ65","v":0},{"$f":"CA49+CA53+CA56+CA65","v":0},{"$f":"CC48+CE48+CF48+CG48","v":45.156000000000006},{"$f":"CC49+CC53+CC56+CC65","v":0},{"$f":"CD49+CD53+CD56+CD65","v":0},{"$f":"CE49+CE53+CE56+CE65","v":0},{"$f":"CF49+CF53+CF56+CF65","v":32.717000000000006},{"$f":"CG49+CG53+CG56+CG65","v":12.438999999999998},{"$f":"CI48+CK48+CL48+CM48","v":23.4},{"$f":"CI49+CI53+CI56+CI65","v":0},{"$f":"CJ49+CJ53+CJ56+CJ65","v":0},{"$f":"CK49+CK53+CK56+CK65","v":0},{"$f":"CL49+CL53+CL56+CL65","v":16.588000000000001},{"$f":"CM49+CM53+CM56+CM65","v":6.8119999999999994},{"$f":"CO48+CQ48+CR48+CS48","v":21.755999999999997},{"$f":"CO49+CO53+CO56+CO65","v":0},{"$f":"CP49+CP53+CP56+CP65","v":0},{"$f":"CQ49+CQ53+CQ56+CQ65","v":0},{"$f":"CR49+CR53+CR56+CR65","v":16.128999999999998},{"$f":"CS49+CS53+CS56+CS65","v":5.6269999999999998},{"$f":"CU48+CW48+CX48+CY48","v":8.7809999999999988},{"$f":"CU49+CU53+CU56+CU65","v":0},{"$f":"CV49+CV53+CV56+CV65","v":0},{"$f":"CW49+CW53+CW56+CW65","v":0},{"$f":"CX49+CX53+CX56+CX65","v":6.2399999999999993},{"$f":"CY49+CY53+CY56+CY65","v":2.5409999999999999},{"$f":"DA48+DC48+DD48+DE48","v":8.7809999999999988},{"$f":"DA49+DA53+DA56+DA65","v":0},{"$f":"DB49+DB53+DB56+DB65","v":0},{"$f":"DC49+DC53+DC56+DC65","v":0},{"$f":"DD49+DD53+DD56+DD65","v":6.2399999999999993},{"$f":"DE49+DE53+DE56+DE65","v":2.5409999999999999},{"$f":"DG48+DI48+DJ48+DK48","v":0},{"$f":"DG49+DG53+DG56+DG65","v":0},null,{"$f":"DI49+DI53+DI56+DI65","v":0},{"$f":"DJ49+DJ53+DJ56+DJ65","v":0},{"$f":"DK49+DK53+DK56+DK65","v":0}]
[null,null,null,"5.1","В сети прочих сетевых компаний, в том числе:",null,null,{"$f":"I49+K49+L49+M49","v":0.47867199999999999},{"$f":"SUM(I50:I52)","v":0},null,{"$f":"SUM(K50:K52)","v":0},{"$f":"SUM(L50:L52)","v":0.47867199999999999},{"$f":"SUM(M50:M52)","v":0},{"$f":"O49+Q49+R49+S49","v":0.25750400000000001},{"$f":"SUM(O50:O52)","v":0},null,{"$f":"SUM(Q50:Q52)","v":0},{"$f":"SUM(R50:R52)","v":0.25750400000000001},{"$f":"SUM(S50:S52)","v":0},{"$f":"U49+W49+X49+Y49","v":0.22116799999999998},{"$f":"SUM(U50:U52)","v":0},null,{"$f":"SUM(W50:W52)","v":0},{"$f":"SUM(X50:X52)","v":0.22116799999999998},{"$f":"SUM(Y50:Y52)","v":0},{"$f":"AA49+AC49+AD49+AE49","v":7.8061317677756037E-2},{"$f":"SUM(AA50:AA52)","v":0},null,{"$f":"SUM(AC50:AC52)","v":0},{"$f":"SUM(AD50:AD52)","v":7.8061317677756037E-2},{"$f":"SUM(AE50:AE52)","v":0},{"$f":"AG49+AI49+AJ49+AK49","v":7.8061317677756037E-2},{"$f":"SUM(AG50:AG52)","v":0},null,{"$f":"SUM(AI50:AI52)","v":0},{"$f":"SUM(AJ50:AJ52)","v":7.8061317677756037E-2},{"$f":"SUM(AK50:AK52)","v":0},{"$f":"AM49+AO49+AP49+AQ49","v":0},{"$f":"SUM(AM50:AM52)","v":0},null,{"$f":"SUM(AO50:AO52)","v":0},{"$f":"SUM(AP50:AP52)","v":0},{"$f":"SUM(AQ50:AQ52)","v":0},{"$f":"AS49+AU49+AV49+AW49","v":0.4805100000000001},{"$f":"SUM(AS50:AS52)","v":0},null,{"$f":"SUM(AU50:AU52)","v":0},{"$f":"SUM(AV50:AV52)","v":0.4805100000000001},{"$f":"SUM(AW50:AW52)","v":0},{"$f":"AY49+BA49+BB49+BC49","v":0.25751000000000007},{"$f":"SUM(AY50:AY52)","v":0},null,{"$f":"SUM(BA50:BA52)","v":0},{"$f":"SUM(BB50:BB52)","v":0.25751000000000007},{"$f":"SUM(BC50:BC52)","v":0},{"$f":"BE49+BG49+BH49+BI49","v":0.223},{"$f":"SUM(BE50:BE52)","v":0},null,{"$f":"SUM(BG50:BG52)","v":0},{"$f":"SUM(BH50:BH52)","v":0.223},{"$f":"SUM(BI50:BI52)","v":0},{"$f":"BK49+BM49+BN49+BO49","v":0.1},{"$f":"SUM(BK50:BK52)","v":0},null,{"$f":"SUM(BM50:BM52)","v":0},{"$f":"SUM(BN50:BN52)","v":0.1},{"$f":"SUM(BO50:BO52)","v":0},{"$f":"BQ49+BS49+BT49+BU49","v":0.1},{"$f":"SUM(BQ50:BQ52)","v":0},null,{"$f":"SUM(BS50:BS52)","v":0},{"$f":"SUM(BT50:BT52)","v":0.1},{"$f":"SUM(BU50:BU52)","v":0},{"$f":"BW49+BY49+BZ49+CA49","v":0},{"$f":"SUM(BW50:BW52)","v":0},null,{"$f":"SUM(BY50:BY52)","v":0},{"$f":"SUM(BZ50:BZ52)","v":0},{"$f":"SUM(CA50:CA52)","v":0},{"$f":"CC49+CE49+CF49+CG49","v":0.47799999999999998},{"$f":"SUM(CC50:CC52)","v":0},null,{"$f":"SUM(CE50:CE52)","v":0},{"$f":"SUM(CF50:CF52)","v":0.47799999999999998},{"$f":"SUM(CG50:CG52)","v":0},{"$f":"CI49+CK49+CL49+CM49","v":0.25700000000000001},{"$f":"SUM(CI50:CI52)","v":0},null,{"$f":"SUM(CK50:CK52)","v":0},{"$f":"SUM(CL50:CL52)","v":0.25700000000000001},{"$f":"SUM(CM50:CM52)","v":0},{"$f":"CO49+CQ49+CR49+CS49","v":0.221},{"$f":"SUM(CO50:CO52)","v":0},null,{"$f":"SUM(CQ50:CQ52)","v":0},{"$f":"SUM(CR50:CR52)","v":0.221},{"$f":"SUM(CS50:CS52)","v":0},{"$f":"CU49+CW49+CX49+CY49","v":0.1},{"$f":"SUM(CU50:CU52)","v":0},null,{"$f":"SUM(CW50:CW52)","v":0},{"$f":"SUM(CX50:CX52)","v":0.1},{"$f":"SUM(CY50:CY52)","v":0},{"$f":"DA49+DC49+DD49+DE49","v":0.1},{"$f":"SUM(DA50:DA52)","v":0},null,{"$f":"SUM(DC50:DC52)","v":0},{"$f":"SUM(DD50:DD52)","v":0.1},{"$f":"SUM(DE50:DE52)","v":0},{"$f":"DG49+DI49+DJ49+DK49","v":0},{"$f":"SUM(DG50:DG52)","v":0},null,{"$f":"SUM(DI50:DI52)","v":0},{"$f":"SUM(DJ50:DJ52)","v":0},{"$f":"SUM(DK50:DK52)","v":0}]
[null,null,null,"5.1.0"]
[null,null,"r","5.1.1","ООО \"Транзит-Электро-Тюмень\"",null,null,{"$f":"I51+K51+L51+M51","v":0.47867199999999999},null,null,null,{"$f":"R51+X51","v":0.47867199999999999},null,{"$f":"O51+Q51+R51+S51","v":0.25750400000000001},null,null,null,{"$f":"(54.08+43.056+49.088+37.232+32.448+41.6)/1000","v":0.25750400000000001},null,{"$f":"U51+W51+X51+Y51","v":0.22116799999999998},null,null,null,{"$f":"(31.754+39.432+37.247+38.186+36.038+38.511)/1000","v":0.22116799999999998},null,{"$f":"AA51+AC51+AD51+AE51","v":7.8061317677756037E-2},null,null,null,{"$f":"L51/6132*1000","v":7.8061317677756037E-2},null,{"$f":"AG51+AI51+AJ51+AK51","v":7.8061317677756037E-2},null,null,null,{"$f":"L51/6132*1000","v":7.8061317677756037E-2},null,{"$f":"AM51+AO51+AP51+AQ51","v":0},null,null,null,null,null,{"$f":"AS51+AU51+AV51+AW51","v":0.4805100000000001},null,null,null,{"$f":"BB51+BH51","v":0.4805100000000001},null,{"$f":"AY51+BA51+BB51+BC51","v":0.25751000000000007},null,null,null,{"$f":"(54.08+43.06+49.09+37.23+32.45+41.6)/1000","v":0.25751000000000007},null,{"$f":"BE51+BG51+BH51+BI51","v":0.223},null,null,null,{"$f":"(31.75+39.43+37.25+38.19+38.19+38.19)/1000","v":0.223},null,{"$f":"BK51+BM51+BN51+BO51","v":0.1},null,null,null,0.1,null,{"$f":"BQ51+BS51+BT51+BU51","v":0.1},null,null,null,0.1,null,{"$f":"BW51+BY51+BZ51+CA51","v":0},null,null,null,null,null,{"$f":"CC51+CE51+CF51+CG51","v":0.47799999999999998},null,null,null,{"$f":"CL51+CR51","v":0.47799999999999998},null,{"$f":"CI51+CK51+CL51+CM51","v":0.25700000000000001},null,null,null,0.25700000000000001,null,{"$f":"CO51+CQ51+CR51+CS51","v":0.221},null,null,null,0.221,null,{"$f":"CU51+CW51+CX51+CY51","v":0.1},null,null,null,0.1,null,{"$f":"DA51+DC51+DD51+DE51","v":0.1},null,null,null,0.1,null,{"$f":"DG51+DI51+DJ51+DK51","v":0}]
[null,null,null,null,"Добавить сетевую компанию"]
[null,null,null,"5.2","Сетевым компаниям, опосредованно присоединённым через сети прочих потребителей, в том числе:",null,null,{"$f":"I53+K53+L53+M53","v":0},{"$f":"SUM(I54:I55)","v":0},null,{"$f":"SUM(K54:K55)","v":0},{"$f":"SUM(L54:L55)","v":0},{"$f":"SUM(M54:M55)","v":0},{"$f":"O53+Q53+R53+S53","v":0},{"$f":"SUM(O54:O55)","v":0},null,{"$f":"SUM(Q54:Q55)","v":0},{"$f":"SUM(R54:R55)","v":0},{"$f":"SUM(S54:S55)","v":0},{"$f":"U53+W53+X53+Y53","v":0},{"$f":"SUM(U54:U55)","v":0},null,{"$f":"SUM(W54:W55)","v":0},{"$f":"SUM(X54:X55)","v":0},{"$f":"SUM(Y54:Y55)","v":0},{"$f":"AA53+AC53+AD53+AE53","v":0},{"$f":"SUM(AA54:AA55)","v":0},null,{"$f":"SUM(AC54:AC55)","v":0},{"$f":"SUM(AD54:AD55)","v":0},{"$f":"SUM(AE54:AE55)","v":0},{"$f":"AG53+AI53+AJ53+AK53","v":0},{"$f":"SUM(AG54:AG55)","v":0},null,{"$f":"SUM(AI54:AI55)","v":0},{"$f":"SUM(AJ54:AJ55)","v":0},{"$f":"SUM(AK54:AK55)","v":0},{"$f":"AM53+AO53+AP53+AQ53","v":0},{"$f":"SUM(AM54:AM55)","v":0},null,{"$f":"SUM(AO54:AO55)","v":0},{"$f":"SUM(AP54:AP55)","v":0},{"$f":"SUM(AQ54:AQ55)","v":0},{"$f":"AS53+AU53+AV53+AW53","v":0},{"$f":"SUM(AS54:AS55)","v":0},null,{"$f":"SUM(AU54:AU55)","v":0},{"$f":"SUM(AV54:AV55)","v":0},{"$f":"SUM(AW54:AW55)","v":0},{"$f":"AY53+BA53+BB53+BC53","v":0},{"$f":"SUM(AY54:AY55)","v":0},null,{"$f":"SUM(BA54:BA55)","v":0},{"$f":"SUM(BB54:BB55)","v":0},{"$f":"SUM(BC54:BC55)","v":0},{"$f":"BE53+BG53+BH53+BI53","v":0},{"$f":"SUM(BE54:BE55)","v":0},null,{"$f":"SUM(BG54:BG55)","v":0},{"$f":"SUM(BH54:BH55)","v":0},{"$f":"SUM(BI54:BI55)","v":0},{"$f":"BK53+BM53+BN53+BO53","v":0},{"$f":"SUM(BK54:BK55)","v":0},null,{"$f":"SUM(BM54:BM55)","v":0},{"$f":"SUM(BN54:BN55)","v":0},{"$f":"SUM(BO54:BO55)","v":0},{"$f":"BQ53+BS53+BT53+BU53","v":0},{"$f":"SUM(BQ54:BQ55)","v":0},null,{"$f":"SUM(BS54:BS55)","v":0},{"$f":"SUM(BT54:BT55)","v":0},{"$f":"SUM(BU54:BU55)","v":0},{"$f":"BW53+BY53+BZ53+CA53","v":0},{"$f":"SUM(BW54:BW55)","v":0},null,{"$f":"SUM(BY54:BY55)","v":0},{"$f":"SUM(BZ54:BZ55)","v":0},{"$f":"SUM(CA54:CA55)","v":0},{"$f":"CC53+CE53+CF53+CG53","v":0},{"$f":"SUM(CC54:CC55)","v":0},null,{"$f":"SUM(CE54:CE55)","v":0},{"$f":"SUM(CF54:CF55)","v":0},{"$f":"SUM(CG54:CG55)","v":0},{"$f":"CI53+CK53+CL53+CM53","v":0},{"$f":"SUM(CI54:CI55)","v":0},null,{"$f":"SUM(CK54:CK55)","v":0},{"$f":"SUM(CL54:CL55)","v":0},{"$f":"SUM(CM54:CM55)","v":0},{"$f":"CO53+CQ53+CR53+CS53","v":0},{"$f":"SUM(CO54:CO55)","v":0},null,{"$f":"SUM(CQ54:CQ55)","v":0},{"$f":"SUM(CR54:CR55)","v":0},{"$f":"SUM(CS54:CS55)","v":0},{"$f":"CU53+CW53+CX53+CY53","v":0},{"$f":"SUM(CU54:CU55)","v":0},null,{"$f":"SUM(CW54:CW55)","v":0},{"$f":"SUM(CX54:CX55)","v":0},{"$f":"SUM(CY54:CY55)","v":0},{"$f":"DA53+DC53+DD53+DE53","v":0},{"$f":"SUM(DA54:DA55)","v":0},null,{"$f":"SUM(DC54:DC55)","v":0},{"$f":"SUM(DD54:DD55)","v":0},{"$f":"SUM(DE54:DE55)","v":0},{"$f":"DG53+DI53+DJ53+DK53","v":0},{"$f":"SUM(DG54:DG55)","v":0},null,{"$f":"SUM(DI54:DI55)","v":0},{"$f":"SUM(DJ54:DJ55)","v":0},{"$f":"SUM(DK54:DK55)","v":0}]
[null,null,null,"5.2.0"]
[null,null,null,null,"Добавить сетевую компанию"]
[null,null,null,"5.3","Конечным потребителям, в том числе:",null,null,{"$f":"I56+K56+L56+M56","v":44.669629999999998},{"$f":"SUM(I57:I64)","v":0},{"$f":"SUM(J57:J64)","v":0},{"$f":"SUM(K57:K64)","v":0},{"$f":"SUM(L57:L64)","v":32.234967999999995},{"$f":"SUM(M57:M64)","v":12.434661999999999},{"$f":"O56+Q56+R56+S56","v":23.137528999999997},{"$f":"SUM(O57:O64)","v":0},{"$f":"SUM(P57:P64)","v":0},{"$f":"SUM(Q57:Q64)","v":0},{"$f":"SUM(R57:R64)","v":16.328364999999998},{"$f":"SUM(S57:S64)","v":6.809164},{"$f":"U56+W56+X56+Y56","v":21.532100999999997},{"$f":"SUM(U57:U64)","v":0},{"$f":"SUM(V57:V64)","v":0},{"$f":"SUM(W57:W64)","v":0},{"$f":"SUM(X57:X64)","v":15.906602999999999},{"$f":"SUM(Y57:Y64)","v":5.6254980000000003},{"$f":"AA56+AC56+AD56+AE56","v":7.2846754729288978},{"$f":"SUM(AA57:AA64)","v":0},{"$f":"SUM(AB57:AB64)","v":0},{"$f":"SUM(AC57:AC64)","v":0},{"$f":"SUM(AD57:AD64)","v":5.2568440965427268},{"$f":"SUM(AE57:AE64)","v":2.0278313763861706},{"$f":"AG56+AI56+AJ56+AK56","v":7.2846754729288978},{"$f":"SUM(AG57:AG64)","v":0},{"$f":"SUM(AH57:AH64)","v":0},{"$f":"SUM(AI57:AI64)","v":0},{"$f":"SUM(AJ57:AJ64)","v":5.2568440965427268},{"$f":"SUM(AK57:AK64)","v":2.0278313763861706},{"$f":"AM56+AO56+AP56+AQ56","v":0},{"$f":"SUM(AM57:AM64)","v":0},null,{"$f":"SUM(AO57:AO64)","v":0},{"$f":"SUM(AP57:AP64)","v":0},{"$f":"SUM(AQ57:AQ64)","v":0},{"$f":"AS56+AU56+AV56+AW56","v":43.476300000000002},{"$f":"SUM(AS57:AS64)","v":0},{"$f":"SUM(AT57:AT64)","v":0},{"$f":"SUM(AU57:AU64)","v":0},{"$f":"SUM(AV57:AV64)","v":31.65146},{"$f":"SUM(AW57:AW64)","v":11.824840000000002},{"$f":"AY56+BA56+BB56+BC56","v":21.97494},{"$f":"SUM(AY57:AY64)","v":0},{"$f":"SUM(AZ57:AZ64)","v":0},{"$f":"SUM(BA57:BA64)","v":0},{"$f":"SUM(BB57:BB64)","v":15.388310000000001},{"$f":"SUM(BC57:BC64)","v":6.5866300000000004},{"$f":"BE56+BG56+BH56+BI56","v":21.501359999999998},{"$f":"SUM(BE57:BE64)","v":0},{"$f":"SUM(BF57:BF64)","v":0},{"$f":"SUM(BG57:BG64)","v":0},{"$f":"SUM(BH57:BH64)","v":16.26315},{"$f":"SUM(BI57:BI64)","v":5.2382099999999996},{"$f":"BK56+BM56+BN56+BO56","v":8.3490000000000002},{"$f":"SUM(BK57:BK64)","v":0},{"$f":"SUM(BL57:BL64)","v":0},{"$f":"SUM(BM57:BM64)","v":0},{"$f":"SUM(BN57:BN64)","v":5.952},{"$f":"SUM(BO57:BO64)","v":2.3970000000000002},{"$f":"BQ56+BS56+BT56+BU56","v":8.3490000000000002},{"$f":"SUM(BQ57:BQ64)","v":0},{"$f":"SUM(BR57:BR64)","v":0},{"$f":"SUM(BS57:BS64)","v":0},{"$f":"SUM(BT57:BT64)","v":5.952},{"$f":"SUM(BU57:BU64)","v":2.3970000000000002},{"$f":"BW56+BY56+BZ56+CA56","v":0},{"$f":"SUM(BW57:BW64)","v":0},null,{"$f":"SUM(BY57:BY64)","v":0},{"$f":"SUM(BZ57:BZ64)","v":0},{"$f":"SUM(CA57:CA64)","v":0},{"$f":"CC56+CE56+CF56+CG56","v":44.678000000000004},{"$f":"SUM(CC57:CC64)","v":0},{"$f":"SUM(CD57:CD64)","v":0},{"$f":"SUM(CE57:CE64)","v":0},{"$f":"SUM(CF57:CF64)","v":32.239000000000004},{"$f":"SUM(CG57:CG64)","v":12.438999999999998},{"$f":"CI56+CK56+CL56+CM56","v":23.143000000000001},{"$f":"SUM(CI57:CI64)","v":0},{"$f":"SUM(CJ57:CJ64)","v":0},{"$f":"SUM(CK57:CK64)","v":0},{"$f":"SUM(CL57:CL64)","v":16.331},{"$f":"SUM(CM57:CM64)","v":6.8119999999999994},{"$f":"CO56+CQ56+CR56+CS56","v":21.535},{"$f":"SUM(CO57:CO64)","v":0},{"$f":"SUM(CP57:CP64)","v":0},{"$f":"SUM(CQ57:CQ64)","v":0},{"$f":"SUM(CR57:CR64)","v":15.907999999999999},{"$f":"SUM(CS57:CS64)","v":5.6269999999999998},{"$f":"CU56+CW56+CX56+CY56","v":8.6809999999999992},{"$f":"SUM(CU57:CU64)","v":0},{"$f":"SUM(CV57:CV64)","v":0},{"$f":"SUM(CW57:CW64)","v":0},{"$f":"SUM(CX57:CX64)","v":6.14},{"$f":"SUM(CY57:CY64)","v":2.5409999999999999},{"$f":"DA56+DC56+DD56+DE56","v":8.6809999999999992},{"$f":"SUM(DA57:DA64)","v":0},{"$f":"SUM(DB57:DB64)","v":0},{"$f":"SUM(DC57:DC64)","v":0},{"$f":"SUM(DD57:DD64)","v":6.14},{"$f":"SUM(DE57:DE64)","v":2.5409999999999999},{"$f":"DG56+DI56+DJ56+DK56","v":0},{"$f":"SUM(DG57:DG64)","v":0},null,{"$f":"SUM(DI57:DI64)","v":0},{"$f":"SUM(DJ57:DJ64)","v":0},{"$f":"SUM(DK57:DK64)","v":0}]
[null,null,null,"5.3.0"]
[null,null,"r","5.3.1","ОАО \"Тюменская энергосбытовая компания\"",null,"total"]
[null,null,null,null,null,1,"ООО \"Ремэнергостройсервис\"",{"$f":"I59+K59+L59+M59","v":33.617204000000001},null,null,null,{"$f":"R59+X59","v":30.651253999999998},{"$f":"S59+Y59","v":2.9659499999999999},{"$f":"O59+Q59+R59+S59","v":17.182850999999999},null,null,null,{"$f":"15486.577/1000","v":15.486576999999999},{"$f":"1696.274/1000","v":1.6962739999999998},{"$f":"U59+W59+X59+Y59","v":16.434352999999998},null,null,null,{"$f":"15164.677/1000","v":15.164676999999999},{"$f":"1269.676/1000","v":1.269676},{"$f":"AA59+AC59+AD59+AE59","v":5.4822576647097199},null,null,null,{"$f":"L59/6132*1000","v":4.9985737116764515},{"$f":"M59/6132*1000","v":0.48368395303326805},{"$f":"AG59+AI59+AJ59+AK59","v":5.4822576647097199},null,null,null,{"$f":"L59/6132*1000","v":4.9985737116764515},{"$f":"M59/6132*1000","v":0.48368395303326805},{"$f":"AM59+AO59+AP59+AQ59","v":0},null,null,null,null,null,{"$f":"AS59+AU59+AV59+AW59","v":32.86204},null,null,null,{"$f":"BB59+BH59","v":30.12237},{"$f":"BC59+BI59","v":2.7396699999999998},{"$f":"AY59+BA59+BB59+BC59","v":16.14761},null,null,null,{"$f":"(2713.18+2625.82+2513.88+2332.36+2395.26+1998.62)/1000","v":14.57912},{"$f":"(367.17+352.73+272.82+210.59+193.49+171.69)/1000","v":1.5684899999999999},{"$f":"BE59+BG59+BH59+BI59","v":16.71443},null,null,null,{"$f":"(1973.02+2089.76+2321.35+3022.71+3052.94+3083.47)/1000","v":15.54325},{"$f":"(154.66+151.6+180.39+225.91+228.17+230.45)/1000","v":1.1711799999999999},{"$f":"BK59+BM59+BN59+BO59","v":6.1760000000000002},null,null,null,5.6520000000000001,0.52400000000000002,{"$f":"BQ59+BS59+BT59+BU59","v":6.1760000000000002},null,null,null,{"$f":"BN59","v":5.6520000000000001},{"$f":"BO59","v":0.52400000000000002},{"$f":"BW59+BY59+BZ59+CA59","v":0},null,null,null,null,null,{"$f":"CC59+CE59+CF59+CG59","v":33.624000000000002},null,null,null,{"$f":"CL59+CR59","v":30.655000000000001},{"$f":"CM59+CS59","v":2.9689999999999999},{"$f":"CI59+CK59+CL59+CM59","v":17.186},null,null,null,15.488,1.698,{"$f":"CO59+CQ59+CR59+CS59","v":16.437999999999999},null,null,null,15.167,1.2709999999999999,{"$f":"CU59+CW59+CX59+CY59","v":6.4160000000000004},null,null,null,5.827,0.58899999999999997,{"$f":"DA59+DC59+DD59+DE59","v":6.4160000000000004},null,null,null,{"$f":"CX59","v":5.827},{"$f":"CY59","v":0.58899999999999997},{"$f":"DG59+DI59+DJ59+DK59","v":0}]
[]
[null,null,"r","5.3.2","ОАО \"Тюменьэнергосбыт\"",null,"total"]
[null,null,null,null,null,1,"ООО \"Ремэнергостройсервис\"",{"$f":"I62+K62+L62+M62","v":11.052426000000001},null,null,null,{"$f":"R62+X62","v":1.5837140000000001},{"$f":"S62+Y62","v":9.468712},{"$f":"O62+Q62+R62+S62","v":5.9546780000000004},null,null,null,{"$f":"841.788/1000","v":0.84178799999999998},{"$f":"5112.89/1000","v":5.1128900000000002},{"$f":"U62+W62+X62+Y62","v":5.0977480000000002},null,null,null,{"$f":"741.926/1000","v":0.74192600000000009},{"$f":"4355.822/1000","v":4.3558219999999999},{"$f":"AA62+AC62+AD62+AE62","v":1.802417808219178},null,null,null,{"$f":"L62/6132*1000","v":0.25827038486627529},{"$f":"M62/6132*1000","v":1.5441474233529027},{"$f":"AG62+AI62+AJ62+AK62","v":1.802417808219178},null,null,null,{"$f":"L62/6132*1000","v":0.25827038486627529},{"$f":"M62/6132*1000","v":1.5441474233529027},{"$f":"AM62+AO62+AP62+AQ62","v":0},null,null,null,null,null,{"$f":"AS62+AU62+AV62+AW62","v":10.614260000000002},null,null,null,{"$f":"BB62+BH62","v":1.5290900000000001},{"$f":"BC62+BI62","v":9.0851700000000015},{"$f":"AY62+BA62+BB62+BC62","v":5.8273300000000008},null,null,null,{"$f":"(116+117.38+139.07+135.51+185.03+116.2)/1000","v":0.80919000000000008},{"$f":"(907.68+913.21+1158.17+735.41+663.03+640.64)/1000","v":5.0181400000000007},{"$f":"BE62+BG62+BH62+BI62","v":4.7869299999999999},null,null,null,{"$f":"(104.75+106.91+133.41+123.7+124.94+126.19)/1000","v":0.7199000000000001},{"$f":"(631.46+453.67+795.35+721.61+728.83+736.11)/1000","v":4.0670299999999999},{"$f":"BK62+BM62+BN62+BO62","v":2.173},null,null,null,0.3,1.873,{"$f":"BQ62+BS62+BT62+BU62","v":2.173},null,null,null,{"$f":"BN62","v":0.3},{"$f":"BO62","v":1.873},{"$f":"BW62+BY62+BZ62+CA62","v":0},null,null,null,null,null,{"$f":"CC62+CE62+CF62+CG62","v":11.053999999999998},null,null,null,{"$f":"CL62+CR62","v":1.5840000000000001},{"$f":"CM62+CS62","v":9.4699999999999989},{"$f":"CI62+CK62+CL62+CM62","v":5.9569999999999999},null,null,null,0.84299999999999997,5.1139999999999999,{"$f":"CO62+CQ62+CR62+CS62","v":5.0969999999999995},null,null,null,0.74099999999999999,4.3559999999999999,{"$f":"CU62+CW62+CX62+CY62","v":2.2650000000000001},null,null,null,0.313,1.952,{"$f":"DA62+DC62+DD62+DE62","v":2.2650000000000001},null,null,null,{"$f":"CX62","v":0.313},{"$f":"CY62","v":1.952},{"$f":"DG62+DI62+DJ62+DK62","v":0}]
[]
[null,null,null,null,"Добавить сбытовую компанию-потребителя"]
[null,null,null,"5.4","В сопредельные регионы",null,null,{"$f":"I65+K65+L65+M65","v":0},null,null,null,null,null,{"$f":"O65+Q65+R65+S65","v":0},null,null,null,null,null,{"$f":"U65+W65+X65+Y65","v":0},null,null,null,null,null,{"$f":"AA65+AC65+AD65+AE65","v":0},null,null,null,null,null,{"$f":"AG65+AI65+AJ65+AK65","v":0},null,null,null,null,null,{"$f":"AM65+AO65+AP65+AQ65","v":0},null,null,null,null,null,{"$f":"AS65+AU65+AV65+AW65","v":0},null,null,null,null,null,{"$f":"AY65+BA65+BB65+BC65","v":0},null,null,null,null,null,{"$f":"BE65+BG65+BH65+BI65","v":0},null,null,null,null,null,{"$f":"BK65+BM65+BN65+BO65","v":0},null,null,null,null,null,{"$f":"BQ65+BS65+BT65+BU65","v":0},null,null,null,null,null,{"$f":"BW65+BY65+BZ65+CA65","v":0},null,null,null,null,null,{"$f":"CC65+CE65+CF65+CG65","v":0},null,null,null,null,null,{"$f":"CI65+CK65+CL65+CM65","v":0},null,null,null,null,null,{"$f":"CO65+CQ65+CR65+CS65","v":0},null,null,null,null,null,{"$f":"CU65+CW65+CX65+CY65","v":0},null,null,null,null,null,{"$f":"DA65+DC65+DD65+DE65","v":0},null,null,null,null,null,{"$f":"DG65+DI65+DJ65+DK65","v":0}]
[null,null,null,null,"Справочно: Объёмы, оплачиваемые сбытовыми организациями по единому (котловому) тарифу",null,null,{"$f":"I66+K66+L66+M66","v":44.669629999999998},null,null,null,{"$f":"L59+L62","v":32.234967999999995},{"$f":"M59+M62","v":12.434661999999999},{"$f":"O66+Q66+R66+S66","v":23.137528999999997},null,null,null,{"$f":"R59+R62","v":16.328364999999998},{"$f":"S59+S62","v":6.809164},{"$f":"U66+W66+X66+Y66","v":21.532100999999997},null,null,null,{"$f":"X59+X62","v":15.906602999999999},{"$f":"Y59+Y62","v":5.6254980000000003},{"$f":"AA66+AC66+AD66+AE66","v":7.2846754729288978},null,null,null,{"$f":"AD59+AD62","v":5.2568440965427268},{"$f":"AE59+AE62","v":2.0278313763861706},{"$f":"AG66+AI66+AJ66+AK66","v":7.2846754729288978},null,null,null,{"$f":"AJ59+AJ62","v":5.2568440965427268},{"$f":"AK59+AK62","v":2.0278313763861706},{"$f":"AM66+AO66+AP66+AQ66","v":0},null,null,null,null,null,{"$f":"AS66+AU66+AV66+AW66","v":43.476300000000002},null,null,null,{"$f":"AV59+AV62","v":31.65146},{"$f":"AW59+AW62","v":11.824840000000002},{"$f":"AY66+BA66+BB66+BC66","v":21.97494},null,null,null,{"$f":"BB59+BB62","v":15.388310000000001},{"$f":"BC59+BC62","v":6.5866300000000004},{"$f":"BE66+BG66+BH66+BI66","v":21.501359999999998},null,null,null,{"$f":"BH59+BH62","v":16.26315},{"$f":"BI59+BI62","v":5.2382099999999996},{"$f":"BK66+BM66+BN66+BO66","v":0},null,null,null,null,null,{"$f":"BQ66+BS66+BT66+BU66","v":0},null,null,null,null,null,{"$f":"BW66+BY66+BZ66+CA66","v":0},null,null,null,null,null,{"$f":"CC66+CE66+CF66+CG66","v":44.678000000000004},null,null,null,{"$f":"CF56","v":32.239000000000004},{"$f":"CG56","v":12.438999999999998},{"$f":"CI66+CK66+CL66+CM66","v":23.143000000000001},null,null,null,{"$f":"CL56","v":16.331},{"$f":"CM56","v":6.8119999999999994},{"$f":"CO66+CQ66+CR66+CS66","v":21.535},null,null,null,{"$f":"CR56","v":15.907999999999999},{"$f":"CS56","v":5.6269999999999998},{"$f":"CU66+CW66+CX66+CY66","v":0},null,null,null,null,null,{"$f":"DA66+DC66+DD66+DE66","v":0},null,null,null,null,null,{"$f":"DG66+DI66+DJ66+DK66","v":0}]
[null,null,null,"6","Небаланс",null,null,{"$f":"I67+K67+L67+M67","v":3.0000000066365828E-6},{"$f":"I17+I34-H35-I38-I45-I48","v":-1.7763568394002505E-15},null,{"$f":"K17+K34-H36-K38-K45-K48","v":0},{"$f":"L17+L34-H37-L38-L45-L48","v":0},{"$f":"M17+M34-M38-M45-M48","v":3.0000000084129397E-6},{"$f":"O67+Q67+R67+S67","v":2.9999999948404632E-6},{"$f":"O17+O34-N35-O38-O45-O48","v":6.3837823915946501E-16},null,{"$f":"Q17+Q34-N36-Q38-Q45-Q48","v":0},{"$f":"R17+R34-N37-R38-R45-R48","v":0},{"$f":"S17+S34-S38-S45-S48","v":2.999999994202085E-6},{"$f":"U67+W67+X67+Y67","v":-6.106226635438361E-16},{"$f":"U17+U34-T35-U38-U45-U48","v":-6.106226635438361E-16},null,{"$f":"W17+W34-T36-W38-W45-W48","v":0},{"$f":"X17+X34-T37-X38-X45-X48","v":0},{"$f":"Y17+Y34-Y38-Y45-Y48","v":0},{"$f":"AA67+AC67+AD67+AE67","v":4.8923679200896242E-7},{"$f":"AA17+AA34-Z35-AA38-AA45-AA48","v":4.163336342344337E-17},null,{"$f":"AC17+AC34-Z36-AC38-AC45-AC48","v":0},{"$f":"AD17+AD34-Z37-AD38-AD45-AD48","v":0},{"$f":"AE17+AE34-AE38-AE45-AE48","v":4.8923679196732905E-7},{"$f":"AG67+AI67+AJ67+AK67","v":4.8923679200896242E-7},{"$f":"AG17+AG34-AF35-AG38-AG45-AG48","v":4.163336342344337E-17},null,{"$f":"AI17+AI34-AF36-AI38-AI45-AI48","v":0},{"$f":"AJ17+AJ34-AF37-AJ38-AJ45-AJ48","v":0},{"$f":"AK17+AK34-AK38-AK45-AK48","v":4.8923679196732905E-7},null,null,null,null,null,null,{"$f":"AS67+AU67+AV67+AW67","v":-1.8100000000103589E-3},{"$f":"AS17+AS34-AR35-AS38-AS45-AS48","v":-7.2164496600635175E-16},null,{"$f":"AU17+AU34-AR36-AU38-AU45-AU48","v":0},{"$f":"AV17+AV34-AR37-AV38-AV45-AV48","v":0},{"$f":"AW17+AW34-AW38-AW45-AW48","v":-1.8100000000096372E-3},{"$f":"AY67+BA67+BB67+BC67","v":-1.4499999999969815E-3},{"$f":"AY17+AY34-AX35-AY38-AY45-AY48","v":-3.6082248300317588E-16},null,{"$f":"BA17+BA34-AX36-BA38-BA45-BA48","v":0},{"$f":"BB17+BB34-AX37-BB38-BB45-BB48","v":0},{"$f":"BC17+BC34-BC38-BC45-BC48","v":-1.4499999999966207E-3},{"$f":"BE67+BG67+BH67+BI67","v":-3.5999999999739019E-4},{"$f":"BE17+BE34-BD35-BE38-BE45-BE48","v":-3.6082248300317588E-16},null,{"$f":"BG17+BG34-BD36-BG38-BG45-BG48","v":0},{"$f":"BH17+BH34-BD37-BH38-BH45-BH48","v":0},{"$f":"BI17+BI34-BI38-BI45-BI48","v":-3.5999999999702936E-4},{"$f":"BK67+BM67+BN67+BO67","v":1.7931173680485711E-3},{"$f":"BK17+BK34-BJ35-BK38-BK45-BK48","v":-1.9775847626135601E-16},null,{"$f":"BM17+BM34-BJ36-BM38-BM45-BM48","v":0},{"$f":"BN17+BN34-BJ37-BN38-BN45-BN48","v":0},{"$f":"BO17+BO34-BO38-BO45-BO48","v":1.7931173680487689E-3},{"$f":"BQ67+BS67+BT67+BU67","v":1.7931173680485711E-3},{"$f":"BQ17+BQ34-BP35-BQ38-BQ45-BQ48","v":-1.9775847626135601E-16},null,{"$f":"BS17+BS34-BP36-BS38-BS45-BS48","v":0},{"$f":"BT17+BT34-BP37-BT38-BT45-BT48","v":0},{"$f":"BU17+BU34-BU38-BU45-BU48","v":1.7931173680487689E-3},null,null,null,null,null,null,{"$f":"CC67+CE67+CF67+CG67","v":-8.2250000000101964E-3},{"$f":"CC17+CC34-CB35-CC38-CC45-CC48","v":1.7208456881689926E-15},null,{"$f":"CE17+CE34-CB36-CE38-CE45-CE48","v":0},{"$f":"CF17+CF34-CB37-CF38-CF45-CF48","v":0},{"$f":"CG17+CG34-CG38-CG45-CG48","v":-8.2250000000119172E-3},{"$f":"CI67+CK67+CL67+CM67","v":-4.9949999999999439E-3},{"$f":"CI17+CI34-CH35-CI38-CI45-CI48","v":-7.4940054162198066E-16},null,{"$f":"CK17+CK34-CH36-CK38-CK45-CK48","v":0},{"$f":"CL17+CL34-CH37-CL38-CL45-CL48","v":0},{"$f":"CM17+CM34-CM38-CM45-CM48","v":-4.9949999999991945E-3},{"$f":"CO67+CQ67+CR67+CS67","v":-3.2300000000013707E-3},{"$f":"CO17+CO34-CN35-CO38-CO45-CO48","v":6.9388939039072284E-16},null,{"$f":"CQ17+CQ34-CN36-CQ38-CQ45-CQ48","v":0},{"$f":"CR17+CR34-CN37-CR38-CR45-CR48","v":0},{"$f":"CS17+CS34-CS38-CS45-CS48","v":-3.2300000000020646E-3},{"$f":"CU67+CW67+CX67+CY67","v":-4.8697246436939234E-4},{"$f":"CU17+CU34-CT35-CU38-CU45-CU48","v":6.9388939039072284E-17},null,{"$f":"CW17+CW34-CT36-CW38-CW45-CW48","v":0},{"$f":"CX17+CX34-CT37-CX38-CX45-CX48","v":0},{"$f":"CY17+CY34-CY38-CY45-CY48","v":-4.8697246436946173E-4},{"$f":"DA67+DC67+DD67+DE67","v":-4.8697246436939234E-4},{"$f":"DA17+DA34-CZ35-DA38-DA45-DA48","v":6.9388939039072284E-17},null,{"$f":"DC17+DC34-CZ36-DC38-DC45-DC48","v":0},{"$f":"DD17+DD34-CZ37-DD38-DD45-DD48","v":0},{"$f":"DE17+DE34-DE38-DE45-DE48","v":-4.8697246436946173E-4}]

{"sheet":"П1.3","index":8,"n_rows":29,"n_cols":221,"rows_kept":29,"cut":false,"hidden":false,"merged":[[11,173,11,178],[11,179,11,184],[11,191,11,196],[11,197,11,202],[7,185,7,190],[7,203,7,208],[10,167,10,184],[10,185,10,202],[11,161,11,166],[9,119,9,124],[9,137,9,142],[10,149,10,166],[9,107,9,112],[11,137,11,142],[11,5,11,10],[11,23,11,28],[7,149,7,154],[7,167,7,172],[9,59,9,64],[11,155,11,160],[11,101,11,106],[11,95,11,100],[7,5,7,10],[7,23,7,28],[7,41,7,46],[7,59,7,64],[10,59,10,76],[11,59,11,64],[11,41,11,46],[11,47,11,52],[11,53,11,58],[11,65,11,70],[11,29,11,34],[11,35,11,40],[10,23,10,40],[10,41,10,58],[6,3,6,220],[11,119,11,124],[9,71,9,76],[11,107,11,112],[9,113,9,118],[9,131,9,136],[10,3,12,3],[10,4,12,4],[10,5,10,22],[9,65,9,70],[9,125,9,130],[9,77,9,82],[9,101,9,106],[9,83,9,88],[9,89,9,94],[11,11,11,16],[11,17,11,22],[11,185,11,190],[11,149,11,154],[11,131,11,136],[11,143,11,148],[11,167,11,172],[11,113,11,118],[11,89,11,94],[11,125,11,130],[11,71,11,76],[1,59,1,220],[11,209,11,214],[11,215,11,220],[11,203,11,208],[9,143,9,148],[9,95,9,100],[10,203,10,220],[10,77,10,148],[11,77,11,82],[11,83,11,88]]}
[]
[]
[]
[]
[]
[]
[null,null,null,"Расчёт технологического расхода электрической энергии (потерь) в электрических сетях (в том числе при наличии приказа Минэнерго России об утверждении нормативов технологического расхода)"]
[null,null,null,null,null,"-",null,null,null,null,null,null,null,null,null,null,null,null,null,null,null,null,null,"-",null,null,null,null,null,null,null,null,null,null,null,null,null,null,null,null,null,"-",null,null,null,null,null,null,null,null,null,null,null,null,null,null,null,null,null,"-",null,null,null,null,null,null,null,null,null,null,null,null,null,null,null,null,null,null,null,null,null,null,null,null,null,null,null,null,null,null,null,null,null,null,null,null,null,null,null,null,null,null,null,null,null,null,null,null,null,null,null,null,null,null,null,null,null,null,null,null,null,null,null,null,null,null,null,null,null,null,null,null,null,null,null,null,null,null,null,null,null,null,null,null,null,null,null,null,null,"-",null,null,null,null,null,null,null,null,null,null,null,null,null,null,null,null,null,"-",null,null,null,null,null,null,null,null,null,null,null,null,null,null,null,null,null,"-",null,null,null,null,null,null,null,null,null,null,null,null,null,null,null,null,null,"-"]
[]
[null,null,null,null,"млн. кВтч",null,null,null,null,null,null,null,null,null,null,null,null,null,null,null,null,null,null,null,null,null,null,null,null,null,null,null,null,null,null,null,null,null,null,null,null,null,null,null,null,null,null,null,null,null,null,null,null,null,null,null,null,null,null,"-",null,null,null,null,null,"I",null,null,null,null,null,"II",null,null,null,null,null,1,null,null,null,null,null,2,null,null,null,null,null,3,null,null,null,null,null,4,null,null,null,null,null,5,null,null,null,null,null,6,null,null,null,null,null,7,null,null,null,null,null,8,null,null,null,null,null,9,null,null,null,null,null,10,null,null,null,null,null,11,null,null,null,null,null,12]
[null,null,null,"№ п/п","Показатели",{"$f":"\"План \" & IF(god=\"\",\"Не определено\",god-2) & \" год\"","v":"План 2013 год"},null,null,null,null,null,null,null,null,null,null,null,null,null,null,null,null,null,{"$f":"\"Факт \" & IF(god=\"\",\"Не определено\",god-2) & \" год\"","v":"Факт 2013 год"},null,null,null,null,null,null,null,null,null,null,null,null,null,null,null,null,null,{"$f":"\"План \" & IF(god=\"\",\"Не определено\",god-1) & \" год\"","v":"План 2014 год"},null,null,null,null,null,null,null,null,null,null,null,null,null,null,null,null,null,{"$f":"\"План \" & IF(god=\"\",\"Не определено\",god) & \" год\"","v":"План 2015 год"},null,null,null,null,null,null,null,null,null,null,null,null,null,null,null,null,null,{"$f":"\"План \" & IF(god=\"\",\"Не определено\",god) & \" год\"","v":"План 2015 год"},null,null,null,null,null,null,null,null,null,null,null,null,null,null,null,null,null,null,null,null,null,null,null,null,null,null,null,null,null,null,null,null,null,null,null,null,null,null,null,null,null,null,null,null,null,null,null,null,null,null,null,null,null,null,null,null,null,null,null,null,null,null,null,null,null,null,null,null,null,null,null,{"$f":"\"План \" & IF(god=\"\",\"Не определено\",god+1) & \" год\"","v":"План 2016 год"},null,null,null,null,null,null,null,null,null,null,null,null,null,null,null,null,null,{"$f":"\"План \" & IF(god=\"\",\"Не определено\",god+2) & \" год\"","v":"План 2017 год"},null,null,null,null,null,null,null,null,null,null,null,null,null,null,null,null,null,{"$f":"\"План \" & IF(god=\"\",\"Не определено\",god+3) & \" год\"","v":"План 2018 год"},null,null,null,null,null,null,null,null,null,null,null,null,null,null,null,null,null,{"$f":"\"План \" & IF(god=\"\",\"Не определено\",god+4) & \" год\"","v":"План 2019 год"}]
[null,null,null,null,null,"За год",null,null,null,null,null,"I полугодие",null,null,null,null,null,"II полугодие",null,null,null,null,null,"За год",null,null,null,null,null,"I полугодие",null,null,null,null,null,"II полугодие",null,null,null,null,null,"За год",null,null,null,null,null,"I полугодие",null,null,null,null,null,"II полугодие",null,null,null,null,null,"За год",null,null,null,null,null,"I полугодие",null,null,null,null,null,"II полугодие",null,null,null,null,null,"Январь",null,null,null,null,null,"Февраль",null,null,null,null,null,"Март",null,null,null,null,null,"Апрель",null,null,null,null,null,"Май",null,null,null,null,null,"Июнь",null,null,null,null,null,"Июль",null,null,null,null,null,"Август",null,null,null,null,null,"Сентябрь",null,null,null,null,null,"Октябрь",null,null,null,null,null,"Ноябрь",null,null,null,null,null,"Декабрь",null,null,null,null,null,"За год",null,null,null,null,null,"I полугодие",null,null,null,null,null,"II полугодие",null,null,null,null,null,"За год",null,null,null,null,null,"I полугодие",null,null,null,null,null,"II полугодие",null,null,null,null,null,"За год",null,null,null,null,null,"I полугодие",null,null,null,null,null,"II полугодие",null,null,null,null,null,"За год",null,null,null,null,null,"I полугодие",null,null,null,null,null,"II полугодие"]
[null,null,null,null,null,"Всего","ВН",null,"СН 1","СН 2","НН","Всего","ВН",null,"СН 1","СН 2","НН","Всего","ВН",null,"СН 1","СН 2","НН","Всего","ВН",null,"СН 1","СН 2","НН","Всего","ВН",null,"СН 1","СН 2","НН","Всего","ВН",null,"СН 1","СН 2","НН","Всего","ВН",null,"СН 1","СН 2","НН","Всего","ВН",null,"СН 1","СН 2","НН","Всего","ВН",null,"СН 1","СН 2","НН","Всего","ВН",null,"СН 1","СН 2","НН","Всего","ВН",null,"СН 1","СН 2","НН","Всего","ВН",null,"СН 1","СН 2","НН","Всего","ВН",null,"СН 1","СН 2","НН","Всего","ВН",null,"СН 1","СН 2","НН","Всего","ВН",null,"СН 1","СН 2","НН","Всего","ВН",null,"СН 1","СН 2","НН","Всего","ВН",null,"СН 1","СН 2","НН","Всего","ВН",null,"СН 1","СН 2","НН","Всего","ВН",null,"СН 1","СН 2","НН","Всего","ВН",null,"СН 1","СН 2","НН","Всего","ВН",null,"СН 1","СН 2","НН","Всего","ВН",null,"СН 1","СН 2","НН","Всего","ВН",null,"СН 1","СН 2","НН","Всего","ВН",null,"СН 1","СН 2","НН","Всего","ВН",null,"СН 1","СН 2","НН","Всего","ВН",null,"СН 1","СН 2","НН","Всего","ВН",null,"СН 1","СН 2","НН","Всего","ВН",null,"СН 1","СН 2","НН","Всего","ВН",null,"СН 1","СН 2","НН","Всего","ВН",null,"СН 1","СН 2","НН","Всего","ВН",null,"СН 1","СН 2","НН","Всего","ВН",null,"СН 1","СН 2","НН","Всего","ВН",null,"СН 1","СН 2","НН","Всего","ВН",null,"СН 1","СН 2","НН","Всего","ВН",null,"СН 1","СН 2","НН","Всего","ВН",null,"СН 1","СН 2","НН"]
[]
[null,null,null,"1","Условно-постоянные потери",{"$f":"SUM(F16:F25)","v":0},{"$f":"SUM(G16:G25)","v":0},null,{"$f":"SUM(I16:I25)","v":0},{"$f":"SUM(J16:J25)","v":0},{"$f":"SUM(K16:K25)","v":0},{"$f":"SUM(L16:L25)","v":0},{"$f":"SUM(M16:M25)","v":0},null,{"$f":"SUM(O16:O25)","v":0},{"$f":"SUM(P16:P25)","v":0},{"$f":"SUM(Q16:Q25)","v":0},{"$f":"SUM(R16:R25)","v":0},{"$f":"SUM(S16:S25)","v":0},null,{"$f":"SUM(U16:U25)","v":0},{"$f":"SUM(V16:V25)","v":0},{"$f":"SUM(W16:W25)","v":0},{"$f":"SUM(X16:X25)","v":0},{"$f":"SUM(Y16:Y25)","v":0},null,{"$f":"SUM(AA16:AA25)","v":0},{"$f":"SUM(AB16:AB25)","v":0},{"$f":"SUM(AC16:AC25)","v":0},{"$f":"SUM(AD16:AD25)","v":0},{"$f":"SUM(AE16:AE25)","v":0},null,{"$f":"SUM(AG16:AG25)","v":0},{"$f":"SUM(AH16:AH25)","v":0},{"$f":"SUM(AI16:AI25)","v":0},{"$f":"SUM(AJ16:AJ25)","v":0},{"$f":"SUM(AK16:AK25)","v":0},null,{"$f":"SUM(AM16:AM25)","v":0},{"$f":"SUM(AN16:AN25)","v":0},{"$f":"SUM(AO16:AO25)","v":0},{"$f":"SUM(AP16:AP25)","v":0},{"$f":"SUM(AQ16:AQ25)","v":0},null,{"$f":"SUM(AS16:AS25)","v":0},{"$f":"SUM(AT16:AT25)","v":0},{"$f":"SUM(AU16:AU25)","v":0},{"$f":"SUM(AV16:AV25)","v":0},{"$f":"SUM(AW16:AW25)","v":0},null,{"$f":"SUM(AY16:AY25)","v":0},{"$f":"SUM(AZ16:AZ25)","v":0},{"$f":"SUM(BA16:BA25)","v":0},{"$f":"SUM(BB16:BB25)","v":0},{"$f":"SUM(BC16:BC25)","v":0},null,{"$f":"SUM(BE16:BE25)","v":0},{"$f":"SUM(BF16:BF25)","v":0},{"$f":"SUM(BG16:BG25)","v":0},{"$f":"SUM(BH16:BH25)","v":0},{"$f":"SUM(BI16:BI25)","v":0},null,{"$f":"SUM(BK16:BK25)","v":0},{"$f":"SUM(BL16:BL25)","v":0},{"$f":"SUM(BM16:BM25)","v":0},{"$f":"SUM(BN16:BN25)","v":0},{"$f":"SUM(BO16:BO25)","v":0},null,{"$f":"SUM(BQ16:BQ25)","v":0},{"$f":"SUM(BR16:BR25)","v":0},{"$f":"SUM(BS16:BS25)","v":0},{"$f":"SUM(BT16:BT25)","v":0},{"$f":"SUM(BU16:BU25)","v":0},null,{"$f":"SUM(BW16:BW25)","v":0},{"$f":"SUM(BX16:BX25)","v":0},{"$f":"SUM(BY16:BY25)","v":0},{"$f":"SUM(BZ16:BZ25)","v":0},{"$f":"SUM(CA16:CA25)","v":0},null,{"$f":"SUM(CC16:CC25)","v":0},{"$f":"SUM(CD16:CD25)","v":0},{"$f":"SUM(CE16:CE25)","v":0},{"$f":"SUM(CF16:CF25)","v":0},{"$f":"SUM(CG16:CG25)","v":0},null,{"$f":"SUM(CI16:CI25)","v":0},{"$f":"SUM(CJ16:CJ25)","v":0},{"$f":"SUM(CK16:CK25)","v":0},{"$f":"SUM(CL16:CL25)","v":0},{"$f":"SUM(CM16:CM25)","v":0},null,{"$f":"SUM(CO16:CO25)","v":0},{"$f":"SUM(CP16:CP25)","v":0},{"$f":"SUM(CQ16:CQ25)","v":0},{"$f":"SUM(CR16:CR25)","v":0},{"$f":"SUM(CS16:CS25)","v":0},null,{"$f":"SUM(CU16:CU25)","v":0},{"$f":"SUM(CV16:CV25)","v":0},{"$f":"SUM(CW16:CW25)","v":0},{"$f":"SUM(CX16:CX25)","v":0},{"$f":"SUM(CY16:CY25)","v":0},null,{"$f":"SUM(DA16:DA25)","v":0},{"$f":"SUM(DB16:DB25)","v":0},{"$f":"SUM(DC16:DC25)","v":0},{"$f":"SUM(DD16:DD25)","v":0},{"$f":"SUM(DE16:DE25)","v":0},null,{"$f":"SUM(DG16:DG25)","v":0},{"$f":"SUM(DH16:DH25)","v":0},{"$f":"SUM(DI16:DI25)","v":0},{"$f":"SUM(DJ16:DJ25)","v":0},{"$f":"SUM(DK16:DK25)","v":0},null,{"$f":"SUM(DM16:DM25)","v":0},{"$f":"SUM(DN16:DN25)","v":0},{"$f":"SUM(DO16:DO25)","v":0},{"$f":"SUM(DP16:DP25)","v":0},{"$f":"SUM(DQ16:DQ25)","v":0},null,{"$f":"SUM(DS16:DS25)","v":0},{"$f":"SUM(DT16:DT25)","v":0},{"$f":"SUM(DU16:DU25)","v":0},{"$f":"SUM(DV16:DV25)","v":0},{"$f":"SUM(DW16:DW25)","v":0},null,{"$f":"SUM(DY16:DY25)","v":0},{"$f":"SUM(DZ16:DZ25)","v":0},{"$f":"SUM(EA16:EA25)","v":0},{"$f":"SUM(EB16:EB25)","v":0},{"$f":"SUM(EC16:EC25)","v":0},null,{"$f":"SUM(EE16:EE25)","v":0},{"$f":"SUM(EF16:EF25)","v":0},{"$f":"SUM(EG16:EG25)","v":0},{"$f":"SUM(EH16:EH25)","v":0},{"$f":"SUM(EI16:EI25)","v":0},null,{"$f":"SUM(EK16:EK25)","v":0},{"$f":"SUM(EL16:EL25)","v":0},{"$f":"SUM(EM16:EM25)","v":0},{"$f":"SUM(EN16:EN25)","v":0},{"$f":"SUM(EO16:EO25)","v":0},null,{"$f":"SUM(EQ16:EQ25)","v":0},{"$f":"SUM(ER16:ER25)","v":0},{"$f":"SUM(ES16:ES25)","v":0},{"$f":"SUM(ET16:ET25)","v":0},{"$f":"SUM(EU16:EU25)","v":0},null,{"$f":"SUM(EW16:EW25)","v":0},{"$f":"SUM(EX16:EX25)","v":0},{"$f":"SUM(EY16:EY25)","v":0},{"$f":"SUM(EZ16:EZ25)","v":0},{"$f":"SUM(FA16:FA25)","v":0},null,{"$f":"SUM(FC16:FC25)","v":0},{"$f":"SUM(FD16:FD25)","v":0},{"$f":"SUM(FE16:FE25)","v":0},{"$f":"SUM(FF16:FF25)","v":0},{"$f":"SUM(FG16:FG25)","v":0},null,{"$f":"SUM(FI16:FI25)","v":0},{"$f":"SUM(FJ16:FJ25)","v":0},{"$f":"SUM(FK16:FK25)","v":0},{"$f":"SUM(FL16:FL25)","v":0},{"$f":"SUM(FM16:FM25)","v":0},null,{"$f":"SUM(FO16:FO25)","v":0},{"$f":"SUM(FP16:FP25)","v":0},{"$f":"SUM(FQ16:FQ25)","v":0},{"$f":"SUM(FR16:FR25)","v":0},{"$f":"SUM(FS16:FS25)","v":0},null,{"$f":"SUM(FU16:FU25)","v":0},{"$f":"SUM(FV16:FV25)","v":0},{"$f":"SUM(FW16:FW25)","v":0},{"$f":"SUM(FX16:FX25)","v":0},{"$f":"SUM(FY16:FY25)","v":0},null,{"$f":"SUM(GA16:GA25)","v":0},{"$f":"SUM(GB16:GB25)","v":0},{"$f":"SUM(GC16:GC25)","v":0},{"$f":"SUM(GD16:GD25)","v":0},{"$f":"SUM(GE16:GE25)","v":0},null,{"$f":"SUM(GG16:GG25)","v":0},{"$f":"SUM(GH16:GH25)","v":0},{"$f":"SUM(GI16:GI25)","v":0},{"$f":"SUM(GJ16:GJ25)","v":0},{"$f":"SUM(GK16:GK25)","v":0},null,{"$f":"SUM(GM16:GM25)","v":0},{"$f":"SUM(GN16:GN25)","v":0},{"$f":"SUM(GO16:GO25)","v":0},{"$f":"SUM(GP16:GP25)","v":0},{"$f":"SUM(GQ16:GQ25)","v":0},null,{"$f":"SUM(GS16:GS25)","v":0},{"$f":"SUM(GT16:GT25)","v":0},{"$f":"SUM(GU16:GU25)","v":0},{"$f":"SUM(GV16:GV25)","v":0},{"$f":"SUM(GW16:GW25)","v":0},null,{"$f":"SUM(GY16:GY25)","v":0},{"$f":"SUM(GZ16:GZ25)","v":0},{"$f":"SUM(HA16:HA25)","v":0},{"$f":"SUM(HB16:HB25)","v":0},{"$f":"SUM(HC16:HC25)","v":0},null,{"$f":"SUM(HE16:HE25)","v":0},{"$f":"SUM(HF16:HF25)","v":0},{"$f":"SUM(HG16:HG25)","v":0},{"$f":"SUM(HH16:HH25)","v":0},{"$f":"SUM(HI16:HI25)","v":0},null,{"$f":"SUM(HK16:HK25)","v":0},{"$f":"SUM(HL16:HL25)","v":0},{"$f":"SUM(HM16:HM25)","v":0}]
[null,null,null,"1.1","Потери электроэнергии холостого хода в силовом\nтрансформаторе (автотрансформаторе) ",{"$f":"G16+I16+J16+K16","v":0},null,null,null,null,null,{"$f":"M16+O16+P16+Q16","v":0},null,null,null,null,null,{"$f":"S16+U16+V16+W16","v":0},null,null,null,null,null,{"$f":"Y16+AA16+AB16+AC16","v":0},null,null,null,null,null,{"$f":"AE16+AG16+AH16+AI16","v":0},null,null,null,null,null,{"$f":"AK16+AM16+AN16+AO16","v":0},null,null,null,null,null,{"$f":"AQ16+AS16+AT16+AU16","v":0},{"$f":"AW16+BC16","v":0},null,{"$f":"AY16+BE16","v":0},0,0,{"$f":"AW16+AY16+AZ16+BA16","v":0},null,null,null,null,null,{"$f":"BC16+BE16+BF16+BG16","v":0},null,null,null,null,null,{"$f":"BI16+BK16+BL16+BM16","v":0},{"$f":"BO16+BU16","v":0},null,{"$f":"BQ16+BW16","v":0},0,0,{"$f":"BO16+BQ16+BR16+BS16","v":0},{"$f":"IF($BI$29=0,0,CA16+CG16+CM16+CS16+CY16+DE16)","v":0},null,{"$f":"IF($BK$29=0,0,CC16+CI16+CO16+CU16+DA16+DG16)","v":0},{"$f":"IF($BK$29=0,0,CD16+CJ16+CP16+CV16+DB16+DH16)","v":0},{"$f":"IF($BK$29=0,0,CE16+CK16+CQ16+CW16+DC16+DI16)","v":0},{"$f":"BU16+BW16+BX16+BY16","v":0},{"$f":"IF($BI$29=0,0,DK16+DQ16+DW16+EC16+EI16+EQ16)","v":0},null,{"$f":"IF($BK$29=0,0,DM16+DS16+DY16+EE16+EK16+EQ16)","v":0},{"$f":"IF($BK$29=0,0,DN16+DT16+DZ16+EF16+EL16+ER16)","v":0},0,{"$f":"CA16+CC16+CD16+CE16","v":0},null,null,null,null,null,{"$f":"CG16+CI16+CJ16+CK16","v":0},null,null,null,null,null,{"$f":"CM16+CO16+CP16+CQ16","v":0},null,null,null,null,null,{"$f":"CS16+CU16+CV16+CW16","v":0},null,null,null,null,null,{"$f":"CY16+DA16+DB16+DC16","v":0},null,null,null,null,null,{"$f":"DE16+DG16+DH16+DI16","v":0},null,null,null,null,null,{"$f":"DK16+DM16+DN16+DO16","v":0},null,null,null,null,null,{"$f":"DQ16+DS16+DT16+DU16","v":0},null,null,null,null,null,{"$f":"DW16+DY16+DZ16+EA16","v":0},null,null,null,null,null,{"$f":"EC16+EE16+EF16+EG16","v":0},null,null,null,null,null,{"$f":"EI16+EK16+EL16+EM16","v":0},null,null,null,null,null,{"$f":"EO16+EQ16+ER16+ES16","v":0},null,null,null,null,null,{"$f":"EU16+EW16+EX16+EY16","v":0},null,null,null,null,null,{"$f":"FA16+FC16+FD16+FE16","v":0},null,null,null,null,null,{"$f":"FG16+FI16+FJ16+FK16","v":0},null,null,null,null,null,{"$f":"FM16+FO16+FP16+FQ16","v":0},null,null,null,null,null,{"$f":"FS16+FU16+FV16+FW16","v":0},null,null,null,null,null,{"$f":"FY16+GA16+GB16+GC16","v":0},null,null,null,null,null,{"$f":"GE16+GG16+GH16+GI16","v":0},null,null,null,null,null,{"$f":"GK16+GM16+GN16+GO16","v":0},null,null,null,null,null,{"$f":"GQ16+GS16+GT16+GU16","v":0},null,null,null,null,null,{"$f":"GW16+GY16+GZ16+HA16","v":0},null,null,null,null,null,{"$f":"HC16+HE16+HF16+HG16","v":0},null,null,null,null,null,{"$f":"HI16+HK16+HL16+HM16","v":0}]
[null,null,null,"1.2","Потери электроэнергии в шунтирующих реакторах (ШР), соединительных проводах и сборных шинах распределительных устройств подстанций (СППС)",{"$f":"G17+I17+J17+K17","v":0},null,null,null,null,null,{"$f":"M17+O17+P17+Q17","v":0},null,null,null,null,null,{"$f":"S17+U17+V17+W17","v":0},null,null,null,null,null,{"$f":"Y17+AA17+AB17+AC17","v":0},null,null,null,null,null,{"$f":"AE17+AG17+AH17+AI17","v":0},null,null,null,null,null,{"$f":"AK17+AM17+AN17+AO17","v":0},null,null,null,null,null,{"$f":"AQ17+AS17+AT17+AU17","v":0},0,null,0,0,0,{"$f":"AW17+AY17+AZ17+BA17","v":0},null,null,null,null,null,{"$f":"BC17+BE17+BF17+BG17","v":0},null,null,null,null,null,{"$f":"BI17+BK17+BL17+BM17","v":0},0,null,0,0,0,{"$f":"BO17+BQ17+BR17+BS17","v":0},{"$f":"IF($BI$29=0,0,CA17+CG17+CM17+CS17+CY17+DE17)","v":0},null,{"$f":"IF($BK$29=0,0,CC17+CI17+CO17+CU17+DA17+DG17)","v":0},0,0,{"$f":"BU17+BW17+BX17+BY17","v":0},{"$f":"IF($BI$29=0,0,DK17+DQ17+DW17+EC17+EI17+EQ17)","v":0},null,{"$f":"IF($BK$29=0,0,DM17+DS17+DY17+EE17+EK17+EQ17)","v":0},0,0,{"$f":"CA17+CC17+CD17+CE17","v":0},null,null,null,null,null,0,null,null,null,null,null,0,null,null,null,null,null,0,null,null,null,null,null,0,null,null,null,null,null,0,null,null,null,null,null,0,null,null,null,null,null,0,null,null,null,null,null,0,null,null,null,null,null,0,null,null,null,null,null,0,null,null,null,null,null,0,null,null,null,null,null,{"$f":"EU17+EW17+EX17+EY17","v":0},null,null,null,null,null,{"$f":"FA17+FC17+FD17+FE17","v":0},null,null,null,null,null,{"$f":"FG17+FI17+FJ17+FK17","v":0},null,null,null,null,null,{"$f":"FM17+FO17+FP17+FQ17","v":0},null,null,null,null,null,{"$f":"FS17+FU17+FV17+FW17","v":0},null,null,null,null,null,{"$f":"FY17+GA17+GB17+GC17","v":0},null,null,null,null,null,0,null,null,null,null,null,0,null,null,null,null,null,0,null,null,null,null,null,0,null,null,null,null,null,0,null,null,null,null,null,0]
[null,null,null,"1.3","Потери электроэнергии в синхронных компенсаторах",0,null,null,null,null,null,0,null,null,null,null,null,0,null,null,null,null,null,0,null,null,null,null,null,0,null,null,null,null,null,0,null,null,null,null,null,0,0,null,0,0,0,0,null,null,null,null,null,0,null,null,null,null,null,0,0,null,0,0,0,0,{"$f":"IF($BI$29=0,0,CA18+CG18+CM18+CS18+CY18+DE18)","v":0},null,0,0,0,0,0,null,0,0,0,0,null,null,null,null,null,0,null,null,null,null,null,0,null,null,null,null,null,0,null,null,null,null,null,0,null,null,null,null,null,0,null,null,null,null,null,0,null,null,null,null,null,0,null,null,null,null,null,0,null,null,null,null,null,0,null,null,null,null,null,0,null,null,null,null,null,0,null,null,null,null,null,0,null,null,null,null,null,0,null,null,null,null,null,0,null,null,null,null,null,0,null,null,null,null,null,0,null,null,null,null,null,0,null,null,null,null,null,0,null,null,null,null,null,0,null,null,null,null,null,0,null,null,null,null,null,0,null,null,null,null,null,0,null,null,null,null,null,0]
[null,null,null,"1.4","Потери электроэнергии в статических компенсирующих устройствах - батареях статических конденсаторов (БК) и статических тиристорных компенсаторах (СТК)",0,null,null,null,null,null,0,null,null,null,null,null,0,null,null,null,null,null,0,null,null,null,null,null,0,null,null,null,null,null,0,null,null,null,null,null,0,0,null,0,0,0,0,null,null,null,null,null,0,null,null,null,null,null,0,0,null,0,0,0,0,{"$f":"IF($BI$29=0,0,CA19+CG19+CM19+CS19+CY19+DE19)","v":0},null,0,0,0,0,0,null,0,0,0,0,null,null,null,null,null,0,null,null,null,null,null,0,null,null,null,null,null,0,null,null,null,null,null,0,null,null,null,null,null,0,null,null,null,null,null,0,null,null,null,null,null,0,null,null,null,null,null,0,null,null,null,null,null,0,null,null,null,null,null,0,null,null,null,null,null,0,null,null,null,null,null,0,null,null,null,null,null,0,null,null,null,null,null,0,null,null,null,null,null,0,null,null,null,null,null,0,null,null,null,null,null,0,null,null,null,null,null,0,null,null,null,null,null,0,null,null,null,null,null,0,null,null,null,null,null,0,null,null,null,null,null,0,null,null,null,null,null,0]
[null,null,null,"1.5","Потери электроэнергии в вентильных разрядниках (РВ), ограничителях перенапряжений (ОПН), измерительных трансформаторах тока (ТТ) и напряжения (ТН) и устройствах присоединения ВЧ связи (УПВЧ)",0,null,null,null,null,null,0,null,null,null,null,null,0,null,null,null,null,null,0,null,null,null,null,null,0,null,null,null,null,null,0,null,null,null,null,null,0,0,null,0,0,0,0,null,null,null,null,null,0,null,null,null,null,null,0,0,null,0,0,0,0,0,null,0,0,0,0,0,null,0,0,0,0,null,null,null,null,null,0,null,null,null,null,null,0,null,null,null,null,null,0,null,null,null,null,null,0,null,null,null,null,null,0,null,null,null,null,null,0,null,null,null,null,null,0,null,null,null,null,null,0,null,null,null,null,null,0,null,null,null,null,null,0,null,null,null,null,null,0,null,null,null,null,null,0,null,null,null,null,null,0,null,null,null,null,null,0,null,null,null,null,null,0,null,null,null,null,null,0,null,null,null,null,null,0,null,null,null,null,null,0,null,null,null,null,null,0,null,null,null,null,null,0,null,null,null,null,null,0,null,null,null,null,null,0,null,null,null,null,null,0]
[null,null,null,"1.6","Потери электроэнергии на корону",0,null,null,null,null,null,0,null,null,null,null,null,0,null,null,null,null,null,0,null,null,null,null,null,0,null,null,null,null,null,0,null,null,null,null,null,0,0,null,0,0,0,0,null,null,null,null,null,0,null,null,null,null,null,0,0,null,0,0,0,0,0,null,0,0,0,0,0,null,0,0,0,0,null,null,null,null,null,0,null,null,null,null,null,0,null,null,null,null,null,0,null,null,null,null,null,0,null,null,null,null,null,0,null,null,null,null,null,0,null,null,null,null,null,0,null,null,null,null,null,0,null,null,null,null,null,0,null,null,null,null,null,0,null,null,null,null,null,0,null,null,null,null,null,0,null,null,null,null,null,0,null,null,null,null,null,0,null,null,null,null,null,0,null,null,null,null,null,0,null,null,null,null,null,0,null,null,null,null,null,0,null,null,null,null,null,0,null,null,null,null,null,0,null,null,null,null,null,0,null,null,null,null,null,0,null,null,null,null,null,0]
[null,null,null,"1.7","Потери электроэнергии от токов утечки по изоляторам воздушных линий",0,null,null,null,null,null,0,null,null,null,null,null,0,null,null,null,null,null,0,null,null,null,null,null,0,null,null,null,null,null,0,null,null,null,null,null,0,0,null,0,0,0,0,null,null,null,null,null,0,null,null,null,null,null,0,0,null,0,0,0,0,0,null,0,0,0,0,0,null,0,0,0,0,null,null,null,null,null,0,null,null,null,null,null,0,null,null,null,null,null,0,null,null,null,null,null,0,null,null,null,null,null,0,null,null,null,null,null,0,null,null,null,null,null,0,null,null,null,null,null,0,null,null,null,null,null,0,null,null,null,null,null,0,null,null,null,null,null,0,null,null,null,null,null,0,null,null,null,null,null,0,null,null,null,null,null,0,null,null,null,null,null,0,null,null,null,null,null,0,null,null,null,null,null,0,null,null,null,null,null,0,null,null,null,null,null,0,null,null,null,null,null,0,null,null,null,null,null,0,null,null,null,null,null,0,null,null,null,null,null,0]
[null,null,null,"1.8","Расход электроэнергии на плавку гололеда",0,null,null,null,null,null,0,null,null,null,null,null,0,null,null,null,null,null,0,null,null,null,null,null,0,null,null,null,null,null,0,null,null,null,null,null,0,0,null,0,0,0,0,null,null,null,null,null,0,null,null,null,null,null,0,0,null,0,0,0,0,0,null,0,0,0,0,0,null,0,0,0,0,null,null,null,null,null,0,null,null,null,null,null,0,null,null,null,null,null,0,null,null,null,null,null,0,null,null,null,null,null,0,null,null,null,null,null,0,null,null,null,null,null,0,null,null,null,null,null,0,null,null,null,null,null,0,null,null,null,null,null,0,null,null,null,null,null,0,null,null,null,null,null,0,null,null,null,null,null,0,null,null,null,null,null,0,null,null,null,null,null,0,null,null,null,null,null,0,null,null,null,null,null,0,null,null,null,null,null,0,null,null,null,null,null,0,null,null,null,null,null,0,null,null,null,null,null,0,null,null,null,null,null,0,null,null,null,null,null,0]
[null,null,null,"1.9","Потери электроэнергии в изоляции силовых кабелей",0,null,null,null,null,null,0,null,null,null,null,null,0,null,null,null,null,null,0,null,null,null,null,null,0,null,null,null,null,null,0,null,null,null,null,null,0,0,null,0,0,0,0,null,null,null,null,null,0,null,null,null,null,null,0,0,null,0,0,0,0,0,null,0,0,0,0,0,null,0,0,0,0,null,null,null,null,null,0,null,null,null,null,null,0,null,null,null,null,null,0,null,null,null,null,null,0,null,null,null,null,null,0,null,null,null,null,null,0,null,null,null,null,null,0,null,null,null,null,null,0,null,null,null,null,null,0,null,null,null,null,null,0,null,null,null,null,null,0,null,null,null,null,null,0,null,null,null,null,null,0,null,null,null,null,null,0,null,null,null,null,null,0,null,null,null,null,null,0,null,null,null,null,null,0,null,null,null,null,null,0,null,null,null,null,null,0,null,null,null,null,null,0,null,null,null,null,null,0,null,null,null,null,null,0,null,null,null,null,null,0]
[null,null,null,"1.10","Нагрузочные потери, всего",0,null,null,null,null,null,0,null,null,null,null,null,0,null,null,null,null,null,0,null,null,null,null,null,0,null,null,null,null,null,0,null,null,null,null,null,0,0,null,0,0,0,0,null,null,null,null,null,0,null,null,null,null,null,0,0,null,0,0,0,0,0,null,0,0,0,0,0,null,0,0,0,0,null,null,null,null,null,0,null,null,null,null,null,0,null,null,null,null,null,0,null,null,null,null,null,0,null,null,null,null,null,0,null,null,null,null,null,0,null,null,null,null,null,0,null,null,null,null,null,0,null,null,null,null,null,0,null,null,null,null,null,0,null,null,null,null,null,0,null,null,null,null,null,0,null,null,null,null,null,0,null,null,null,null,null,0,null,null,null,null,null,0,null,null,null,null,null,0,null,null,null,null,null,0,null,null,null,null,null,0,null,null,null,null,null,0,null,null,null,null,null,0,null,null,null,null,null,0,null,null,null,null,null,0,null,null,null,null,null,0]
[null,null,null,"2","Расход электроэнергии на собственные нужды (СН) подстанций",{"$f":"SUM(G26:K26)","v":0},null,null,null,null,null,{"$f":"SUM(M26:Q26)","v":0},null,null,null,null,null,{"$f":"SUM(S26:W26)","v":0},null,null,null,null,null,{"$f":"SUM(Y26:AC26)","v":0},null,null,null,null,null,{"$f":"SUM(AE26:AI26)","v":0},null,null,null,null,null,{"$f":"SUM(AK26:AO26)","v":0},null,null,null,null,null,{"$f":"SUM(AQ26:AU26)","v":0},0,null,0,0,0,{"$f":"SUM(AW26:BA26)","v":0},null,null,null,null,null,{"$f":"SUM(BC26:BG26)","v":0},null,null,null,null,null,{"$f":"SUM(BI26:BM26)","v":0},0,null,0,0,0,{"$f":"SUM(BO26:BS26)","v":0},0,null,0,0,0,{"$f":"SUM(BU26:BY26)","v":0},0,null,0,0,0,{"$f":"SUM(CA26:CE26)","v":0},null,null,null,null,null,{"$f":"SUM(CG26:CK26)","v":0},null,null,null,null,null,{"$f":"SUM(CM26:CQ26)","v":0},null,null,null,null,null,{"$f":"SUM(CS26:CW26)","v":0},null,null,null,null,null,{"$f":"SUM(CY26:DC26)","v":0},null,null,null,null,null,{"$f":"SUM(DE26:DI26)","v":0},null,null,null,null,null,{"$f":"SUM(DK26:DO26)","v":0},null,null,null,null,null,{"$f":"SUM(DQ26:DU26)","v":0},null,null,null,null,null,{"$f":"SUM(DW26:EA26)","v":0},null,null,null,null,null,{"$f":"SUM(EC26:EG26)","v":0},null,null,null,null,null,{"$f":"SUM(EI26:EM26)","v":0},null,null,null,null,null,{"$f":"SUM(EO26:ES26)","v":0},null,null,null,null,null,{"$f":"SUM(EU26:EY26)","v":0},null,null,null,null,null,{"$f":"SUM(FA26:FE26)","v":0},null,null,null,null,null,{"$f":"SUM(FG26:FK26)","v":0},null,null,null,null,null,{"$f":"SUM(FM26:FQ26)","v":0},null,null,null,null,null,{"$f":"SUM(FS26:FW26)","v":0},null,null,null,null,null,{"$f":"SUM(FY26:GC26)","v":0},null,null,null,null,null,{"$f":"SUM(GE26:GI26)","v":0},null,null,null,null,null,{"$f":"SUM(GK26:GO26)","v":0},null,null,null,null,null,{"$f":"SUM(GQ26:GU26)","v":0},null,null,null,null,null,{"$f":"SUM(GW26:HA26)","v":0},null,null,null,null,null,{"$f":"SUM(HC26:HG26)","v":0},null,null,null,null,null,{"$f":"SUM(HI26:HM26)","v":0}]
[null,null,null,null,null,null,null,null,null,null,null,null,null,null,null,null,null,null,null,null,null,null,null,null,null,null,null,null,null,null,null,null,null,null,null,null,null,null,null,null,null,null,null,null,null,null,null,null,null,null,null,null,null,null,null,null,null,null,null,null,null,null,null,null,null,null,null,null,0,0,0,null,0.23472000000000001,null,0,0,0,null,{"$f":"204.2*32%/1000","v":6.5343999999999999E-2},null,null,{"$f":"(0.2042-CA27)","v":0.13885599999999998},null,null,{"$f":"173.1*32%/1000","v":5.5391999999999997E-2},null,null,{"$f":"0.1731-CG27","v":0.11770800000000001},null,null,{"$f":"185.6*32%/1000","v":5.9391999999999993E-2},null,null,{"$f":"0.1856-CM27","v":0.12620799999999999},null,null,{"$f":"143.8*32%/1000","v":4.6016000000000008E-2},null,null,{"$f":"0.1438-CS27","v":9.778400000000001E-2},null,null,null,null,null,null,null,null,{"$f":"123.8*32%/1000","v":3.9615999999999998E-2},null,null,{"$f":"0.1238-DE27","v":8.4183999999999995E-2},null,null,{"$f":"120.7*32%/1000","v":3.8624000000000006E-2},null,null,{"$f":"0.1207-DK27","v":8.2075999999999996E-2},null,null,{"$f":"118.4*32%/1000","v":3.7888000000000005E-2},null,null,{"$f":"0.1184-DQ27","v":8.0512E-2},null,null,{"$f":"144.5*32%/1000","v":4.6240000000000003E-2},null,null,{"$f":"0.1445-DW27","v":9.8259999999999986E-2},null,null,{"$f":"172.2*32%/1000","v":5.5104E-2},null,null,{"$f":"0.1722-EC27","v":0.11709599999999999},null,null,{"$f":"177.7*32%/1000","v":5.6863999999999998E-2},null,null,{"$f":"0.1777-EI27","v":0.120836},null,null,{"$f":"173*32%/1000","v":5.5359999999999999E-2},null,null,{"$f":"0.173-EO27","v":0.11763999999999999}]
[null,null,null,"3","Потери электроэнергии обусловленные допустимой погрешностью системы учёта электроэнергии",0.39680000000000004,{"$f":"M28+S28","v":0.12},null,null,{"$f":"P28+V28","v":0.27680000000000005},null,{"$f":"M28+O28+P28+Q28","v":0.19400000000000001},0.06,null,null,{"$f":"0.194-M28","v":0.13400000000000001},null,{"$f":"S28+U28+V28+W28","v":0.20280000000000001},0.06,null,null,{"$f":"202.8/1000-S28","v":0.14280000000000001},null,1.26,{"$f":"AE28+AK28","v":0.39999999999999997},null,null,{"$f":"AH28+AN28","v":0.86},null,{"$f":"AE28+AG28+AH28+AI28","v":0.35},0.11,null,null,0.24,null,{"$f":"AK28+AM28+AN28+AO28","v":0.90999999999999992},0.28999999999999998,null,null,0.62,null,{"$f":"AQ28+AS28+AT28+AU28","v":0.6100000000000001},{"$f":"AW28+BC28","v":0.2},null,{"$f":"AY28+BE28","v":0},{"$f":"AZ28+BF28","v":0.41000000000000003},{"$f":"BA28+BG28","v":0},{"$f":"AW28+AY28+AZ28+BA28","v":0.30000000000000004},0.1,null,null,0.2,null,{"$f":"BC28+BE28+BF28+BG28","v":0.31},0.1,null,null,0.21,null,{"$f":"BI28+BK28+BL28+BM28","v":0.57999999999999996},0.57999999999999996,null,{"$f":"BQ28+BW28","v":0},{"$f":"BR28+BX28","v":0},{"$f":"BS28+BY28","v":0},0.32999999999999996,0.32999999999999996,null,0,0,0,0.25,0.25,null,0,0,0,0.2,7.0000000000000007E-2,null,null,0.13,null,{"$f":"CG28+CI28+CJ28+CK28","v":0.16999999999999998},0.06,null,null,0.11,null,{"$f":"CM28+CO28+CP28+CQ28","v":0.19},0.06,null,null,0.13,null,{"$f":"CS28+CU28+CV28+CW28","v":0.14000000000000001},0.05,null,null,0.09,null,{"$f":"CY28+DA28+DB28+DC28","v":0.14000000000000001},0.05,null,null,0.09,null,{"$f":"DE28+DG28+DH28+DI28","v":0.12},0.04,null,null,0.08,null,{"$f":"DK28+DM28+DN28+DO28","v":0.12},0.04,null,null,0.08,null,{"$f":"DQ28+DS28+DT28+DU28","v":0.12},0.04,null,null,0.08,null,{"$f":"DW28+DY28+DZ28+EA28","v":0.14000000000000001},0.05,null,null,0.09,null,{"$f":"EC28+EE28+EF28+EG28","v":0.16999999999999998},0.06,null,null,0.11,null,{"$f":"EI28+EK28+EL28+EM28","v":0.18},0.06,null,null,0.12,null,{"$f":"EO28+EQ28+ER28+ES28","v":0.16999999999999998},0.06,null,null,0.11,null,1.9,{"$f":"FA28+FG28","v":0.61},null,null,{"$f":"FD28+FJ28","v":1.29},null,{"$f":"FA28+FC28+FD28+FE28","v":0.99},0.32,null,null,0.67,null,{"$f":"FG28+FI28+FJ28+FK28","v":0.90999999999999992},0.28999999999999998,null,null,0.62,null,1.9300000000000002,{"$f":"FS28+FY28","v":0.62},null,null,{"$f":"FV28+GB28","v":1.31},null,{"$f":"FS28+FU28+FV28+FW28","v":1},0.32,null,null,0.68,null,{"$f":"FY28+GA28+GB28+GC28","v":0.92999999999999994},0.3,null,null,0.63,null,{"$f":"GE28+GG28+GH28+GI28","v":1.94},{"$f":"GK28+GQ28","v":0.62},null,null,{"$f":"GN28+GT28","v":1.32},null,{"$f":"GK28+GM28+GN28+GO28","v":1},0.32,null,null,0.68,null,{"$f":"GQ28+GS28+GT28+GU28","v":0.94},0.3,null,null,0.64,null,{"$f":"GW28+GY28+GZ28+HA28","v":1.96},{"$f":"HC28+HI28","v":0.63},null,null,{"$f":"HF28+HL28","v":1.33},null,{"$f":"HC28+HE28+HF28+HG28","v":1.02},0.33,null,null,0.69,null,{"$f":"HI28+HK28+HL28+HM28","v":0.94},0.3,null,null,0.64]
[null,null,null,"4","Итого",0.39680000000000004,{"$f":"G15+G26+G28","v":0.12},null,{"$f":"I15+I26+I28","v":0},{"$f":"J15+J26+J28","v":0.27680000000000005},{"$f":"K15+K26+K28","v":0},{"$f":"M29+O29+P29+Q29","v":0.19400000000000001},{"$f":"M15+M26+M28","v":0.06},null,{"$f":"O15+O26+O28","v":0},{"$f":"P15+P26+P28","v":0.13400000000000001},{"$f":"Q15+Q26+Q28","v":0},{"$f":"S29+U29+V29+W29","v":0.20280000000000001},{"$f":"S15+S26+S28","v":0.06},null,{"$f":"U15+U26+U28","v":0},{"$f":"V15+V26+V28","v":0.14280000000000001},{"$f":"W15+W26+W28","v":0},1.26,{"$f":"Y15+Y26+Y28","v":0.39999999999999997},null,{"$f":"AA15+AA26+AA28","v":0},{"$f":"AB15+AB26+AB28","v":0.86},{"$f":"AC15+AC26+AC28","v":0},{"$f":"AE29+AG29+AH29+AI29","v":0.35},{"$f":"AE15+AE26+AE28","v":0.11},null,{"$f":"AG15+AG26+AG28","v":0},{"$f":"AH15+AH26+AH28","v":0.24},{"$f":"AI15+AI26+AI28","v":0},{"$f":"AK29+AM29+AN29+AO29","v":0.90999999999999992},{"$f":"AK15+AK26+AK28","v":0.28999999999999998},null,{"$f":"AM15+AM26+AM28","v":0},{"$f":"AN15+AN26+AN28","v":0.62},{"$f":"AO15+AO26+AO28","v":0},{"$f":"AQ29+AS29+AT29+AU29","v":0.6100000000000001},{"$f":"AQ15+AQ26+AQ28","v":0.2},null,{"$f":"AS15+AS26+AS28","v":0},{"$f":"AT15+AT26+AT28","v":0.41000000000000003},{"$f":"AU15+AU26+AU28","v":0},{"$f":"AW29+AY29+AZ29+BA29","v":0.30000000000000004},{"$f":"AW15+AW26+AW28","v":0.1},null,{"$f":"AY15+AY26+AY28","v":0},{"$f":"AZ15+AZ26+AZ28","v":0.2},{"$f":"BA15+BA26+BA28","v":0},{"$f":"BC29+BE29+BF29+BG29","v":0.31},{"$f":"BC15+BC26+BC28","v":0.1},null,{"$f":"BE15+BE26+BE28","v":0},{"$f":"BF15+BF26+BF28","v":0.21},{"$f":"BG15+BG26+BG28","v":0},{"$f":"BI29+BK29+BL29+BM29","v":1.8815},{"$f":"П1.30!CC38","v":0.41389999999999999},null,{"$f":"П1.30!CE38","v":0},{"$f":"П1.30!CF38","v":1.4676},{"$f":"П1.30!CG38","v":0},{"$f":"П1.30!CH38","v":0.97499999999999998},{"$f":"П1.30!CI38","v":0.2145},null,{"$f":"П1.30!CK38","v":0},{"$f":"П1.30!CL38","v":0.76049999999999995},{"$f":"П1.30!CM38","v":0},{"$f":"П1.30!CN38","v":0.90649999999999997},{"$f":"П1.30!CO38","v":0.19939999999999999},null,{"$f":"П1.30!CQ38","v":0},{"$f":"П1.30!CR38","v":0.70709999999999995},{"$f":"П1.30!CS38","v":0},{"$f":"'Форма 3.1'!$J17","v":0.20419999999999999},{"$f":"CA15+CA26+CA28","v":7.0000000000000007E-2},null,{"$f":"CC15+CC26+CC28","v":0},{"$f":"CD15+CD26+CD28","v":0.13},{"$f":"CE15+CE26+CE28","v":0},{"$f":"'Форма 3.1'!$K17","v":0.1731},{"$f":"CG15+CG26+CG28","v":0.06},null,{"$f":"CI15+CI26+CI28","v":0},{"$f":"CJ15+CJ26+CJ28","v":0.11},{"$f":"CK15+CK26+CK28","v":0},{"$f":"'Форма 3.1'!$L17","v":0.18559999999999999},{"$f":"CM15+CM26+CM28","v":0.06},null,{"$f":"CO15+CO26+CO28","v":0},{"$f":"CP15+CP26+CP28","v":0.13},{"$f":"CQ15+CQ26+CQ28","v":0},{"$f":"'Форма 3.1'!$M17","v":0.14380000000000001},{"$f":"CS15+CS26+CS28","v":0.05},null,{"$f":"CU15+CU26+CU28","v":0},{"$f":"CV15+CV26+CV28","v":0.09},{"$f":"CW15+CW26+CW28","v":0},{"$f":"'Форма 3.1'!$N17","v":0.14460000000000001},{"$f":"CY15+CY26+CY28","v":0.05},null,{"$f":"DA15+DA26+DA28","v":0},{"$f":"DB15+DB26+DB28","v":0.09},{"$f":"DC15+DC26+DC28","v":0},{"$f":"'Форма 3.1'!$O17","v":0.12379999999999999},{"$f":"DE15+DE26+DE28","v":0.04},null,{"$f":"DG15+DG26+DG28","v":0},{"$f":"DH15+DH26+DH28","v":0.08},{"$f":"DI15+DI26+DI28","v":0},{"$f":"'Форма 3.1'!$P17","v":0.1207},{"$f":"DK15+DK26+DK28","v":0.04},null,{"$f":"DM15+DM26+DM28","v":0},{"$f":"DN15+DN26+DN28","v":0.08},{"$f":"DO15+DO26+DO28","v":0},{"$f":"'Форма 3.1'!$Q17","v":0.11840000000000001},{"$f":"DQ15+DQ26+DQ28","v":0.04},null,{"$f":"DS15+DS26+DS28","v":0},{"$f":"DT15+DT26+DT28","v":0.08},{"$f":"DU15+DU26+DU28","v":0},{"$f":"'Форма 3.1'!$R17","v":0.14449999999999999},{"$f":"DW15+DW26+DW28","v":0.05},null,{"$f":"DY15+DY26+DY28","v":0},{"$f":"DZ15+DZ26+DZ28","v":0.09},{"$f":"EA15+EA26+EA28","v":0},{"$f":"'Форма 3.1'!$S17","v":0.17219999999999999},{"$f":"EC15+EC26+EC28","v":0.06},null,{"$f":"EE15+EE26+EE28","v":0},{"$f":"EF15+EF26+EF28","v":0.11},{"$f":"EG15+EG26+EG28","v":0},{"$f":"'Форма 3.1'!$T17","v":0.1777},{"$f":"EI15+EI26+EI28","v":0.06},null,{"$f":"EK15+EK26+EK28","v":0},{"$f":"EL15+EL26+EL28","v":0.12},{"$f":"EM15+EM26+EM28","v":0},{"$f":"'Форма 3.1'!$U17","v":0.17299999999999999},{"$f":"EO15+EO26+EO28","v":0.06},null,{"$f":"EQ15+EQ26+EQ28","v":0},{"$f":"ER15+ER26+ER28","v":0.11},{"$f":"ES15+ES26+ES28","v":0},1.9,{"$f":"EU15+EU26+EU28","v":0.61},null,{"$f":"EW15+EW26+EW28","v":0},{"$f":"EX15+EX26+EX28","v":1.29},{"$f":"EY15+EY26+EY28","v":0},{"$f":"FA29+FC29+FD29+FE29","v":0.99},{"$f":"FA15+FA26+FA28","v":0.32},null,{"$f":"FC15+FC26+FC28","v":0},{"$f":"FD15+FD26+FD28","v":0.67},{"$f":"FE15+FE26+FE28","v":0},{"$f":"FG29+FI29+FJ29+FK29","v":0.90999999999999992},{"$f":"FG15+FG26+FG28","v":0.28999999999999998},null,{"$f":"FI15+FI26+FI28","v":0},{"$f":"FJ15+FJ26+FJ28","v":0.62},{"$f":"FK15+FK26+FK28","v":0},1.9300000000000002,{"$f":"FM15+FM26+FM28","v":0.62},null,{"$f":"FO15+FO26+FO28","v":0},{"$f":"FP15+FP26+FP28","v":1.31},{"$f":"FQ15+FQ26+FQ28","v":0},{"$f":"FS29+FU29+FV29+FW29","v":1},{"$f":"FS15+FS26+FS28","v":0.32},null,{"$f":"FU15+FU26+FU28","v":0},{"$f":"FV15+FV26+FV28","v":0.68},{"$f":"FW15+FW26+FW28","v":0},{"$f":"FY29+GA29+GB29+GC29","v":0.92999999999999994},{"$f":"FY15+FY26+FY28","v":0.3},null,{"$f":"GA15+GA26+GA28","v":0},{"$f":"GB15+GB26+GB28","v":0.63},{"$f":"GC15+GC26+GC28","v":0},{"$f":"GE29+GG29+GH29+GI29","v":1.94},{"$f":"GE15+GE26+GE28","v":0.62},null,{"$f":"GG15+GG26+GG28","v":0},{"$f":"GH15+GH26+GH28","v":1.32},{"$f":"GI15+GI26+GI28","v":0},{"$f":"GK29+GM29+GN29+GO29","v":1},{"$f":"GK15+GK26+GK28","v":0.32},null,{"$f":"GM15+GM26+GM28","v":0},{"$f":"GN15+GN26+GN28","v":0.68},{"$f":"GO15+GO26+GO28","v":0},{"$f":"GQ29+GS29+GT29+GU29","v":0.94},{"$f":"GQ15+GQ26+GQ28","v":0.3},null,{"$f":"GS15+GS26+GS28","v":0},{"$f":"GT15+GT26+GT28","v":0.64},{"$f":"GU15+GU26+GU28","v":0},{"$f":"GW29+GY29+GZ29+HA29","v":1.96},{"$f":"GW15+GW26+GW28","v":0.63},null,{"$f":"GY15+GY26+GY28","v":0},{"$f":"GZ15+GZ26+GZ28","v":1.33},{"$f":"HA15+HA26+HA28","v":0},{"$f":"HC29+HE29+HF29+HG29","v":1.02},{"$f":"HC15+HC26+HC28","v":0.33},null,{"$f":"HE15+HE26+HE28","v":0},{"$f":"HF15+HF26+HF28","v":0.69},{"$f":"HG15+HG26+HG28","v":0},{"$f":"HI29+HK29+HL29+HM29","v":0.94},{"$f":"HI15+HI26+HI28","v":0.3},null,{"$f":"HK15+HK26+HK28","v":0},{"$f":"HL15+HL26+HL28","v":0.64},{"$f":"HM15+HM26+HM28","v":0}]

{"sheet":"П1.4","index":9,"n_rows":41,"n_cols":221,"rows_kept":41,"cut":false,"hidden":false,"merged":[[1,59,1,220],[11,23,11,28],[11,65,11,70],[11,71,11,76],[11,47,11,52],[11,53,11,58],[9,95,9,100],[11,95,11,100],[11,149,11,154],[9,101,9,106],[10,5,10,22],[10,23,10,40],[10,41,10,58],[10,59,10,76],[6,3,6,220],[11,11,11,16],[11,17,11,22],[11,29,11,34],[11,35,11,40],[10,3,12,3],[10,4,12,4],[9,59,9,64],[9,65,9,70],[11,5,11,10],[11,59,11,64],[9,89,9,94],[11,83,11,88],[11,89,11,94],[11,77,11,82],[9,71,9,76],[7,23,7,28],[7,41,7,46],[7,59,7,64],[8,101,8,106],[9,77,9,82],[9,83,9,88],[8,77,8,82],[11,41,11,46],[11,131,11,136],[9,143,9,148],[11,113,11,118],[11,119,11,124],[11,125,11,130],[10,77,10,148],[9,119,9,124],[9,125,9,130],[9,107,9,112],[10,149,10,166],[7,203,7,208],[8,143,8,148],[8,131,8,136],[8,137,8,142],[7,167,7,172],[7,185,7,190],[8,119,8,124],[7,149,7,154],[11,167,11,172],[11,143,11,148],[11,185,11,190],[8,83,8,88],[11,101,11,106],[11,107,11,112],[10,167,10,184],[9,113,9,118],[11,215,11,220],[8,89,8,94],[8,113,8,118],[8,95,8,100],[8,125,8,130],[11,209,11,214],[11,155,11,160],[10,203,10,220],[11,137,11,142],[10,185,10,202],[11,203,11,208],[11,179,11,184],[11,191,11,196],[7,5,7,10],[8,107,8,112],[9,131,9,136],[11,161,11,166],[11,173,11,178],[9,137,9,142],[11,197,11,202]]}
[]
[]
[]
[]
[]
[]
[null,null,null,"Баланс электрической энергии по сетям ВН, СН1, СН2 и НН по ЭСО (по региональным электрическим сетям)"]
[null,null,null,null,null,"-",null,null,null,null,null,null,null,null,null,null,null,null,null,null,null,null,null,"-",null,null,null,null,null,null,null,null,null,null,null,null,null,null,null,null,null,"-",null,null,null,null,null,null,null,null,null,null,null,null,null,null,null,null,null,"-",null,null,null,null,null,null,null,null,null,null,null,null,null,null,null,null,null,null,null,null,null,null,null,null,null,null,null,null,null,null,null,null,null,null,null,null,null,null,null,null,null,null,null,null,null,null,null,null,null,null,null,null,null,null,null,null,null,null,null,null,null,null,null,null,null,null,null,null,null,null,null,null,null,null,null,null,null,null,null,null,null,null,null,null,null,null,null,null,null,"-",null,null,null,null,null,null,null,null,null,null,null,null,null,null,null,null,null,"-",null,null,null,null,null,null,null,null,null,null,null,null,null,null,null,null,null,"+",null,null,null,null,null,null,null,null,null,null,null,null,null,null,null,null,null,"-"]
[]
[null,null,null,null,"млн.кВтч.",null,null,null,null,null,null,null,null,null,null,null,null,null,null,null,null,null,null,null,null,null,null,null,null,null,null,null,null,null,null,null,null,null,null,null,null,null,null,null,null,null,null,null,null,null,null,null,null,null,null,null,null,null,null,"-",null,null,null,null,null,"I",null,null,null,null,null,"II",null,null,null,null,null,1,null,null,null,null,null,2,null,null,null,null,null,3,null,null,null,null,null,4,null,null,null,null,null,5,null,null,null,null,null,6,null,null,null,null,null,7,null,null,null,null,null,8,null,null,null,null,null,9,null,null,null,null,null,10,null,null,null,null,null,11,null,null,null,null,null,12]
[null,null,null,"№ п/п","Показатели",{"$f":"\"План \" & IF(god=\"\",\"Не определено\",god-2) & \" год\"","v":"План 2013 год"},null,null,null,null,null,null,null,null,null,null,null,null,null,null,null,null,null,{"$f":"\"Факт \" & IF(god=\"\",\"Не определено\",god-2) & \" год\"","v":"Факт 2013 год"},null,null,null,null,null,null,null,null,null,null,null,null,null,null,null,null,null,{"$f":"\"План \" & IF(god=\"\",\"Не определено\",god-1) & \" год\"","v":"План 2014 год"},null,null,null,null,null,null,null,null,null,null,null,null,null,null,null,null,null,{"$f":"\"План \" & IF(god=\"\",\"Не определено\",god) & \" год\"","v":"План 2015 год"},null,null,null,null,null,null,null,null,null,null,null,null,null,null,null,null,null,{"$f":"\"План \" & IF(god=\"\",\"Не определено\",god) & \" год\"","v":"План 2015 год"},null,null,null,null,null,null,null,null,null,null,null,null,null,null,null,null,null,null,null,null,null,null,null,null,null,null,null,null,null,null,null,null,null,null,null,null,null,null,null,null,null,null,null,null,null,null,null,null,null,null,null,null,null,null,null,null,null,null,null,null,null,null,null,null,null,null,null,null,null,null,null,{"$f":"\"План \" & IF(god=\"\",\"Не определено\",god+1) & \" год\"","v":"План 2016 год"},null,null,null,null,null,null,null,null,null,null,null,null,null,null,null,null,null,{"$f":"\"План \" & IF(god=\"\",\"Не определено\",god+2) & \" год\"","v":"План 2017 год"},null,null,null,null,null,null,null,null,null,null,null,null,null,null,null,null,null,{"$f":"\"План \" & IF(god=\"\",\"Не определено\",god+3) & \" год\"","v":"План 2018 год"},null,null,null,null,null,null,null,null,null,null,null,null,null,null,null,null,null,{"$f":"\"План \" & IF(god=\"\",\"Не определено\",god+4) & \" год\"","v":"План 2019 год"}]
[null,null,null,null,null,"За год",null,null,null,null,null,"I полугодие",null,null,null,null,null,"II полугодие",null,null,null,null,null,"За год",null,null,null,null,null,"I полугодие",null,null,null,null,null,"II полугодие",null,null,null,null,null,"За год",null,null,null,null,null,"I полугодие",null,null,null,null,null,"II полугодие",null,null,null,null,null,"За год",null,null,null,null,null,"I полугодие",null,null,null,null,null,"II полугодие",null,null,null,null,null,"Январь",null,null,null,null,null,"Февраль",null,null,null,null,null,"Март",null,null,null,null,null,"Апрель",null,null,null,null,null,"Май",null,null,null,null,null,"Июнь",null,null,null,null,null,"Июль",null,null,null,null,null,"Август",null,null,null,null,null,"Сентябрь",null,null,null,null,null,"Октябрь",null,null,null,null,null,"Ноябрь",null,null,null,null,null,"Декабрь",null,null,null,null,null,"За год",null,null,null,null,null,"I полугодие",null,null,null,null,null,"II полугодие",null,null,null,null,null,"За год",null,null,null,null,null,"I полугодие",null,null,null,null,null,"II полугодие",null,null,null,null,null,"За год",null,null,null,null,null,"I полугодие",null,null,null,null,null,"II полугодие",null,null,null,null,null,"За год",null,null,null,null,null,"I полугодие",null,null,null,null,null,"II полугодие"]
[null,null,null,null,null,"Всего","ВН",null,"СН 1","СН 2","НН","Всего","ВН",null,"СН 1","СН 2","НН","Всего","ВН",null,"СН 1","СН 2","НН","Всего","ВН",null,"СН 1","СН 2","НН","Всего","ВН",null,"СН 1","СН 2","НН","Всего","ВН",null,"СН 1","СН 2","НН","Всего","ВН",null,"СН 1","СН 2","НН","Всего","ВН",null,"СН 1","СН 2","НН","Всего","ВН",null,"СН 1","СН 2","НН","Всего","ВН",null,"СН 1","СН 2","НН","Всего","ВН",null,"СН 1","СН 2","НН","Всего","ВН",null,"СН 1","СН 2","НН","Всего","ВН",null,"СН 1","СН 2","НН","Всего","ВН",null,"СН 1","СН 2","НН","Всего","ВН",null,"СН 1","СН 2","НН","Всего","ВН",null,"СН 1","СН 2","НН","Всего","ВН",null,"СН 1","СН 2","НН","Всего","ВН",null,"СН 1","СН 2","НН","Всего","ВН",null,"СН 1","СН 2","НН","Всего","ВН",null,"СН 1","СН 2","НН","Всего","ВН",null,"СН 1","СН 2","НН","Всего","ВН",null,"СН 1","СН 2","НН","Всего","ВН",null,"СН 1","СН 2","НН","Всего","ВН",null,"СН 1","СН 2","НН","Всего","ВН",null,"СН 1","СН 2","НН","Всего","ВН",null,"СН 1","СН 2","НН","Всего","ВН",null,"СН 1","СН 2","НН","Всего","ВН",null,"СН 1","СН 2","НН","Всего","ВН",null,"СН 1","СН 2","НН","Всего","ВН",null,"СН 1","СН 2","НН","Всего","ВН",null,"СН 1","СН 2","НН","Всего","ВН",null,"СН 1","СН 2","НН","Всего","ВН",null,"СН 1","СН 2","НН","Всего","ВН",null,"СН 1","СН 2","НН","Всего","ВН",null,"СН 1","СН 2","НН","Всего","ВН",null,"СН 1","СН 2","НН"]
[]
[null,null,null,"1","Поступление электроэнергии в сеть, ВСЕГО ",{"$f":"F21+F22+F23","v":39.67},{"$f":"G21+G22+G23","v":15.93},null,{"$f":"I16+I21+I22+I23","v":0},{"$f":"J16+J21+J22+J23","v":39.550000000000004},{"$f":"K16+K21+K22+K23","v":10.323600000000003},{"$f":"L21+L22+L23","v":19.39},{"$f":"M21+M22+M23","v":7.54},null,{"$f":"O16+O21+O22+O23","v":0},{"$f":"P16+P21+P22+P23","v":19.329999999999998},{"$f":"Q16+Q21+Q22+Q23","v":5.5054999999999996},{"$f":"R21+R22+R23","v":20.28},{"$f":"S21+S22+S23","v":8.39},null,{"$f":"U16+U21+U22+U23","v":0},{"$f":"V16+V21+V22+V23","v":20.22},{"$f":"W16+W21+W22+W23","v":4.8180999999999976},{"$f":"X21+X22+X23","v":46.413522},{"$f":"Y21+Y22+Y23","v":17.752230999999998},null,{"$f":"AA16+AA21+AA22+AA23","v":0},{"$f":"AB16+AB21+AB22+AB23","v":46.004692000000006},{"$f":"AC16+AC21+AC22+AC23","v":12.434665000000008},{"$f":"AD21+AD22+AD23","v":23.746003999999996},{"$f":"AE21+AE22+AE23","v":8.7092509999999983},null,{"$f":"AG16+AG21+AG22+AG23","v":0},{"$f":"AH16+AH21+AH22+AH23","v":23.631483999999993},{"$f":"AI16+AI21+AI22+AI23","v":6.8091669999999942},{"$f":"AJ21+AJ22+AJ23","v":22.667518000000001},{"$f":"AK21+AK22+AK23","v":9.04298},null,{"$f":"AM16+AM21+AM22+AM23","v":0},{"$f":"AN16+AN21+AN22+AN23","v":22.373208000000005},{"$f":"AO16+AO21+AO22+AO23","v":5.6254980000000057},{"$f":"AP21+AP22+AP23","v":44.564999999999998},{"$f":"AW15+BC15","v":17.608000000000001},null,{"$f":"AY15+BE15","v":0},44.365000000000009,11.823030000000006,{"$f":"AV21+AV22+AV23","v":22.531000000000002},{"$f":"AW21+AW22+AW23","v":8.7100000000000009},null,{"$f":"AY16+AY21+AY22+AY23","v":0},{"$f":"AZ16+AZ21+AZ22+AZ23","v":22.431000000000004},{"$f":"BA16+BA21+BA22+BA23","v":6.5851800000000038},{"$f":"BB21+BB22+BB23","v":22.033999999999999},{"$f":"BC21+BC22+BC23","v":8.8979999999999997},null,{"$f":"BE16+BE21+BE22+BE23","v":0},{"$f":"BF16+BF21+BF22+BF23","v":21.934000000000001},{"$f":"BG16+BG21+BG22+BG23","v":5.2378500000000026},{"$f":"BH21+BH22+BH23","v":0},{"$f":"BO15+BU15","v":0},null,{"$f":"BQ15+BW15","v":0},-0.6399999999999999,-34.576999999999998,{"$f":"BN21+BN22+BN23","v":0},{"$f":"BO21+BO22+BO23","v":0},null,{"$f":"BQ16+BQ21+BQ22+BQ23","v":0},{"$f":"BR16+BR21+BR22+BR23","v":-0.32999999999999996},{"$f":"BS16+BS21+BS22+BS23","v":-17.548000000000002},{"$f":"BT21+BT22+BT23","v":0},{"$f":"BU21+BU22+BU23","v":0},null,{"$f":"BW16+BW21+BW22+BW23","v":0},{"$f":"BX16+BX21+BX22+BX23","v":-0.31},{"$f":"BY16+BY21+BY22+BY23","v":-17.029},{"$f":"BZ21+BZ22+BZ23","v":0},{"$f":"CA21+CA22+CA23","v":0},null,{"$f":"CC16+CC21+CC22+CC23","v":0},{"$f":"CD16+CD21+CD22+CD23","v":-7.0000000000000007E-2},{"$f":"CE16+CE21+CE22+CE23","v":-3.6019999999999999},{"$f":"CF21+CF22+CF23","v":0},{"$f":"CG21+CG22+CG23","v":0},null,{"$f":"CI16+CI21+CI22+CI23","v":0},{"$f":"CJ16+CJ21+CJ22+CJ23","v":-0.06},{"$f":"CK16+CK21+CK22+CK23","v":-3.0580000000000003},{"$f":"CL21+CL22+CL23","v":0},{"$f":"CM21+CM22+CM23","v":0},null,{"$f":"CO16+CO21+CO22+CO23","v":0},{"$f":"CP16+CP21+CP22+CP23","v":-0.06},{"$f":"CQ16+CQ21+CQ22+CQ23","v":-3.2130000000000001},{"$f":"CR21+CR22+CR23","v":0},{"$f":"CS21+CS22+CS23","v":0},null,{"$f":"CU16+CU21+CU22+CU23","v":0},{"$f":"CV16+CV21+CV22+CV23","v":-0.05},{"$f":"CW16+CW21+CW22+CW23","v":-2.6440000000000001},{"$f":"CX21+CX22+CX23","v":0},{"$f":"CY21+CY22+CY23","v":0},null,{"$f":"DA16+DA21+DA22+DA23","v":0},{"$f":"DB16+DB21+DB22+DB23","v":-0.05},{"$f":"DC16+DC21+DC22+DC23","v":-2.7530000000000001},{"$f":"DD21+DD22+DD23","v":0},{"$f":"DE21+DE22+DE23","v":0},null,{"$f":"DG16+DG21+DG22+DG23","v":0},{"$f":"DH16+DH21+DH22+DH23","v":-0.04},{"$f":"DI16+DI21+DI22+DI23","v":-2.278},{"$f":"DJ21+DJ22+DJ23","v":0},{"$f":"DK21+DK22+DK23","v":0},null,{"$f":"DM16+DM21+DM22+DM23","v":0},{"$f":"DN16+DN21+DN22+DN23","v":-0.04},{"$f":"DO16+DO21+DO22+DO23","v":-2.23},{"$f":"DP21+DP22+DP23","v":0},{"$f":"DQ21+DQ22+DQ23","v":0},null,{"$f":"DS16+DS21+DS22+DS23","v":0},{"$f":"DT16+DT21+DT22+DT23","v":-0.04},{"$f":"DU16+DU21+DU22+DU23","v":-2.3560000000000003},{"$f":"DV21+DV22+DV23","v":0},{"$f":"DW21+DW22+DW23","v":0},null,{"$f":"DY16+DY21+DY22+DY23","v":0},{"$f":"DZ16+DZ21+DZ22+DZ23","v":-0.05},{"$f":"EA16+EA21+EA22+EA23","v":-2.6320000000000001},{"$f":"EB21+EB22+EB23","v":0},{"$f":"EC21+EC22+EC23","v":0},null,{"$f":"EE16+EE21+EE22+EE23","v":0},{"$f":"EF16+EF21+EF22+EF23","v":-0.06},{"$f":"EG16+EG21+EG22+EG23","v":-3.3549999999999995},{"$f":"EH21+EH22+EH23","v":0},{"$f":"EI21+EI22+EI23","v":0},null,{"$f":"EK16+EK21+EK22+EK23","v":0},{"$f":"EL16+EL21+EL22+EL23","v":-0.06},{"$f":"EM16+EM21+EM22+EM23","v":-3.3840000000000003},{"$f":"EN21+EN22+EN23","v":0},{"$f":"EO21+EO22+EO23","v":0},null,{"$f":"EQ16+EQ21+EQ22+EQ23","v":0},{"$f":"ER16+ER21+ER22+ER23","v":-0.06},{"$f":"ES16+ES21+ES22+ES23","v":-3.0720000000000001},{"$f":"ET21+ET22+ET23","v":0},{"$f":"EU21+EU22+EU23","v":0},null,{"$f":"EW16+EW21+EW22+EW23","v":0},{"$f":"EX16+EX21+EX22+EX23","v":-0.61},{"$f":"EY16+EY21+EY22+EY23","v":-34.943999999999996},{"$f":"EZ21+EZ22+EZ23","v":0},{"$f":"FA21+FA22+FA23","v":0},null,{"$f":"FC16+FC21+FC22+FC23","v":0},{"$f":"FD16+FD21+FD22+FD23","v":-0.32},{"$f":"FE16+FE21+FE22+FE23","v":-17.744},{"$f":"FF21+FF22+FF23","v":0},{"$f":"FG21+FG22+FG23","v":0},null,{"$f":"FI16+FI21+FI22+FI23","v":0},{"$f":"FJ16+FJ21+FJ22+FJ23","v":-0.28999999999999998},{"$f":"FK16+FK21+FK22+FK23","v":-17.2},{"$f":"FL21+FL22+FL23","v":0},{"$f":"FM21+FM22+FM23","v":0},null,{"$f":"FO16+FO21+FO22+FO23","v":0},{"$f":"FP16+FP21+FP22+FP23","v":-0.62},{"$f":"FQ16+FQ21+FQ22+FQ23","v":-35.305},{"$f":"FR21+FR22+FR23","v":0},{"$f":"FS21+FS22+FS23","v":0},null,{"$f":"FU16+FU21+FU22+FU23","v":0},{"$f":"FV16+FV21+FV22+FV23","v":-0.32},{"$f":"FW16+FW21+FW22+FW23","v":-17.922000000000001},{"$f":"FX21+FX22+FX23","v":0},{"$f":"FY21+FY22+FY23","v":0},null,{"$f":"GA16+GA21+GA22+GA23","v":0},{"$f":"GB16+GB21+GB22+GB23","v":-0.3},{"$f":"GC16+GC21+GC22+GC23","v":-17.383000000000003},{"$f":"GD21+GD22+GD23","v":0},{"$f":"GE21+GE22+GE23","v":0},null,{"$f":"GG16+GG21+GG22+GG23","v":0},{"$f":"GH16+GH21+GH22+GH23","v":-0.62},{"$f":"GI16+GI21+GI22+GI23","v":-35.649000000000001},{"$f":"GJ21+GJ22+GJ23","v":0},{"$f":"GK21+GK22+GK23","v":0},null,{"$f":"GM16+GM21+GM22+GM23","v":0},{"$f":"GN16+GN21+GN22+GN23","v":-0.32},{"$f":"GO16+GO21+GO22+GO23","v":-18.091999999999999},{"$f":"GP21+GP22+GP23","v":0},{"$f":"GQ21+GQ22+GQ23","v":0},null,{"$f":"GS16+GS21+GS22+GS23","v":0},{"$f":"GT16+GT21+GT22+GT23","v":-0.3},{"$f":"GU16+GU21+GU22+GU23","v":-17.557000000000002},{"$f":"GV21+GV22+GV23","v":0},{"$f":"GW21+GW22+GW23","v":0},null,{"$f":"GY16+GY21+GY22+GY23","v":0},{"$f":"GZ16+GZ21+GZ22+GZ23","v":-0.63},{"$f":"HA16+HA21+HA22+HA23","v":-36.006},{"$f":"HB21+HB22+HB23","v":0},{"$f":"HC21+HC22+HC23","v":0},null,{"$f":"HE16+HE21+HE22+HE23","v":0},{"$f":"HF16+HF21+HF22+HF23","v":-0.33},{"$f":"HG16+HG21+HG22+HG23","v":-18.282999999999998},{"$f":"HH21+HH22+HH23","v":0},{"$f":"HI21+HI22+HI23","v":0},null,{"$f":"HK16+HK21+HK22+HK23","v":0},{"$f":"HL16+HL21+HL22+HL23","v":-0.3},{"$f":"HM16+HM21+HM22+HM23","v":-17.722999999999999}]
[null,null,null,"1.1","из смежной сети, всего, в том числе из сети:",{"$f":"G16+I16+J16+K16","v":26.133600000000001},null,null,{"$f":"I17","v":0},{"$f":"J17+J18","v":15.81},{"$f":"K19+K18","v":10.323600000000003},{"$f":"M16+O16+P16+Q16","v":12.9855},null,null,{"$f":"O17","v":0},{"$f":"P17+P18","v":7.48},{"$f":"Q19+Q18","v":5.5054999999999996},{"$f":"S16+U16+V16+W16","v":13.148099999999998},null,null,{"$f":"U17","v":0},{"$f":"V17+V18","v":8.33},{"$f":"W19+W18","v":4.8180999999999976},{"$f":"Y16+AA16+AB16+AC16","v":29.77806600000001},null,null,{"$f":"AA17","v":0},{"$f":"AB17+AB18","v":17.343401},{"$f":"AC19+AC18","v":12.434665000000008},{"$f":"AE16+AG16+AH16+AI16","v":15.403897999999991},null,null,{"$f":"AG17","v":0},{"$f":"AH17+AH18","v":8.5947309999999977},{"$f":"AI19+AI18","v":6.8091669999999942},{"$f":"AK16+AM16+AN16+AO16","v":14.374168000000006},null,null,{"$f":"AM17","v":0},{"$f":"AN17+AN18","v":8.7486700000000006},{"$f":"AO19+AO18","v":5.6254980000000057},{"$f":"AQ16+AS16+AT16+AU16","v":29.231030000000008},null,null,0,17.408000000000001,11.823030000000006,{"$f":"AW16+AY16+AZ16+BA16","v":15.195180000000004},null,null,{"$f":"AY17","v":0},{"$f":"AZ17+AZ18","v":8.6100000000000012},{"$f":"BA19+BA18","v":6.5851800000000038},{"$f":"BC16+BE16+BF16+BG16","v":14.035850000000003},null,null,{"$f":"BE17","v":0},{"$f":"BF17+BF18","v":8.798},{"$f":"BG19+BG18","v":5.2378500000000026},{"$f":"BI16+BK16+BL16+BM16","v":-35.216999999999999},null,null,0,-0.6399999999999999,-34.576999999999998,{"$f":"BQ16+BR16+BS16","v":-17.878},null,null,{"$f":"CC16+CI16+CO16+CU16+DA16+DG16","v":0},{"$f":"CD16+CJ16+CP16+CV16+DB16+DH16","v":-0.32999999999999996},-17.548000000000002,{"$f":"BW16+BX16+BY16","v":-17.338999999999999},null,null,{"$f":"DM16+DS16+DY16+EE16+EK16+EQ16","v":0},-0.31,-17.029,{"$f":"SUM(CC16:CE16)","v":-3.6719999999999997},null,null,{"$f":"CC17","v":0},{"$f":"CD17+CD18","v":-7.0000000000000007E-2},{"$f":"CE19+CE18","v":-3.6019999999999999},{"$f":"SUM(CI16:CK16)","v":-3.1180000000000003},null,null,{"$f":"CI17","v":0},{"$f":"CJ17+CJ18","v":-0.06},{"$f":"CK19+CK18","v":-3.0580000000000003},{"$f":"SUM(CO16:CQ16)","v":-3.2730000000000001},null,null,{"$f":"CO17","v":0},{"$f":"CP17+CP18","v":-0.06},{"$f":"CQ19+CQ18","v":-3.2130000000000001},{"$f":"SUM(CU16:CW16)","v":-2.694},null,null,{"$f":"CU17","v":0},{"$f":"CV17+CV18","v":-0.05},{"$f":"CW19+CW18","v":-2.6440000000000001},{"$f":"SUM(DA16:DC16)","v":-2.8029999999999999},null,null,{"$f":"DA17","v":0},{"$f":"DB17+DB18","v":-0.05},{"$f":"DC19+DC18","v":-2.7530000000000001},{"$f":"SUM(DG16:DI16)","v":-2.3180000000000001},null,null,{"$f":"DG17","v":0},{"$f":"DH17+DH18","v":-0.04},{"$f":"DI19+DI18","v":-2.278},{"$f":"SUM(DM16:DO16)","v":-2.27},null,null,{"$f":"DM17","v":0},{"$f":"DN17+DN18","v":-0.04},{"$f":"DO19+DO18","v":-2.23},{"$f":"SUM(DS16:DU16)","v":-2.3960000000000004},null,null,{"$f":"DS17","v":0},{"$f":"DT17+DT18","v":-0.04},{"$f":"DU19+DU18","v":-2.3560000000000003},{"$f":"SUM(DY16:EA16)","v":-2.6819999999999999},null,null,{"$f":"DY17","v":0},{"$f":"DZ17+DZ18","v":-0.05},{"$f":"EA19+EA18","v":-2.6320000000000001},{"$f":"SUM(EE16:EG16)","v":-3.4149999999999996},null,null,{"$f":"EE17","v":0},{"$f":"EF17+EF18","v":-0.06},{"$f":"EG19+EG18","v":-3.3549999999999995},{"$f":"SUM(EK16:EM16)","v":-3.4440000000000004},null,null,{"$f":"EK17","v":0},{"$f":"EL17+EL18","v":-0.06},{"$f":"EM19+EM18","v":-3.3840000000000003},{"$f":"SUM(EQ16:ES16)","v":-3.1320000000000001},null,null,{"$f":"EQ17","v":0},{"$f":"ER17+ER18","v":-0.06},{"$f":"ES19+ES18","v":-3.0720000000000001},{"$f":"EU16+EW16+EX16+EY16","v":-35.553999999999995},null,null,{"$f":"EW17","v":0},{"$f":"EX17+EX18","v":-0.61},{"$f":"EY19+EY18","v":-34.943999999999996},{"$f":"FA16+FC16+FD16+FE16","v":-18.064},null,null,{"$f":"FC17","v":0},{"$f":"FD17+FD18","v":-0.32},{"$f":"FE19+FE18","v":-17.744},{"$f":"FG16+FI16+FJ16+FK16","v":-17.489999999999998},null,null,{"$f":"FI17","v":0},{"$f":"FJ17+FJ18","v":-0.28999999999999998},{"$f":"FK19+FK18","v":-17.2},{"$f":"FM16+FO16+FP16+FQ16","v":-35.924999999999997},null,null,{"$f":"FO17","v":0},{"$f":"FP17+FP18","v":-0.62},{"$f":"FQ19+FQ18","v":-35.305},{"$f":"FS16+FU16+FV16+FW16","v":-18.242000000000001},null,null,{"$f":"FU17","v":0},{"$f":"FV17+FV18","v":-0.32},{"$f":"FW19+FW18","v":-17.922000000000001},{"$f":"FY16+GA16+GB16+GC16","v":-17.683000000000003},null,null,{"$f":"GA17","v":0},{"$f":"GB17+GB18","v":-0.3},{"$f":"GC19+GC18","v":-17.383000000000003},{"$f":"GE16+GG16+GH16+GI16","v":-36.268999999999998},null,null,{"$f":"GG17","v":0},{"$f":"GH17+GH18","v":-0.62},{"$f":"GI19+GI18","v":-35.649000000000001},{"$f":"GK16+GM16+GN16+GO16","v":-18.411999999999999},null,null,{"$f":"GM17","v":0},{"$f":"GN17+GN18","v":-0.32},{"$f":"GO19+GO18","v":-18.091999999999999},{"$f":"GQ16+GS16+GT16+GU16","v":-17.857000000000003},null,null,{"$f":"GS17","v":0},{"$f":"GT17+GT18","v":-0.3},{"$f":"GU19+GU18","v":-17.557000000000002},{"$f":"GW16+GY16+GZ16+HA16","v":-36.636000000000003},null,null,{"$f":"GY17","v":0},{"$f":"GZ17+GZ18","v":-0.63},{"$f":"HA19+HA18","v":-36.006},{"$f":"HC16+HE16+HF16+HG16","v":-18.612999999999996},null,null,{"$f":"HE17","v":0},{"$f":"HF17+HF18","v":-0.33},{"$f":"HG19+HG18","v":-18.282999999999998},{"$f":"HI16+HK16+HL16+HM16","v":-18.023},null,null,{"$f":"HK17","v":0},{"$f":"HL17+HL18","v":-0.3},{"$f":"HM19+HM18","v":-17.722999999999999}]
[null,null,null,"1.1.1","ВН",15.81,null,null,null,{"$f":"G15-G25","v":15.81},null,7.48,null,null,null,{"$f":"M15-M25","v":7.48},null,8.33,null,null,null,{"$f":"S15-S25","v":8.33},null,{"$f":"Y17+AA17+AB17+AC17","v":17.343401},null,null,{"$f":"П1.30!K35","v":0},{"$f":"П1.30!L35","v":17.343401},null,8.5947309999999977,null,null,{"$f":"П1.30!Q35","v":0},{"$f":"П1.30!R35","v":8.5947309999999977},null,8.7486700000000006,null,null,{"$f":"П1.30!W35","v":0},{"$f":"П1.30!X35","v":8.7486700000000006},null,17.408000000000001,null,null,{"$f":"AY17+BE17","v":0},{"$f":"AZ17+BF17","v":17.408000000000001},null,8.6100000000000012,null,null,{"$f":"П1.30!BA35","v":0},{"$f":"П1.30!BB35","v":8.6100000000000012},null,8.798,null,null,{"$f":"П1.30!BG35","v":0},{"$f":"П1.30!BH35","v":8.798},null,{"$f":"BI17+BK17+BL17+BM17","v":-0.6399999999999999},null,null,{"$f":"BQ17+BW17","v":0},{"$f":"BR17+BX17","v":-0.6399999999999999},null,{"$f":"BQ17+BR17","v":-0.32999999999999996},null,null,0,-0.32999999999999996,null,{"$f":"BW17+BX17","v":-0.31},null,null,0,-0.31,null,{"$f":"CC17+CD17","v":-7.0000000000000007E-2},null,null,null,{"$f":"CA15-CA25","v":-7.0000000000000007E-2},null,{"$f":"CI17+CJ17","v":-0.06},null,null,null,{"$f":"CG15-CG25","v":-0.06},null,{"$f":"CO17+CP17","v":-0.06},null,null,null,{"$f":"CM15-CM25","v":-0.06},null,{"$f":"CU17+CV17","v":-0.05},null,null,null,{"$f":"CS15-CS25","v":-0.05},null,{"$f":"DA17+DB17","v":-0.05},null,null,null,{"$f":"CY15-CY25","v":-0.05},null,{"$f":"DG17+DH17","v":-0.04},null,null,null,{"$f":"DE15-DE25","v":-0.04},null,{"$f":"DM17+DN17","v":-0.04},null,null,null,{"$f":"DK15-DK25","v":-0.04},null,{"$f":"DS17+DT17","v":-0.04},null,null,null,{"$f":"DQ15-DQ25","v":-0.04},null,{"$f":"DY17+DZ17","v":-0.05},null,null,null,{"$f":"DW15-DW25","v":-0.05},null,{"$f":"EE17+EF17","v":-0.06},null,null,null,{"$f":"EC15-EC25","v":-0.06},null,{"$f":"EK17+EL17","v":-0.06},null,null,null,{"$f":"EI15-EI25","v":-0.06},null,{"$f":"EQ17+ER17","v":-0.06},null,null,null,{"$f":"EO15-EO25","v":-0.06},null,{"$f":"EU17+EW17+EX17+EY17","v":-0.61},null,null,null,{"$f":"EU15-EU25","v":-0.61},null,-0.32,null,null,null,{"$f":"FA15-FA25","v":-0.32},null,-0.28999999999999998,null,null,null,{"$f":"FG15-FG25","v":-0.28999999999999998},null,-0.62,null,null,null,{"$f":"FM15-FM25","v":-0.62},null,-0.32,null,null,null,{"$f":"FS15-FS25","v":-0.32},null,-0.3,null,null,null,{"$f":"FY15-FY25","v":-0.3},null,-0.62,null,null,null,{"$f":"GE15-GE25","v":-0.62},null,-0.32,null,null,null,{"$f":"GK15-GK25","v":-0.32},null,-0.3,null,null,null,{"$f":"GQ15-GQ25","v":-0.3},null,-0.63,null,null,null,{"$f":"GW15-GW25","v":-0.63},null,-0.33,null,null,null,{"$f":"HC15-HC25","v":-0.33},null,-0.3,null,null,null,{"$f":"HI15-HI25","v":-0.3}]
[null,null,null,"1.1.2","СН1",0,null,null,null,null,null,0,null,null,null,null,null,0,null,null,null,null,null,0,null,null,null,{"$f":"П1.30!L36","v":0},{"$f":"П1.30!M36","v":0},0,null,null,null,{"$f":"П1.30!R36","v":0},{"$f":"П1.30!S36","v":0},0,null,null,null,{"$f":"П1.30!X36","v":0},{"$f":"П1.30!Y36","v":0},0,null,null,null,{"$f":"AZ18+BF18","v":0},{"$f":"BA18+BG18","v":0},0,null,null,null,{"$f":"П1.30!BB36","v":0},{"$f":"П1.30!BC36","v":0},0,null,null,null,{"$f":"П1.30!BH36","v":0},{"$f":"П1.30!BI36","v":0},0,null,null,null,{"$f":"BR18+BX18","v":0},{"$f":"BS18+BY18","v":0},{"$f":"BR18+BS18","v":0},null,null,null,0,0,{"$f":"BX18+BY18","v":0},null,null,null,0,0,{"$f":"CD18+CE18","v":0},null,null,null,null,null,{"$f":"CJ18+CK18","v":0},null,null,null,null,null,{"$f":"CP18+CQ18","v":0},null,null,null,null,null,{"$f":"CV18+CW18","v":0},null,null,null,null,null,{"$f":"DB18+DC18","v":0},null,null,null,null,null,{"$f":"DH18+DI18","v":0},null,null,null,null,null,{"$f":"DN18+DO18","v":0},null,null,null,null,null,{"$f":"DT18+DU18","v":0},null,null,null,null,null,{"$f":"DZ18+EA18","v":0},null,null,null,null,null,{"$f":"EF18+EG18","v":0},null,null,null,null,null,{"$f":"EL18+EM18","v":0},null,null,null,null,null,{"$f":"ER18+ES18","v":0},null,null,null,null,null,0,null,null,null,null,null,0,null,null,null,null,null,0,null,null,null,null,null,0,null,null,null,null,null,0,null,null,null,null,null,0,null,null,null,null,null,0,null,null,null,null,null,0,null,null,null,null,null,0,null,null,null,null,null,0,null,null,null,null,null,0,null,null,null,null,null,0]
[null,null,null,"1.1.3","СН2",10.323600000000003,null,null,null,null,{"$f":"J15-J25-J30","v":10.323600000000003},5.5054999999999996,null,null,null,null,{"$f":"P15-P25-P30","v":5.5054999999999996},4.8180999999999976,null,null,null,null,{"$f":"V15-V25-V30","v":4.8180999999999976},12.434665000000008,null,null,null,null,{"$f":"П1.30!M37","v":12.434665000000008},6.8091669999999942,null,null,null,null,{"$f":"П1.30!S37","v":6.8091669999999942},5.6254980000000057,null,null,null,null,{"$f":"П1.30!Y37","v":5.6254980000000057},11.823030000000006,null,null,null,null,{"$f":"BA19+BG19","v":11.823030000000006},6.5851800000000038,null,null,null,null,{"$f":"П1.30!BC37","v":6.5851800000000038},5.2378500000000026,null,null,null,null,{"$f":"П1.30!BI37","v":5.2378500000000026},-34.576999999999998,null,null,null,null,{"$f":"BS19+BY19","v":-34.576999999999998},{"$f":"BS19","v":-17.548000000000002},null,null,null,null,-17.548000000000002,{"$f":"BY19","v":-17.029},null,null,null,null,-17.029,{"$f":"CE19","v":-3.6019999999999999},null,null,null,null,{"$f":"CD15-CD25-CD30","v":-3.6019999999999999},{"$f":"CK19","v":-3.0580000000000003},null,null,null,null,{"$f":"CJ15-CJ25-CJ30","v":-3.0580000000000003},{"$f":"CQ19","v":-3.2130000000000001},null,null,null,null,{"$f":"CP15-CP25-CP30","v":-3.2130000000000001},{"$f":"CW19","v":-2.6440000000000001},null,null,null,null,{"$f":"CV15-CV25-CV30","v":-2.6440000000000001},{"$f":"DC19","v":-2.7530000000000001},null,null,null,null,{"$f":"DB15-DB25-DB30","v":-2.7530000000000001},{"$f":"DI19","v":-2.278},null,null,null,null,{"$f":"DH15-DH25-DH30","v":-2.278},{"$f":"DO19","v":-2.23},null,null,null,null,{"$f":"DN15-DN25-DN30","v":-2.23},{"$f":"DU19","v":-2.3560000000000003},null,null,null,null,{"$f":"DT15-DT25-DT30","v":-2.3560000000000003},{"$f":"EA19","v":-2.6320000000000001},null,null,null,null,{"$f":"DZ15-DZ25-DZ30","v":-2.6320000000000001},{"$f":"EG19","v":-3.3549999999999995},null,null,null,null,{"$f":"EF15-EF25-EF30","v":-3.3549999999999995},{"$f":"EM19","v":-3.3840000000000003},null,null,null,null,{"$f":"EL15-EL25-EL30","v":-3.3840000000000003},{"$f":"ES19","v":-3.0720000000000001},null,null,null,null,{"$f":"ER15-ER25-ER30","v":-3.0720000000000001},-34.943999999999996,null,null,null,null,{"$f":"EX15-EX25-EX30","v":-34.943999999999996},-17.744,null,null,null,null,{"$f":"FD15-FD25-FD30","v":-17.744},-17.2,null,null,null,null,{"$f":"FJ15-FJ25-FJ30","v":-17.2},-35.305,null,null,null,null,{"$f":"FP15-FP25-FP30","v":-35.305},-17.922000000000001,null,null,null,null,{"$f":"FV15-FV25-FV30","v":-17.922000000000001},-17.383000000000003,null,null,null,null,{"$f":"GB15-GB25-GB30","v":-17.383000000000003},-35.649000000000001,null,null,null,null,{"$f":"GH15-GH25-GH30","v":-35.649000000000001},-18.091999999999999,null,null,null,null,{"$f":"GN15-GN25-GN30","v":-18.091999999999999},-17.557000000000002,null,null,null,null,{"$f":"GT15-GT25-GT30","v":-17.557000000000002},-36.006,null,null,null,null,{"$f":"GZ15-GZ25-GZ30","v":-36.006},-18.282999999999998,null,null,null,null,{"$f":"HF15-HF25-HF30","v":-18.282999999999998},-17.722999999999999,null,null,null,null,{"$f":"HL15-HL25-HL30","v":-17.722999999999999}]
[null,null,null,null,"из 1.1 поступление из сети РСК",0,null,null,null,null,null,0,null,null,null,null,null,0,null,null,null,null,null,0,{"$f":"П1.30!I23","v":0},null,{"$f":"П1.30!K23","v":0},{"$f":"П1.30!L23","v":0},{"$f":"П1.30!M23","v":0},0,{"$f":"П1.30!O23","v":0},null,{"$f":"П1.30!Q23","v":0},{"$f":"П1.30!R23","v":0},{"$f":"П1.30!S23","v":0},0,{"$f":"П1.30!U23","v":0},null,{"$f":"П1.30!W23","v":0},{"$f":"П1.30!X23","v":0},{"$f":"П1.30!Y23","v":0},0,{"$f":"AW20+BC20","v":0},null,{"$f":"AY20+BE20","v":0},0,{"$f":"BA20+BG20","v":0},0,{"$f":"П1.30!AY23","v":0},null,{"$f":"П1.30!BA23","v":0},{"$f":"П1.30!BB23","v":0},{"$f":"П1.30!BC23","v":0},0,{"$f":"П1.30!BE23","v":0},null,{"$f":"П1.30!BG23","v":0},{"$f":"П1.30!BH23","v":0},{"$f":"П1.30!BI23","v":0},0,{"$f":"BO20+BU20","v":0},null,{"$f":"BQ20+BW20","v":0},{"$f":"BR20+BX20","v":0},0,{"$f":"BO20+BQ20+BR20+BS20","v":0},{"$f":"CA20+CG20+CM20+CS20+CY20+DE20","v":0},null,{"$f":"CC20+CI20+CO20+CU20+DA20+DG20","v":0},0,0,{"$f":"BU20+BW20+BX20+BY20","v":0},0,null,0,0,0,{"$f":"SUM(CA20:CE20)","v":0},null,null,null,null,null,{"$f":"SUM(CG20:CK20)","v":0},null,null,null,null,null,{"$f":"SUM(CM20:CQ20)","v":0},null,null,null,null,null,{"$f":"SUM(CS20:CW20)","v":0},null,null,null,null,null,{"$f":"SUM(CY20:DC20)","v":0},null,null,null,null,null,{"$f":"SUM(DE20:DI20)","v":0},null,null,null,null,null,{"$f":"SUM(DK20:DO20)","v":0},null,null,null,null,null,{"$f":"SUM(DQ20:DU20)","v":0},null,null,null,null,null,{"$f":"SUM(DW20:EA20)","v":0},null,null,null,null,null,{"$f":"SUM(EC20:EG20)","v":0},null,null,null,null,null,{"$f":"SUM(EI20:EM20)","v":0},null,null,null,null,null,{"$f":"SUM(EO20:ES20)","v":0},null,null,null,null,null,0,null,null,null,null,null,0,null,null,null,null,null,0,null,null,null,null,null,0,null,null,null,null,null,0,null,null,null,null,null,0,null,null,null,null,null,0,null,null,null,null,null,0,null,null,null,null,null,0,null,null,null,null,null,0,null,null,null,null,null,0,null,null,null,null,null,0]
[null,null,null,"1.2","от электростанций ПЭ (ЭСО)",0,null,null,null,null,null,0,null,null,null,null,null,0,null,null,null,null,null,0,{"$f":"П1.30!I18","v":0},null,{"$f":"П1.30!K18","v":0},{"$f":"П1.30!L18","v":0},{"$f":"П1.30!M18","v":0},0,{"$f":"П1.30!O18","v":0},null,{"$f":"П1.30!Q18","v":0},{"$f":"П1.30!R18","v":0},{"$f":"П1.30!S18","v":0},0,{"$f":"П1.30!U18","v":0},null,{"$f":"П1.30!W18","v":0},{"$f":"П1.30!X18","v":0},{"$f":"П1.30!Y18","v":0},0,{"$f":"AW21+BC21","v":0},null,0,0,{"$f":"BA21+BG21","v":0},0,{"$f":"П1.30!AY18","v":0},null,{"$f":"П1.30!BA18","v":0},{"$f":"П1.30!BB18","v":0},{"$f":"П1.30!BC18","v":0},0,{"$f":"П1.30!BE18","v":0},null,{"$f":"П1.30!BG18","v":0},{"$f":"П1.30!BH18","v":0},{"$f":"П1.30!BI18","v":0},0,{"$f":"BO21+BU21","v":0},null,{"$f":"BQ21+BW21","v":0},0,0,0,{"$f":"CA21+CG21+CM21+CS21+CY21+DE21","v":0},null,{"$f":"CC21+CI21+CO21+CU21+DA21+DG21","v":0},0,0,0,0,null,0,0,0,{"$f":"SUM(CA21:CE21)","v":0},null,null,null,null,null,{"$f":"SUM(CG21:CK21)","v":0},null,null,null,null,null,{"$f":"SUM(CM21:CQ21)","v":0},null,null,null,null,null,{"$f":"SUM(CS21:CW21)","v":0},null,null,null,null,null,{"$f":"SUM(CY21:DC21)","v":0},null,null,null,null,null,{"$f":"SUM(DE21:DI21)","v":0},null,null,null,null,null,{"$f":"SUM(DK21:DO21)","v":0},null,null,null,null,null,{"$f":"SUM(DQ21:DU21)","v":0},null,null,null,null,null,{"$f":"SUM(DW21:EA21)","v":0},null,null,null,null,null,{"$f":"SUM(EC21:EG21)","v":0},null,null,null,null,null,{"$f":"SUM(EI21:EM21)","v":0},null,null,null,null,null,{"$f":"SUM(EO21:ES21)","v":0},null,null,null,null,null,0,null,null,null,null,null,0,null,null,null,null,null,0,null,null,null,null,null,0,null,null,null,null,null,0,null,null,null,null,null,0,null,null,null,null,null,0,null,null,null,null,null,0,null,null,null,null,null,0,null,null,null,null,null,0,null,null,null,null,null,0,null,null,null,null,null,0]
[null,null,null,"1.3","от других поставщиков (в т.ч. с оптового рынка)",39.67,{"$f":"M22+S22","v":15.93},null,null,{"$f":"P22+V22","v":23.740000000000002},null,19.39,7.54,null,null,11.85,null,20.28,8.39,null,null,11.89,null,46.413522,{"$f":"П1.30!I21","v":17.752230999999998},null,{"$f":"П1.30!K21","v":0},{"$f":"П1.30!L21","v":28.661291000000002},{"$f":"П1.30!M21","v":0},23.746003999999996,{"$f":"П1.30!O21","v":8.7092509999999983},null,{"$f":"П1.30!Q21","v":0},{"$f":"П1.30!R21","v":15.036752999999997},{"$f":"П1.30!S21","v":0},22.667518000000001,{"$f":"П1.30!U21","v":9.04298},null,{"$f":"П1.30!W21","v":0},{"$f":"П1.30!X21","v":13.624538000000003},{"$f":"П1.30!Y21","v":0},44.564999999999998,{"$f":"AW22+BC22","v":17.608000000000001},null,0,26.957000000000001,{"$f":"BA22+BG22","v":0},22.531000000000002,{"$f":"П1.30!AY21","v":8.7100000000000009},null,{"$f":"П1.30!BA21","v":0},{"$f":"П1.30!BB21","v":13.821000000000002},{"$f":"П1.30!BC21","v":0},22.033999999999999,{"$f":"П1.30!BE21","v":8.8979999999999997},null,{"$f":"П1.30!BG21","v":0},{"$f":"П1.30!BH21","v":13.136000000000001},{"$f":"П1.30!BI21","v":0},{"$f":"BI22+BK22+BL22+BM22","v":0},{"$f":"BO22+BU22","v":0},null,{"$f":"BQ22+BW22","v":0},0,0,0,{"$f":"CA22+CG22+CM22+CS22+CY22+DE22","v":0},null,{"$f":"CC22+CI22+CO22+CU22+DA22+DG22","v":0},0,0,0,0,null,0,0,0,{"$f":"SUM(CA22:CE22)","v":0},null,null,null,null,null,{"$f":"SUM(CG22:CK22)","v":0},null,null,null,null,null,{"$f":"SUM(CM22:CQ22)","v":0},null,null,null,null,null,{"$f":"SUM(CS22:CW22)","v":0},null,null,null,null,null,{"$f":"SUM(CY22:DC22)","v":0},null,null,null,null,null,{"$f":"SUM(DE22:DI22)","v":0},null,null,null,null,null,{"$f":"SUM(DK22:DO22)","v":0},null,null,null,null,null,{"$f":"SUM(DQ22:DU22)","v":0},null,null,null,null,null,{"$f":"SUM(DW22:EA22)","v":0},null,null,null,null,null,{"$f":"SUM(EC22:EG22)","v":0},null,null,null,null,null,{"$f":"SUM(EI22:EM22)","v":0},null,null,null,null,null,{"$f":"SUM(EO22:ES22)","v":0},null,null,null,null,null,0,null,null,null,null,null,0,null,null,null,null,null,0,null,null,null,null,null,0,null,null,null,null,null,0,null,null,null,null,null,0,null,null,null,null,null,0,null,null,null,null,null,0,null,null,null,null,null,0,null,null,null,null,null,0,null,null,null,null,null,0,null,null,null,null,null,0]
[null,null,null,"1.4","Поступление из смежных субъектов",0,null,null,null,null,null,0,null,null,null,null,null,0,null,null,null,null,null,0,{"$f":"П1.30!I33","v":0},null,{"$f":"П1.30!K33","v":0},{"$f":"П1.30!L33","v":0},{"$f":"П1.30!M33","v":0},0,{"$f":"П1.30!O33","v":0},null,{"$f":"П1.30!Q33","v":0},{"$f":"П1.30!R33","v":0},{"$f":"П1.30!S33","v":0},0,{"$f":"П1.30!U33","v":0},null,{"$f":"П1.30!W33","v":0},{"$f":"П1.30!X33","v":0},{"$f":"П1.30!Y33","v":0},0,{"$f":"AW23+BC23","v":0},null,0,0,{"$f":"BA23+BG23","v":0},0,{"$f":"П1.30!AY32","v":0},null,{"$f":"П1.30!BA32","v":0},{"$f":"П1.30!BB32","v":0},{"$f":"П1.30!BC32","v":0},0,{"$f":"П1.30!BE32","v":0},null,{"$f":"П1.30!BG32","v":0},{"$f":"П1.30!BH32","v":0},{"$f":"П1.30!BI32","v":0},0,{"$f":"BO23+BU23","v":0},null,{"$f":"BQ23+BW23","v":0},0,0,0,{"$f":"CA23+CG23+CM23+CS23+CY23+DE23","v":0},null,{"$f":"CC23+CI23+CO23+CU23+DA23+DG23","v":0},0,0,0,0,null,0,0,0,{"$f":"SUM(CA23:CE23)","v":0},null,null,null,null,null,{"$f":"SUM(CG23:CK23)","v":0},null,null,null,null,null,{"$f":"SUM(CM23:CQ23)","v":0},null,null,null,null,null,{"$f":"SUM(CS23:CW23)","v":0},null,null,null,null,null,{"$f":"SUM(CY23:DC23)","v":0},null,null,null,null,null,{"$f":"SUM(DE23:DI23)","v":0},null,null,null,null,null,{"$f":"SUM(DK23:DO23)","v":0},null,null,null,null,null,{"$f":"SUM(DQ23:DU23)","v":0},null,null,null,null,null,{"$f":"SUM(DW23:EA23)","v":0},null,null,null,null,null,{"$f":"SUM(EC23:EG23)","v":0},null,null,null,null,null,{"$f":"SUM(EI23:EM23)","v":0},null,null,null,null,null,{"$f":"SUM(EO23:ES23)","v":0},null,null,null,null,null,0,null,null,null,null,null,0,null,null,null,null,null,0,null,null,null,null,null,0,null,null,null,null,null,0,null,null,null,null,null,0,null,null,null,null,null,0,null,null,null,null,null,0,null,null,null,null,null,0,null,null,null,null,null,0,null,null,null,null,null,0,null,null,null,null,null,0]
[null,null,null,"2","Потери электроэнергии в сети (для проверки с П1.3)",0.39,{"$f":"G27+G28","v":0.12},null,{"$f":"I27+I28","v":0},{"$f":"J27+J28","v":0.27},{"$f":"K27+K28","v":0},0.19,{"$f":"M27+M28","v":0.06},null,{"$f":"O27+O28","v":0},{"$f":"P27+P28","v":0.13},{"$f":"Q27+Q28","v":0},0.2,{"$f":"S27+S28","v":0.06},null,{"$f":"U27+U28","v":0},{"$f":"V27+V28","v":0.14000000000000001},{"$f":"W27+W28","v":0},1.265217,{"$f":"Y27+Y28","v":0.40883000000000003},null,{"$f":"AA27+AA28","v":0},{"$f":"AB27+AB28","v":0.85638700000000001},{"$f":"AC27+AC28","v":0},0.350968,{"$f":"AE27+AE28","v":0.11451999999999998},null,{"$f":"AG27+AG28","v":0},{"$f":"AH27+AH28","v":0.23644800000000002},{"$f":"AI27+AI28","v":0},0.91424900000000009,{"$f":"AK27+AK28","v":0.29431000000000002},null,{"$f":"AM27+AM28","v":0},{"$f":"AN27+AN28","v":0.61993900000000002},{"$f":"AO27+AO28","v":0},{"$f":"AQ24+AS24+AT24+AU24","v":0.6100000000000001},{"$f":"AQ27+AQ28","v":0.2},null,{"$f":"AS27+AS28","v":0},{"$f":"AT27+AT28","v":0.41000000000000003},{"$f":"AU27+AU28","v":0},{"$f":"AW24+AY24+AZ24+BA24","v":0.30000000000000004},{"$f":"AW27+AW28","v":0.1},null,{"$f":"AY27+AY28","v":0},{"$f":"AZ27+AZ28","v":0.2},{"$f":"BA27+BA28","v":0},{"$f":"BC24+BE24+BF24+BG24","v":0.31},{"$f":"BC27+BC28","v":0.1},null,{"$f":"BE27+BE28","v":0},{"$f":"BF27+BF28","v":0.21},{"$f":"BG27+BG28","v":0},{"$f":"BI24+BK24+BL24+BM24","v":1.8815},{"$f":"BI27+BI28","v":0.41389999999999999},null,{"$f":"BK27+BK28","v":0},{"$f":"BL27+BL28","v":1.4676},{"$f":"BM27+BM28","v":0},0.97499999999999998,{"$f":"BO27+BO28","v":0.2145},null,{"$f":"BQ27+BQ28","v":0},{"$f":"BR27+BR28","v":0.76049999999999995},{"$f":"BS27+BS28","v":0},0.90649999999999997,{"$f":"BU27+BU28","v":0.19939999999999999},null,{"$f":"BW27+BW28","v":0},{"$f":"BX27+BX28","v":0.70709999999999995},{"$f":"BY27+BY28","v":0},null,null,null,null,null,null,null,null,null,null,null,null,null,null,null,null,null,null,null,null,null,null,null,null,null,null,null,null,null,null,null,null,null,null,null,null,null,null,null,null,null,null,null,null,null,null,null,null,null,null,null,null,null,null,null,null,null,null,null,null,null,null,null,null,null,null,null,null,null,null,null,null,1.9,{"$f":"EU27+EU28","v":0.61},null,{"$f":"EW27+EW28","v":0},{"$f":"EX27+EX28","v":1.29},{"$f":"EY27+EY28","v":0},0.99,{"$f":"FA27+FA28","v":0.32},null,{"$f":"FC27+FC28","v":0},{"$f":"FD27+FD28","v":0.67},{"$f":"FE27+FE28","v":0},0.90999999999999992,{"$f":"FG27+FG28","v":0.28999999999999998},null,{"$f":"FI27+FI28","v":0},{"$f":"FJ27+FJ28","v":0.62},{"$f":"FK27+FK28","v":0},1.9300000000000002,{"$f":"FM27+FM28","v":0.62},null,{"$f":"FO27+FO28","v":0},{"$f":"FP27+FP28","v":1.31},{"$f":"FQ27+FQ28","v":0},1,{"$f":"FS27+FS28","v":0.32},null,{"$f":"FU27+FU28","v":0},{"$f":"FV27+FV28","v":0.68},{"$f":"FW27+FW28","v":0},0.92999999999999994,{"$f":"FY27+FY28","v":0.3},null,{"$f":"GA27+GA28","v":0},{"$f":"GB27+GB28","v":0.63},{"$f":"GC27+GC28","v":0},1.94,{"$f":"GE27+GE28","v":0.62},null,{"$f":"GG27+GG28","v":0},{"$f":"GH27+GH28","v":1.32},{"$f":"GI27+GI28","v":0},1,{"$f":"GK27+GK28","v":0.32},null,{"$f":"GM27+GM28","v":0},{"$f":"GN27+GN28","v":0.68},{"$f":"GO27+GO28","v":0},0.94,{"$f":"GQ27+GQ28","v":0.3},null,{"$f":"GS27+GS28","v":0},{"$f":"GT27+GT28","v":0.64},{"$f":"GU27+GU28","v":0},1.96,{"$f":"GW27+GW28","v":0.63},null,{"$f":"GY27+GY28","v":0},{"$f":"GZ27+GZ28","v":1.33},{"$f":"HA27+HA28","v":0},1.02,{"$f":"HC27+HC28","v":0.33},null,{"$f":"HE27+HE28","v":0},{"$f":"HF27+HF28","v":0.69},{"$f":"HG27+HG28","v":0},0.94,{"$f":"HI27+HI28","v":0.3},null,{"$f":"HK27+HK28","v":0},{"$f":"HL27+HL28","v":0.64},{"$f":"HM27+HM28","v":0}]
[null,null,null,"2","Потери электроэнергии в сети",0.39680000000000004,{"$f":"П1.3!G29","v":0.12},null,{"$f":"П1.3!I29","v":0},{"$f":"П1.3!J29","v":0.27680000000000005},{"$f":"П1.3!K29","v":0},0.19400000000000001,{"$f":"П1.3!M29","v":0.06},null,{"$f":"П1.3!O29","v":0},{"$f":"П1.3!P29","v":0.13400000000000001},{"$f":"П1.3!Q29","v":0},0.20280000000000001,{"$f":"П1.3!S29","v":0.06},null,{"$f":"П1.3!U29","v":0},{"$f":"П1.3!V29","v":0.14280000000000001},{"$f":"П1.3!W29","v":0},1.26,{"$f":"П1.3!Y29","v":0.39999999999999997},null,{"$f":"П1.3!AA29","v":0},{"$f":"П1.3!AB29","v":0.86},{"$f":"П1.3!AC29","v":0},0.35,{"$f":"П1.3!AE29","v":0.11},null,{"$f":"П1.3!AG29","v":0},{"$f":"П1.3!AH29","v":0.24},{"$f":"П1.3!AI29","v":0},0.90999999999999992,{"$f":"П1.3!AK29","v":0.28999999999999998},null,{"$f":"П1.3!AM29","v":0},{"$f":"П1.3!AN29","v":0.62},{"$f":"П1.3!AO29","v":0},{"$f":"AQ25+AS25+AT25+AU25","v":0.6100000000000001},{"$f":"П1.3!AQ29","v":0.2},null,{"$f":"П1.3!AS29","v":0},{"$f":"П1.3!AT29","v":0.41000000000000003},{"$f":"П1.3!AU29","v":0},{"$f":"AW25+AY25+AZ25+BA25","v":0.30000000000000004},{"$f":"П1.3!AW29","v":0.1},null,{"$f":"П1.3!AY29","v":0},{"$f":"П1.3!AZ29","v":0.2},{"$f":"П1.3!BA29","v":0},{"$f":"BC25+BE25+BF25+BG25","v":0.31},{"$f":"П1.3!BC29","v":0.1},null,{"$f":"П1.3!BE29","v":0},{"$f":"П1.3!BF29","v":0.21},{"$f":"П1.3!BG29","v":0},{"$f":"BI25+BK25+BL25+BM25","v":1.8815},{"$f":"П1.3!BI29","v":0.41389999999999999},null,{"$f":"П1.3!BK29","v":0},{"$f":"П1.3!BL29","v":1.4676},{"$f":"П1.3!BM29","v":0},0.97499999999999998,{"$f":"П1.3!BO29","v":0.2145},null,{"$f":"П1.3!BQ29","v":0},{"$f":"П1.3!BR29","v":0.76049999999999995},{"$f":"П1.3!BS29","v":0},0.90649999999999997,{"$f":"П1.3!BU29","v":0.19939999999999999},null,{"$f":"П1.3!BW29","v":0},{"$f":"П1.3!BX29","v":0.70709999999999995},{"$f":"П1.3!BY29","v":0},{"$f":"SUM(CA25:CE25)","v":0.2},{"$f":"П1.3!CA$29","v":7.0000000000000007E-2},null,{"$f":"П1.3!CC$29","v":0},{"$f":"П1.3!CD$29","v":0.13},{"$f":"П1.3!CE$29","v":0},{"$f":"SUM(CG25:CK25)","v":0.16999999999999998},{"$f":"П1.3!CG$29","v":0.06},null,{"$f":"П1.3!CI$29","v":0},{"$f":"П1.3!CJ$29","v":0.11},{"$f":"П1.3!CK$29","v":0},{"$f":"SUM(CM25:CQ25)","v":0.19},{"$f":"П1.3!CM$29","v":0.06},null,{"$f":"П1.3!CO$29","v":0},{"$f":"П1.3!CP$29","v":0.13},{"$f":"П1.3!CQ$29","v":0},{"$f":"SUM(CS25:CW25)","v":0.14000000000000001},{"$f":"П1.3!CS$29","v":0.05},null,{"$f":"П1.3!CU$29","v":0},{"$f":"П1.3!CV$29","v":0.09},{"$f":"П1.3!CW$29","v":0},{"$f":"SUM(CY25:DC25)","v":0.14000000000000001},{"$f":"П1.3!CY$29","v":0.05},null,{"$f":"П1.3!DA$29","v":0},{"$f":"П1.3!DB$29","v":0.09},{"$f":"П1.3!DC$29","v":0},{"$f":"SUM(DE25:DI25)","v":0.12},{"$f":"П1.3!DE$29","v":0.04},null,{"$f":"П1.3!DG$29","v":0},{"$f":"П1.3!DH$29","v":0.08},{"$f":"П1.3!DI$29","v":0},{"$f":"SUM(DK25:DO25)","v":0.12},{"$f":"П1.3!DK$29","v":0.04},null,{"$f":"П1.3!DM$29","v":0},{"$f":"П1.3!DN$29","v":0.08},{"$f":"П1.3!DO$29","v":0},{"$f":"SUM(DQ25:DU25)","v":0.12},{"$f":"П1.3!DQ$29","v":0.04},null,{"$f":"П1.3!DS$29","v":0},{"$f":"П1.3!DT$29","v":0.08},{"$f":"П1.3!DU$29","v":0},{"$f":"SUM(DW25:EA25)","v":0.14000000000000001},{"$f":"П1.3!DW$29","v":0.05},null,{"$f":"П1.3!DY$29","v":0},{"$f":"П1.3!DZ$29","v":0.09},{"$f":"П1.3!EA$29","v":0},{"$f":"SUM(EC25:EG25)","v":0.16999999999999998},{"$f":"П1.3!EC$29","v":0.06},null,{"$f":"П1.3!EE$29","v":0},{"$f":"П1.3!EF$29","v":0.11},{"$f":"П1.3!EG$29","v":0},{"$f":"SUM(EI25:EM25)","v":0.18},{"$f":"П1.3!EI$29","v":0.06},null,{"$f":"П1.3!EK$29","v":0},{"$f":"П1.3!EL$29","v":0.12},{"$f":"П1.3!EM$29","v":0},{"$f":"SUM(EO25:ES25)","v":0.16999999999999998},{"$f":"П1.3!EO$29","v":0.06},null,{"$f":"П1.3!EQ$29","v":0},{"$f":"П1.3!ER$29","v":0.11},{"$f":"П1.3!ES$29","v":0},1.9,{"$f":"П1.3!EU29","v":0.61},null,{"$f":"П1.3!EW29","v":0},{"$f":"П1.3!EX29","v":1.29},{"$f":"П1.3!EY29","v":0},0.99,{"$f":"П1.3!FA29","v":0.32},null,{"$f":"П1.3!FC29","v":0},{"$f":"П1.3!FD29","v":0.67},{"$f":"П1.3!FE29","v":0},0.90999999999999992,{"$f":"П1.3!FG29","v":0.28999999999999998},null,{"$f":"П1.3!FI29","v":0},{"$f":"П1.3!FJ29","v":0.62},{"$f":"П1.3!FK29","v":0},1.9300000000000002,{"$f":"П1.3!FM29","v":0.62},null,{"$f":"П1.3!FO29","v":0},{"$f":"П1.3!FP29","v":1.31},{"$f":"П1.3!FQ29","v":0},1,{"$f":"П1.3!FS29","v":0.32},null,{"$f":"П1.3!FU29","v":0},{"$f":"П1.3!FV29","v":0.68},{"$f":"П1.3!FW29","v":0},0.92999999999999994,{"$f":"П1.3!FY29","v":0.3},null,{"$f":"П1.3!GA29","v":0},{"$f":"П1.3!GB29","v":0.63},{"$f":"П1.3!GC29","v":0},1.94,{"$f":"П1.3!GE29","v":0.62},null,{"$f":"П1.3!GG29","v":0},{"$f":"П1.3!GH29","v":1.32},{"$f":"П1.3!GI29","v":0},1,{"$f":"П1.3!GK29","v":0.32},null,{"$f":"П1.3!GM29","v":0},{"$f":"П1.3!GN29","v":0.68},{"$f":"П1.3!GO29","v":0},0.94,{"$f":"П1.3!GQ29","v":0.3},null,{"$f":"П1.3!GS29","v":0},{"$f":"П1.3!GT29","v":0.64},{"$f":"П1.3!GU29","v":0},1.96,{"$f":"П1.3!GW29","v":0.63},null,{"$f":"П1.3!GY29","v":0},{"$f":"П1.3!GZ29","v":1.33},{"$f":"П1.3!HA29","v":0},1.02,{"$f":"П1.3!HC29","v":0.33},null,{"$f":"П1.3!HE29","v":0},{"$f":"П1.3!HF29","v":0.69},{"$f":"П1.3!HG29","v":0},0.94,{"$f":"П1.3!HI29","v":0.3},null,{"$f":"П1.3!HK29","v":0},{"$f":"П1.3!HL29","v":0.64},{"$f":"П1.3!HM29","v":0}]
[null,null,null,null,"то же в % (п.2/п.1)",{"$f":"IF(F15=0,0,F25/F15*100)","v":1.0002520796571717},{"$f":"IF(G15=0,0,G25/G15*100)","v":0.75329566854990582},null,{"$f":"IF(I15=0,0,I25/I15*100)","v":0},{"$f":"IF(J15=0,0,J25/J15*100)","v":0.69987357774968406},{"$f":"IF(K15=0,0,K25/K15*100)","v":0},{"$f":"IF(L15=0,0,L25/L15*100)","v":1.0005157297576071},{"$f":"IF(M15=0,0,M25/M15*100)","v":0.79575596816976124},null,{"$f":"IF(O15=0,0,O25/O15*100)","v":0},{"$f":"IF(P15=0,0,P25/P15*100)","v":0.69322296947749618},{"$f":"IF(Q15=0,0,Q25/Q15*100)","v":0},{"$f":"IF(R15=0,0,R25/R15*100)","v":1},{"$f":"IF(S15=0,0,S25/S15*100)","v":0.71513706793802145},null,{"$f":"IF(U15=0,0,U25/U15*100)","v":0},{"$f":"IF(V15=0,0,V25/V15*100)","v":0.70623145400593479},{"$f":"IF(W15=0,0,W25/W15*100)","v":0},{"$f":"IF(X15=0,0,X25/X15*100)","v":2.7147261093437383},{"$f":"IF(Y15=0,0,Y25/Y15*100)","v":2.2532379169694221},null,{"$f":"IF(AA15=0,0,AA25/AA15*100)","v":0},{"$f":"IF(AB15=0,0,AB25/AB15*100)","v":1.8693745411881031},{"$f":"IF(AC15=0,0,AC25/AC15*100)","v":0},{"$f":"IF(AD15=0,0,AD25/AD15*100)","v":1.4739322034983235},{"$f":"IF(AE15=0,0,AE25/AE15*100)","v":1.2630247997215838},null,{"$f":"IF(AG15=0,0,AG25/AG15*100)","v":0},{"$f":"IF(AH15=0,0,AH25/AH15*100)","v":1.0155942809177791},{"$f":"IF(AI15=0,0,AI25/AI15*100)","v":0},{"$f":"IF(AJ15=0,0,AJ25/AJ15*100)","v":4.0145551003863762},{"$f":"IF(AK15=0,0,AK25/AK15*100)","v":3.2069074574974175},null,{"$f":"IF(AM15=0,0,AM25/AM15*100)","v":0},{"$f":"IF(AN15=0,0,AN25/AN15*100)","v":2.771171662105854},{"$f":"IF(AO15=0,0,AO25/AO15*100)","v":0},{"$f":"IF(AP15=0,0,AP25/AP15*100)","v":1.3687871648154384},{"$f":"IF(AQ15=0,0,AQ25/AQ15*100)","v":1.1358473421172195},null,{"$f":"IF(AS15=0,0,AS25/AS15*100)","v":0},{"$f":"IF(AT15=0,0,AT25/AT15*100)","v":0.92415192155978798},{"$f":"IF(AU15=0,0,AU25/AU15*100)","v":0},{"$f":"IF(AV15=0,0,AV25/AV15*100)","v":1.3314988238427057},{"$f":"IF(AW15=0,0,AW25/AW15*100)","v":1.1481056257175659},null,{"$f":"IF(AY15=0,0,AY25/AY15*100)","v":0},{"$f":"IF(AZ15=0,0,AZ25/AZ15*100)","v":0.89162320003566486},{"$f":"IF(BA15=0,0,BA25/BA15*100)","v":0},{"$f":"IF(BB15=0,0,BB25/BB15*100)","v":1.4069165834619226},{"$f":"IF(BC15=0,0,BC25/BC15*100)","v":1.1238480557428636},null,{"$f":"IF(BE15=0,0,BE25/BE15*100)","v":0},{"$f":"IF(BF15=0,0,BF25/BF15*100)","v":0.95741770766845979},{"$f":"IF(BG15=0,0,BG25/BG15*100)","v":0},{"$f":"IF(BH15=0,0,BH25/BH15*100)","v":0},{"$f":"IF(BI15=0,0,BI25/BI15*100)","v":0},null,{"$f":"IF(BK15=0,0,BK25/BK15*100)","v":0},{"$f":"IF(BL15=0,0,BL25/BL15*100)","v":-229.31250000000003},{"$f":"IF(BM15=0,0,BM25/BM15*100)","v":0},{"$f":"IF(BN15=0,0,BN25/BN15*100)","v":0},{"$f":"IF(BO15=0,0,BO25/BO15*100)","v":0},null,{"$f":"IF(BQ15=0,0,BQ25/BQ15*100)","v":0},{"$f":"IF(BR15=0,0,BR25/BR15*100)","v":-230.45454545454547},{"$f":"IF(BS15=0,0,BS25/BS15*100)","v":0},{"$f":"IF(BT15=0,0,BT25/BT15*100)","v":0},{"$f":"IF(BU15=0,0,BU25/BU15*100)","v":0},null,{"$f":"IF(BW15=0,0,BW25/BW15*100)","v":0},{"$f":"IF(BX15=0,0,BX25/BX15*100)","v":-228.09677419354836},{"$f":"IF(BY15=0,0,BY25/BY15*100)","v":0},{"$f":"IF(BZ15=0,0,BZ25/BZ15*100)","v":0},{"$f":"IF(CA15=0,0,CA25/CA15*100)","v":0},null,{"$f":"IF(CC15=0,0,CC25/CC15*100)","v":0},{"$f":"IF(CD15=0,0,CD25/CD15*100)","v":-185.71428571428569},{"$f":"IF(CE15=0,0,CE25/CE15*100)","v":0},{"$f":"IF(CF15=0,0,CF25/CF15*100)","v":0},{"$f":"IF(CG15=0,0,CG25/CG15*100)","v":0},null,{"$f":"IF(CI15=0,0,CI25/CI15*100)","v":0},{"$f":"IF(CJ15=0,0,CJ25/CJ15*100)","v":-183.33333333333334},{"$f":"IF(CK15=0,0,CK25/CK15*100)","v":0},{"$f":"IF(CL15=0,0,CL25/CL15*100)","v":0},{"$f":"IF(CM15=0,0,CM25/CM15*100)","v":0},null,{"$f":"IF(CO15=0,0,CO25/CO15*100)","v":0},{"$f":"IF(CP15=0,0,CP25/CP15*100)","v":-216.66666666666669},{"$f":"IF(CQ15=0,0,CQ25/CQ15*100)","v":0},{"$f":"IF(CR15=0,0,CR25/CR15*100)","v":0},{"$f":"IF(CS15=0,0,CS25/CS15*100)","v":0},null,{"$f":"IF(CU15=0,0,CU25/CU15*100)","v":0},{"$f":"IF(CV15=0,0,CV25/CV15*100)","v":-179.99999999999997},{"$f":"IF(CW15=0,0,CW25/CW15*100)","v":0},{"$f":"IF(CX15=0,0,CX25/CX15*100)","v":0},{"$f":"IF(CY15=0,0,CY25/CY15*100)","v":0},null,{"$f":"IF(DA15=0,0,DA25/DA15*100)","v":0},{"$f":"IF(DB15=0,0,DB25/DB15*100)","v":-179.99999999999997},{"$f":"IF(DC15=0,0,DC25/DC15*100)","v":0},{"$f":"IF(DD15=0,0,DD25/DD15*100)","v":0},{"$f":"IF(DE15=0,0,DE25/DE15*100)","v":0},null,{"$f":"IF(DG15=0,0,DG25/DG15*100)","v":0},{"$f":"IF(DH15=0,0,DH25/DH15*100)","v":-200},{"$f":"IF(DI15=0,0,DI25/DI15*100)","v":0},{"$f":"IF(DJ15=0,0,DJ25/DJ15*100)","v":0},{"$f":"IF(DK15=0,0,DK25/DK15*100)","v":0},null,{"$f":"IF(DM15=0,0,DM25/DM15*100)","v":0},{"$f":"IF(DN15=0,0,DN25/DN15*100)","v":-200},{"$f":"IF(DO15=0,0,DO25/DO15*100)","v":0},{"$f":"IF(DP15=0,0,DP25/DP15*100)","v":0},{"$f":"IF(DQ15=0,0,DQ25/DQ15*100)","v":0},null,{"$f":"IF(DS15=0,0,DS25/DS15*100)","v":0},{"$f":"IF(DT15=0,0,DT25/DT15*100)","v":-200},{"$f":"IF(DU15=0,0,DU25/DU15*100)","v":0},{"$f":"IF(DV15=0,0,DV25/DV15*100)","v":0},{"$f":"IF(DW15=0,0,DW25/DW15*100)","v":0},null,{"$f":"IF(DY15=0,0,DY25/DY15*100)","v":0},{"$f":"IF(DZ15=0,0,DZ25/DZ15*100)","v":-179.99999999999997},{"$f":"IF(EA15=0,0,EA25/EA15*100)","v":0},{"$f":"IF(EB15=0,0,EB25/EB15*100)","v":0},{"$f":"IF(EC15=0,0,EC25/EC15*100)","v":0},null,{"$f":"IF(EE15=0,0,EE25/EE15*100)","v":0},{"$f":"IF(EF15=0,0,EF25/EF15*100)","v":-183.33333333333334},{"$f":"IF(EG15=0,0,EG25/EG15*100)","v":0},{"$f":"IF(EH15=0,0,EH25/EH15*100)","v":0},{"$f":"IF(EI15=0,0,EI25/EI15*100)","v":0},null,{"$f":"IF(EK15=0,0,EK25/EK15*100)","v":0},{"$f":"IF(EL15=0,0,EL25/EL15*100)","v":-200},{"$f":"IF(EM15=0,0,EM25/EM15*100)","v":0},{"$f":"IF(EN15=0,0,EN25/EN15*100)","v":0},{"$f":"IF(EO15=0,0,EO25/EO15*100)","v":0},null,{"$f":"IF(EQ15=0,0,EQ25/EQ15*100)","v":0},{"$f":"IF(ER15=0,0,ER25/ER15*100)","v":-183.33333333333334},{"$f":"IF(ES15=0,0,ES25/ES15*100)","v":0},{"$f":"IF(ET15=0,0,ET25/ET15*100)","v":0},{"$f":"IF(EU15=0,0,EU25/EU15*100)","v":0},null,{"$f":"IF(EW15=0,0,EW25/EW15*100)","v":0},{"$f":"IF(EX15=0,0,EX25/EX15*100)","v":-211.47540983606555},{"$f":"IF(EY15=0,0,EY25/EY15*100)","v":0},{"$f":"IF(EZ15=0,0,EZ25/EZ15*100)","v":0},{"$f":"IF(FA15=0,0,FA25/FA15*100)","v":0},null,{"$f":"IF(FC15=0,0,FC25/FC15*100)","v":0},{"$f":"IF(FD15=0,0,FD25/FD15*100)","v":-209.375},{"$f":"IF(FE15=0,0,FE25/FE15*100)","v":0},{"$f":"IF(FF15=0,0,FF25/FF15*100)","v":0},{"$f":"IF(FG15=0,0,FG25/FG15*100)","v":0},null,{"$f":"IF(FI15=0,0,FI25/FI15*100)","v":0},{"$f":"IF(FJ15=0,0,FJ25/FJ15*100)","v":-213.7931034482759},{"$f":"IF(FK15=0,0,FK25/FK15*100)","v":0},{"$f":"IF(FL15=0,0,FL25/FL15*100)","v":0},{"$f":"IF(FM15=0,0,FM25/FM15*100)","v":0},null,{"$f":"IF(FO15=0,0,FO25/FO15*100)","v":0},{"$f":"IF(FP15=0,0,FP25/FP15*100)","v":-211.29032258064515},{"$f":"IF(FQ15=0,0,FQ25/FQ15*100)","v":0},{"$f":"IF(FR15=0,0,FR25/FR15*100)","v":0},{"$f":"IF(FS15=0,0,FS25/FS15*100)","v":0},null,{"$f":"IF(FU15=0,0,FU25/FU15*100)","v":0},{"$f":"IF(FV15=0,0,FV25/FV15*100)","v":-212.5},{"$f":"IF(FW15=0,0,FW25/FW15*100)","v":0},{"$f":"IF(FX15=0,0,FX25/FX15*100)","v":0},{"$f":"IF(FY15=0,0,FY25/FY15*100)","v":0},null,{"$f":"IF(GA15=0,0,GA25/GA15*100)","v":0},{"$f":"IF(GB15=0,0,GB25/GB15*100)","v":-210},{"$f":"IF(GC15=0,0,GC25/GC15*100)","v":0},{"$f":"IF(GD15=0,0,GD25/GD15*100)","v":0},{"$f":"IF(GE15=0,0,GE25/GE15*100)","v":0},null,{"$f":"IF(GG15=0,0,GG25/GG15*100)","v":0},{"$f":"IF(GH15=0,0,GH25/GH15*100)","v":-212.90322580645164},{"$f":"IF(GI15=0,0,GI25/GI15*100)","v":0},{"$f":"IF(GJ15=0,0,GJ25/GJ15*100)","v":0},{"$f":"IF(GK15=0,0,GK25/GK15*100)","v":0},null,{"$f":"IF(GM15=0,0,GM25/GM15*100)","v":0},{"$f":"IF(GN15=0,0,GN25/GN15*100)","v":-212.5},{"$f":"IF(GO15=0,0,GO25/GO15*100)","v":0},{"$f":"IF(GP15=0,0,GP25/GP15*100)","v":0},{"$f":"IF(GQ15=0,0,GQ25/GQ15*100)","v":0},null,{"$f":"IF(GS15=0,0,GS25/GS15*100)","v":0},{"$f":"IF(GT15=0,0,GT25/GT15*100)","v":-213.33333333333334},{"$f":"IF(GU15=0,0,GU25/GU15*100)","v":0},{"$f":"IF(GV15=0,0,GV25/GV15*100)","v":0},{"$f":"IF(GW15=0,0,GW25/GW15*100)","v":0},null,{"$f":"IF(GY15=0,0,GY25/GY15*100)","v":0},{"$f":"IF(GZ15=0,0,GZ25/GZ15*100)","v":-211.11111111111111},{"$f":"IF(HA15=0,0,HA25/HA15*100)","v":0},{"$f":"IF(HB15=0,0,HB25/HB15*100)","v":0},{"$f":"IF(HC15=0,0,HC25/HC15*100)","v":0},null,{"$f":"IF(HE15=0,0,HE25/HE15*100)","v":0},{"$f":"IF(HF15=0,0,HF25/HF15*100)","v":-209.09090909090909},{"$f":"IF(HG15=0,0,HG25/HG15*100)","v":0},{"$f":"IF(HH15=0,0,HH25/HH15*100)","v":0},{"$f":"IF(HI15=0,0,HI25/HI15*100)","v":0},null,{"$f":"IF(HK15=0,0,HK25/HK15*100)","v":0},{"$f":"IF(HL15=0,0,HL25/HL15*100)","v":-213.33333333333334},{"$f":"IF(HM15=0,0,HM25/HM15*100)","v":0}]
[null,null,null,"2.1","Относимые на основное производство",0,null,null,null,null,null,{"$f":"M27+O27+P27+Q27","v":0},null,null,null,null,null,{"$f":"S27+U27+V27+W27","v":0},null,null,null,null,null,0,{"$f":"П1.30!I39","v":0},null,{"$f":"П1.30!K39","v":0},{"$f":"П1.30!L39","v":0},{"$f":"П1.30!M39","v":0},{"$f":"AE27+AG27+AH27+AI27","v":0},{"$f":"П1.30!O39","v":0},null,{"$f":"П1.30!Q39","v":0},{"$f":"П1.30!R39","v":0},{"$f":"П1.30!S39","v":0},{"$f":"AK27+AM27+AN27+AO27","v":0},{"$f":"П1.30!U39","v":0},null,{"$f":"П1.30!W39","v":0},{"$f":"П1.30!X39","v":0},{"$f":"П1.30!Y39","v":0},{"$f":"AQ27+AS27+AT27+AU27","v":0},{"$f":"П1.30!AS39","v":0},null,{"$f":"П1.30!AU39","v":0},{"$f":"П1.30!AV39","v":0},{"$f":"П1.30!AW39","v":0},{"$f":"AW27+AY27+AZ27+BA27","v":0},{"$f":"П1.30!AY39","v":0},null,{"$f":"П1.30!BA39","v":0},{"$f":"П1.30!BB39","v":0},{"$f":"П1.30!BC39","v":0},{"$f":"BC27+BE27+BF27+BG27","v":0},{"$f":"П1.30!BE39","v":0},null,{"$f":"П1.30!BG39","v":0},{"$f":"П1.30!BH39","v":0},{"$f":"П1.30!BI39","v":0},{"$f":"BI27+BK27+BL27+BM27","v":0},{"$f":"П1.30!CC39","v":0},null,{"$f":"П1.30!CE39","v":0},{"$f":"П1.30!CF39","v":0},{"$f":"П1.30!CG39","v":0},{"$f":"BO27+BQ27+BR27+BS27","v":0},{"$f":"П1.30!CI39","v":0},null,{"$f":"П1.30!CK39","v":0},{"$f":"П1.30!CL39","v":0},{"$f":"П1.30!CM39","v":0},{"$f":"BU27+BW27+BX27+BY27","v":0},{"$f":"П1.30!CO39","v":0},null,{"$f":"П1.30!CQ39","v":0},{"$f":"П1.30!CR39","v":0},{"$f":"П1.30!CS39","v":0},{"$f":"SUM(CA27:CE27)","v":0},null,null,null,null,null,{"$f":"SUM(CG27:CK27)","v":0},null,null,null,null,null,{"$f":"SUM(CM27:CQ27)","v":0},null,null,null,null,null,{"$f":"SUM(CS27:CW27)","v":0},null,null,null,null,null,{"$f":"SUM(CY27:DC27)","v":0},null,null,null,null,null,{"$f":"SUM(DE27:DI27)","v":0},null,null,null,null,null,{"$f":"SUM(DK27:DO27)","v":0},null,null,null,null,null,{"$f":"SUM(DQ27:DU27)","v":0},null,null,null,null,null,{"$f":"SUM(DW27:EA27)","v":0},null,null,null,null,null,{"$f":"SUM(EC27:EG27)","v":0},null,null,null,null,null,{"$f":"SUM(EI27:EM27)","v":0},null,null,null,null,null,{"$f":"SUM(EO27:ES27)","v":0},null,null,null,null,null,0,null,null,null,null,null,{"$f":"FA27+FC27+FD27+FE27","v":0},null,null,null,null,null,{"$f":"FG27+FI27+FJ27+FK27","v":0},null,null,null,null,null,{"$f":"FM27+FO27+FP27+FQ27","v":0},null,null,null,null,null,{"$f":"FS27+FU27+FV27+FW27","v":0},null,null,null,null,null,{"$f":"FY27+GA27+GB27+GC27","v":0},null,null,null,null,null,{"$f":"GE27+GG27+GH27+GI27","v":0},null,null,null,null,null,{"$f":"GK27+GM27+GN27+GO27","v":0},null,null,null,null,null,{"$f":"GQ27+GS27+GT27+GU27","v":0},null,null,null,null,null,{"$f":"GW27+GY27+GZ27+HA27","v":0},null,null,null,null,null,{"$f":"HC27+HE27+HF27+HG27","v":0},null,null,null,null,null,{"$f":"HI27+HK27+HL27+HM27","v":0}]
[null,null,null,"2.2","Относимые на сторонних потребителей",0.39,{"$f":"M28+S28","v":0.12},null,null,{"$f":"P28+V28","v":0.27},null,0.19,0.06,null,null,0.13,null,0.2,0.06,null,null,0.14000000000000001,null,1.265217,{"$f":"П1.30!I40","v":0.40883000000000003},null,{"$f":"П1.30!K40","v":0},{"$f":"П1.30!L40","v":0.85638700000000001},{"$f":"П1.30!M40","v":0},0.350968,{"$f":"П1.30!O40","v":0.11451999999999998},null,{"$f":"П1.30!Q40","v":0},{"$f":"П1.30!R40","v":0.23644800000000002},{"$f":"П1.30!S40","v":0},0.91424900000000009,{"$f":"П1.30!U40","v":0.29431000000000002},null,{"$f":"П1.30!W40","v":0},{"$f":"П1.30!X40","v":0.61993900000000002},{"$f":"П1.30!Y40","v":0},0.6100000000000001,{"$f":"П1.30!AS40","v":0.2},null,{"$f":"П1.30!AU40","v":0},{"$f":"П1.30!AV40","v":0.41000000000000003},{"$f":"П1.30!AW40","v":0},0.30000000000000004,{"$f":"П1.30!AY40","v":0.1},null,{"$f":"П1.30!BA40","v":0},{"$f":"П1.30!BB40","v":0.2},{"$f":"П1.30!BC40","v":0},0.31,{"$f":"П1.30!BE40","v":0.1},null,{"$f":"П1.30!BG40","v":0},{"$f":"П1.30!BH40","v":0.21},{"$f":"П1.30!BI40","v":0},1.8815,{"$f":"П1.30!CC40","v":0.41389999999999999},null,{"$f":"П1.30!CE40","v":0},{"$f":"П1.30!CF40","v":1.4676},{"$f":"П1.30!CG40","v":0},0.97499999999999998,{"$f":"П1.30!CI40","v":0.2145},null,{"$f":"П1.30!CK40","v":0},{"$f":"П1.30!CL40","v":0.76049999999999995},{"$f":"П1.30!CM40","v":0},0.90649999999999997,{"$f":"П1.30!CO40","v":0.19939999999999999},null,{"$f":"П1.30!CQ40","v":0},{"$f":"П1.30!CR40","v":0.70709999999999995},{"$f":"П1.30!CS40","v":0},{"$f":"SUM(CA28:CE28)","v":0.2},7.0000000000000007E-2,null,null,0.13,null,{"$f":"SUM(CG28:CK28)","v":0.16999999999999998},0.06,null,null,0.11,null,{"$f":"SUM(CM28:CQ28)","v":0.19},0.06,null,null,0.13,null,{"$f":"SUM(CS28:CW28)","v":0.14000000000000001},0.05,null,null,0.09,null,{"$f":"SUM(CY28:DC28)","v":0.14000000000000001},0.05,null,null,0.09,null,{"$f":"SUM(DE28:DI28)","v":0.12},0.04,null,null,0.08,null,{"$f":"SUM(DK28:DO28)","v":0.12},0.04,null,null,0.08,null,{"$f":"SUM(DQ28:DU28)","v":0.12},0.04,null,null,0.08,null,{"$f":"SUM(DW28:EA28)","v":0.14000000000000001},0.05,null,null,0.09,null,{"$f":"SUM(EC28:EG28)","v":0.16999999999999998},0.06,null,null,0.11,null,{"$f":"SUM(EI28:EM28)","v":0.18},0.06,null,null,0.12,null,{"$f":"SUM(EO28:ES28)","v":0.16999999999999998},0.06,null,null,0.11,null,1.9,{"$f":"FA28+FG28","v":0.61},null,null,{"$f":"FD28+FJ28","v":1.29},null,0.99,0.32,null,null,0.67,null,0.90999999999999992,0.28999999999999998,null,null,0.62,null,1.9300000000000002,{"$f":"FS28+FY28","v":0.62},null,null,{"$f":"FV28+GB28","v":1.31},null,1,0.32,null,null,0.68,null,0.92999999999999994,0.3,null,null,0.63,null,1.94,{"$f":"GK28+GQ28","v":0.62},null,null,{"$f":"GN28+GT28","v":1.32},null,1,0.32,null,null,0.68,null,0.94,0.3,null,null,0.64,null,1.96,{"$f":"HC28+HI28","v":0.63},null,null,{"$f":"HF28+HL28","v":1.33},null,1.02,0.33,null,null,0.69,null,0.94,0.3,null,null,0.64]
[null,null,null,"3","Расход электроэнергии на производственные и хозяйственные нужды (собственное потребление организаций, для которых оказание услуг по передаче не является основным видом деятельности)*",0,null,null,null,null,null,0,null,null,null,null,null,0,null,null,null,null,null,0,{"$f":"П1.30!I45","v":0},null,{"$f":"П1.30!K45","v":0},{"$f":"П1.30!L45","v":0},{"$f":"П1.30!M45","v":0},0,{"$f":"П1.30!O45","v":0},null,{"$f":"П1.30!Q45","v":0},{"$f":"П1.30!R45","v":0},{"$f":"П1.30!S45","v":0},0,{"$f":"П1.30!U45","v":0},null,{"$f":"П1.30!W45","v":0},{"$f":"П1.30!X45","v":0},{"$f":"П1.30!Y45","v":0},0,{"$f":"AW29+BC29","v":0},null,{"$f":"AY29+BE29","v":0},0,0,0,{"$f":"П1.30!AY45","v":0},null,{"$f":"П1.30!BA45","v":0},{"$f":"П1.30!BB45","v":0},{"$f":"П1.30!BC45","v":0},0,{"$f":"П1.30!BE45","v":0},null,{"$f":"П1.30!BG45","v":0},{"$f":"П1.30!BH45","v":0},{"$f":"П1.30!BI45","v":0},0,{"$f":"BO29+BU29","v":0},null,{"$f":"BQ29+BW29","v":0},0,0,0,{"$f":"П1.30!CI45","v":0},null,{"$f":"П1.30!CK45","v":0},{"$f":"П1.30!CL45","v":0},{"$f":"П1.30!CM45","v":0},0,{"$f":"П1.30!CO45","v":0},null,{"$f":"П1.30!CQ45","v":0},{"$f":"П1.30!CR45","v":0},{"$f":"П1.30!CS45","v":0},{"$f":"SUM(CA29:CE29)","v":0},null,null,null,null,null,{"$f":"SUM(CG29:CK29)","v":0},null,null,null,null,null,{"$f":"SUM(CM29:CQ29)","v":0},null,null,null,null,null,{"$f":"SUM(CS29:CW29)","v":0},null,null,null,null,null,{"$f":"SUM(CY29:DC29)","v":0},null,null,null,null,null,{"$f":"SUM(DE29:DI29)","v":0},null,null,null,null,null,{"$f":"SUM(DK29:DO29)","v":0},null,null,null,null,null,{"$f":"SUM(DQ29:DU29)","v":0},null,null,null,null,null,{"$f":"SUM(DW29:EA29)","v":0},null,null,null,null,null,{"$f":"SUM(EC29:EG29)","v":0},null,null,null,null,null,{"$f":"SUM(EI29:EM29)","v":0},null,null,null,null,null,{"$f":"SUM(EO29:ES29)","v":0},null,null,null,null,null,0,null,null,null,null,null,0,null,null,null,null,null,0,null,null,null,null,null,0,null,null,null,null,null,0,null,null,null,null,null,0,null,null,null,null,null,0,null,null,null,null,null,0,null,null,null,null,null,0,null,null,null,null,null,0,null,null,null,null,null,0,null,null,null,null,null,0]
[null,null,null,"4","Полезный отпуск из сети ",39.277299999999997,{"$f":"G31+G39+G40","v":0},null,{"$f":"I31+I39+I40","v":0},{"$f":"J31+J39+J40","v":28.9496},{"$f":"K31+K39+K40","v":10.3277},19.1952,{"$f":"M31+M39+M40","v":0},null,{"$f":"O31+O39+O40","v":0},{"$f":"P31+P39+P40","v":13.690499999999998},{"$f":"Q31+Q39+Q40","v":5.5047000000000006},20.082100000000001,{"$f":"S31+S39+S40","v":0},null,{"$f":"U31+U39+U40","v":0},{"$f":"V31+V39+V40","v":15.2591},{"$f":"W31+W39+W40","v":4.8230000000000004},45.148302000000001,{"$f":"Y31+Y39+Y40","v":0},null,{"$f":"AA31+AA39+AA40","v":0},{"$f":"AB31+AB39+AB40","v":32.713639999999998},{"$f":"AC31+AC39+AC40","v":12.434661999999999},23.395032999999998,{"$f":"AE31+AE39+AE40","v":0},null,{"$f":"AG31+AG39+AG40","v":0},{"$f":"AH31+AH39+AH40","v":16.585868999999999},{"$f":"AI31+AI39+AI40","v":6.809164},21.753269,{"$f":"AK31+AK39+AK40","v":0},null,{"$f":"AM31+AM39+AM40","v":0},{"$f":"AN31+AN39+AN40","v":16.127770999999999},{"$f":"AO31+AO39+AO40","v":5.6254979999999994},43.95684,{"$f":"AW30+BC30","v":0},null,0,32.131990000000002,11.824850000000001,22.232490000000002,{"$f":"AW31+AW39+AW40","v":0},null,{"$f":"AY31+AY39+AY40","v":0},{"$f":"AZ31+AZ39+AZ40","v":15.645860000000001},{"$f":"BA31+BA39+BA40","v":6.5866300000000004},21.724350000000001,{"$f":"BC31+BC39+BC40","v":0},null,{"$f":"BE31+BE39+BE40","v":0},{"$f":"BF31+BF39+BF40","v":16.486129999999999},{"$f":"BG31+BG39+BG40","v":5.2382200000000001},45.155999999999999,{"$f":"BO30+BU30","v":0},null,0,32.716999999999999,12.439,23.400000000000002,{"$f":"BO31+BO39+BO40","v":0},null,{"$f":"BQ31+BQ39+BQ40","v":0},{"$f":"BR31+BR39+BR40","v":16.588000000000001},{"$f":"BS31+BS39+BS40","v":6.8120000000000003},21.756,{"$f":"BU31+BU39+BU40","v":0},null,{"$f":"BW31+BW39+BW40","v":0},{"$f":"BX31+BX39+BX40","v":16.129000000000001},{"$f":"BY31+BY39+BY40","v":5.6269999999999989},{"$f":"CA30+CC30+CD30+CE30","v":4.9009999999999998},{"$f":"CA31+CA39+CA40","v":0},null,{"$f":"CC31+CC39+CC40","v":0},{"$f":"CD31+CD39+CD40","v":3.4019999999999997},{"$f":"CE31+CE39+CE40","v":1.4990000000000001},{"$f":"CG30+CI30+CJ30+CK30","v":4.1539999999999999},{"$f":"CG31+CG39+CG40","v":0},null,{"$f":"CI31+CI39+CI40","v":0},{"$f":"CJ31+CJ39+CJ40","v":2.8880000000000003},{"$f":"CK31+CK39+CK40","v":1.266},{"$f":"CM30+CO30+CP30+CQ30","v":4.4540000000000006},{"$f":"CM31+CM39+CM40","v":0},null,{"$f":"CO31+CO39+CO40","v":0},{"$f":"CP31+CP39+CP40","v":3.0230000000000001},{"$f":"CQ31+CQ39+CQ40","v":1.431},{"$f":"CS30+CU30+CV30+CW30","v":3.4510000000000001},{"$f":"CS31+CS39+CS40","v":0},null,{"$f":"CU31+CU39+CU40","v":0},{"$f":"CV31+CV39+CV40","v":2.504},{"$f":"CW31+CW39+CW40","v":0.94699999999999995},{"$f":"CY30+DA30+DB30+DC30","v":3.4699999999999998},{"$f":"CY31+CY39+CY40","v":0},null,{"$f":"DA31+DA39+DA40","v":0},{"$f":"DB31+DB39+DB40","v":2.613},{"$f":"DC31+DC39+DC40","v":0.85699999999999998},{"$f":"DE30+DG30+DH30+DI30","v":2.9699999999999998},{"$f":"DE31+DE39+DE40","v":0},null,{"$f":"DG31+DG39+DG40","v":0},{"$f":"DH31+DH39+DH40","v":2.1579999999999999},{"$f":"DI31+DI39+DI40","v":0.81200000000000006},{"$f":"DK30+DM30+DN30+DO30","v":2.8959999999999999},{"$f":"DK31+DK39+DK40","v":0},null,{"$f":"DM31+DM39+DM40","v":0},{"$f":"DN31+DN39+DN40","v":2.11},{"$f":"DO31+DO39+DO40","v":0.78600000000000003},{"$f":"DQ30+DS30+DT30+DU30","v":2.8420000000000001},{"$f":"DQ31+DQ39+DQ40","v":0},null,{"$f":"DS31+DS39+DS40","v":0},{"$f":"DT31+DT39+DT40","v":2.2360000000000002},{"$f":"DU31+DU39+DU40","v":0.60599999999999998},{"$f":"DW30+DY30+DZ30+EA30","v":3.468},{"$f":"DW31+DW39+DW40","v":0},null,{"$f":"DY31+DY39+DY40","v":0},{"$f":"DZ31+DZ39+DZ40","v":2.492},{"$f":"EA31+EA39+EA40","v":0.97599999999999998},{"$f":"EC30+EE30+EF30+EG30","v":4.1329999999999991},{"$f":"EC31+EC39+EC40","v":0},null,{"$f":"EE31+EE39+EE40","v":0},{"$f":"EF31+EF39+EF40","v":3.1849999999999996},{"$f":"EG31+EG39+EG40","v":0.94799999999999995},{"$f":"EI30+EK30+EL30+EM30","v":4.2640000000000002},{"$f":"EI31+EI39+EI40","v":0},null,{"$f":"EK31+EK39+EK40","v":0},{"$f":"EL31+EL39+EL40","v":3.2040000000000002},{"$f":"EM31+EM39+EM40","v":1.06},{"$f":"EO30+EQ30+ER30+ES30","v":4.1530000000000005},{"$f":"EO31+EO39+EO40","v":0},null,{"$f":"EQ31+EQ39+EQ40","v":0},{"$f":"ER31+ER39+ER40","v":2.9020000000000001},{"$f":"ES31+ES39+ES40","v":1.2509999999999999},45.606999999999999,{"$f":"EU31+EU39+EU40","v":0},null,{"$f":"EW31+EW39+EW40","v":0},{"$f":"EX31+EX39+EX40","v":33.043999999999997},{"$f":"EY31+EY39+EY40","v":12.562999999999999},23.634,{"$f":"FA31+FA39+FA40","v":0},null,{"$f":"FC31+FC39+FC40","v":0},{"$f":"FD31+FD39+FD40","v":16.754000000000001},{"$f":"FE31+FE39+FE40","v":6.88},21.972999999999999,{"$f":"FG31+FG39+FG40","v":0},null,{"$f":"FI31+FI39+FI40","v":0},{"$f":"FJ31+FJ39+FJ40","v":16.29},{"$f":"FK31+FK39+FK40","v":5.6829999999999998},46.064,{"$f":"FM31+FM39+FM40","v":0},null,{"$f":"FO31+FO39+FO40","v":0},{"$f":"FP31+FP39+FP40","v":33.375},{"$f":"FQ31+FQ39+FQ40","v":12.689},23.871000000000002,{"$f":"FS31+FS39+FS40","v":0},null,{"$f":"FU31+FU39+FU40","v":0},{"$f":"FV31+FV39+FV40","v":16.922000000000001},{"$f":"FW31+FW39+FW40","v":6.9489999999999998},22.193000000000005,{"$f":"FY31+FY39+FY40","v":0},null,{"$f":"GA31+GA39+GA40","v":0},{"$f":"GB31+GB39+GB40","v":16.453000000000003},{"$f":"GC31+GC39+GC40","v":5.74},46.525000000000006,{"$f":"GE31+GE39+GE40","v":0},null,{"$f":"GG31+GG39+GG40","v":0},{"$f":"GH31+GH39+GH40","v":33.709000000000003},{"$f":"GI31+GI39+GI40","v":12.815999999999999},24.11,{"$f":"GK31+GK39+GK40","v":0},null,{"$f":"GM31+GM39+GM40","v":0},{"$f":"GN31+GN39+GN40","v":17.091999999999999},{"$f":"GO31+GO39+GO40","v":7.0179999999999998},22.414999999999999,{"$f":"GQ31+GQ39+GQ40","v":0},null,{"$f":"GS31+GS39+GS40","v":0},{"$f":"GT31+GT39+GT40","v":16.617000000000001},{"$f":"GU31+GU39+GU40","v":5.798},46.99,{"$f":"GW31+GW39+GW40","v":0},null,{"$f":"GY31+GY39+GY40","v":0},{"$f":"GZ31+GZ39+GZ40","v":34.045999999999999},{"$f":"HA31+HA39+HA40","v":12.944000000000001},24.351999999999997,{"$f":"HC31+HC39+HC40","v":0},null,{"$f":"HE31+HE39+HE40","v":0},{"$f":"HF31+HF39+HF40","v":17.262999999999998},{"$f":"HG31+HG39+HG40","v":7.0890000000000004},22.637999999999998,{"$f":"HI31+HI39+HI40","v":0},null,{"$f":"HK31+HK39+HK40","v":0},{"$f":"HL31+HL39+HL40","v":16.782999999999998},{"$f":"HM31+HM39+HM40","v":5.8550000000000004}]
[null,null,null,"4.1","в т.ч. собственным потребителям",38.835799999999999,{"$f":"G33+G35+G37+G38","v":0},null,{"$f":"I33+I35+I37+I38","v":0},{"$f":"J33+J35+J37+J38","v":28.508099999999999},{"$f":"K33+K35+K37+K38","v":10.3277},18.965899999999998,{"$f":"M33+M35+M37+M38","v":0},null,{"$f":"O33+O35+O37+O38","v":0},{"$f":"P33+P35+P37+P38","v":13.461199999999998},{"$f":"Q33+Q35+Q37+Q38","v":5.5047000000000006},19.869900000000001,{"$f":"S33+S35+S37+S38","v":0},null,{"$f":"U33+U35+U37+U38","v":0},{"$f":"V33+V35+V37+V38","v":15.046900000000001},{"$f":"W33+W35+W37+W38","v":4.8230000000000004},44.669629999999998,{"$f":"Y33+Y35+Y37+Y38","v":0},null,{"$f":"AA33+AA35+AA37+AA38","v":0},{"$f":"AB33+AB35+AB37+AB38","v":32.234967999999995},{"$f":"AC33+AC35+AC37+AC38","v":12.434661999999999},23.137528999999997,{"$f":"AE33+AE35+AE37+AE38","v":0},null,{"$f":"AG33+AG35+AG37+AG38","v":0},{"$f":"AH33+AH35+AH37+AH38","v":16.328364999999998},{"$f":"AI33+AI35+AI37+AI38","v":6.809164},21.532100999999997,{"$f":"AK33+AK35+AK37+AK38","v":0},null,{"$f":"AM33+AM35+AM37+AM38","v":0},{"$f":"AN33+AN35+AN37+AN38","v":15.906602999999999},{"$f":"AO33+AO35+AO37+AO38","v":5.6254979999999994},43.476330000000004,0,null,0,31.651479999999999,11.824850000000001,21.974980000000002,{"$f":"AW33+AW35+AW37+AW38","v":0},null,{"$f":"AY33+AY35+AY37+AY38","v":0},{"$f":"AZ33+AZ35+AZ37+AZ38","v":15.388350000000001},{"$f":"BA33+BA35+BA37+BA38","v":6.5866300000000004},21.501350000000002,{"$f":"BC33+BC35+BC37+BC38","v":0},null,{"$f":"BE33+BE35+BE37+BE38","v":0},{"$f":"BF33+BF35+BF37+BF38","v":16.26313},{"$f":"BG33+BG35+BG37+BG38","v":5.2382200000000001},44.678000000000004,0,null,0,32.239000000000004,12.439,23.143000000000001,{"$f":"BO33+BO35+BO37+BO38","v":0},null,{"$f":"BQ33+BQ35+BQ37+BQ38","v":0},{"$f":"BR33+BR35+BR37+BR38","v":16.331},{"$f":"BS33+BS35+BS37+BS38","v":6.8120000000000003},21.535,{"$f":"BU33+BU35+BU37+BU38","v":0},null,{"$f":"BW33+BW35+BW37+BW38","v":0},{"$f":"BX33+BX35+BX37+BX38","v":15.908000000000001},{"$f":"BY33+BY35+BY37+BY38","v":5.6269999999999989},4.8469999999999995,{"$f":"CA33+CA35+CA37+CA38","v":0},null,{"$f":"CC33+CC35+CC37+CC38","v":0},{"$f":"CD33+CD35+CD37+CD38","v":3.3479999999999999},{"$f":"CE33+CE35+CE37+CE38","v":1.4990000000000001},4.1110000000000007,{"$f":"CG33+CG35+CG37+CG38","v":0},null,{"$f":"CI33+CI35+CI37+CI38","v":0},{"$f":"CJ33+CJ35+CJ37+CJ38","v":2.8450000000000002},{"$f":"CK33+CK35+CK37+CK38","v":1.266},4.4050000000000002,{"$f":"CM33+CM35+CM37+CM38","v":0},null,{"$f":"CO33+CO35+CO37+CO38","v":0},{"$f":"CP33+CP35+CP37+CP38","v":2.9740000000000002},{"$f":"CQ33+CQ35+CQ37+CQ38","v":1.431},3.4140000000000001,{"$f":"CS33+CS35+CS37+CS38","v":0},null,{"$f":"CU33+CU35+CU37+CU38","v":0},{"$f":"CV33+CV35+CV37+CV38","v":2.4670000000000001},{"$f":"CW33+CW35+CW37+CW38","v":0.94699999999999995},3.4379999999999997,{"$f":"CY33+CY35+CY37+CY38","v":0},null,{"$f":"DA33+DA35+DA37+DA38","v":0},{"$f":"DB33+DB35+DB37+DB38","v":2.581},{"$f":"DC33+DC35+DC37+DC38","v":0.85699999999999998},2.9279999999999999,{"$f":"DE33+DE35+DE37+DE38","v":0},null,{"$f":"DG33+DG35+DG37+DG38","v":0},{"$f":"DH33+DH35+DH37+DH38","v":2.1160000000000001},{"$f":"DI33+DI35+DI37+DI38","v":0.81200000000000006},2.8639999999999999,{"$f":"DK33+DK35+DK37+DK38","v":0},null,{"$f":"DM33+DM35+DM37+DM38","v":0},{"$f":"DN33+DN35+DN37+DN38","v":2.0779999999999998},{"$f":"DO33+DO35+DO37+DO38","v":0.78600000000000003},2.8029999999999999,{"$f":"DQ33+DQ35+DQ37+DQ38","v":0},null,{"$f":"DS33+DS35+DS37+DS38","v":0},{"$f":"DT33+DT35+DT37+DT38","v":2.1970000000000001},{"$f":"DU33+DU35+DU37+DU38","v":0.60599999999999998},3.431,{"$f":"DW33+DW35+DW37+DW38","v":0},null,{"$f":"DY33+DY35+DY37+DY38","v":0},{"$f":"DZ33+DZ35+DZ37+DZ38","v":2.4550000000000001},{"$f":"EA33+EA35+EA37+EA38","v":0.97599999999999998},4.0949999999999998,{"$f":"EC33+EC35+EC37+EC38","v":0},null,{"$f":"EE33+EE35+EE37+EE38","v":0},{"$f":"EF33+EF35+EF37+EF38","v":3.1469999999999998},{"$f":"EG33+EG35+EG37+EG38","v":0.94799999999999995},4.2279999999999998,{"$f":"EI33+EI35+EI37+EI38","v":0},null,{"$f":"EK33+EK35+EK37+EK38","v":0},{"$f":"EL33+EL35+EL37+EL38","v":3.1680000000000001},{"$f":"EM33+EM35+EM37+EM38","v":1.06},4.1139999999999999,{"$f":"EO33+EO35+EO37+EO38","v":0},null,{"$f":"EQ33+EQ35+EQ37+EQ38","v":0},{"$f":"ER33+ER35+ER37+ER38","v":2.863},{"$f":"ES33+ES35+ES37+ES38","v":1.2509999999999999},45.123999999999995,{"$f":"EU33+EU35+EU37+EU38","v":0},null,{"$f":"EW33+EW35+EW37+EW38","v":0},{"$f":"EX33+EX35+EX37+EX38","v":32.561},{"$f":"EY33+EY35+EY37+EY38","v":12.562999999999999},23.373999999999999,{"$f":"FA33+FA35+FA37+FA38","v":0},null,{"$f":"FC33+FC35+FC37+FC38","v":0},{"$f":"FD33+FD35+FD37+FD38","v":16.494},{"$f":"FE33+FE35+FE37+FE38","v":6.88},21.75,{"$f":"FG33+FG35+FG37+FG38","v":0},null,{"$f":"FI33+FI35+FI37+FI38","v":0},{"$f":"FJ33+FJ35+FJ37+FJ38","v":16.067},{"$f":"FK33+FK35+FK37+FK38","v":5.6829999999999998},45.576000000000001,{"$f":"FM33+FM35+FM37+FM38","v":0},null,{"$f":"FO33+FO35+FO37+FO38","v":0},{"$f":"FP33+FP35+FP37+FP38","v":32.887},{"$f":"FQ33+FQ35+FQ37+FQ38","v":12.689},23.607999999999997,{"$f":"FS33+FS35+FS37+FS38","v":0},null,{"$f":"FU33+FU35+FU37+FU38","v":0},{"$f":"FV33+FV35+FV37+FV38","v":16.658999999999999},{"$f":"FW33+FW35+FW37+FW38","v":6.9489999999999998},21.968000000000004,{"$f":"FY33+FY35+FY37+FY38","v":0},null,{"$f":"GA33+GA35+GA37+GA38","v":0},{"$f":"GB33+GB35+GB37+GB38","v":16.228000000000002},{"$f":"GC33+GC35+GC37+GC38","v":5.74},46.031999999999996,{"$f":"GE33+GE35+GE37+GE38","v":0},null,{"$f":"GG33+GG35+GG37+GG38","v":0},{"$f":"GH33+GH35+GH37+GH38","v":33.216000000000001},{"$f":"GI33+GI35+GI37+GI38","v":12.815999999999999},23.844000000000001,{"$f":"GK33+GK35+GK37+GK38","v":0},null,{"$f":"GM33+GM35+GM37+GM38","v":0},{"$f":"GN33+GN35+GN37+GN38","v":16.826000000000001},{"$f":"GO33+GO35+GO37+GO38","v":7.0179999999999998},22.188000000000002,{"$f":"GQ33+GQ35+GQ37+GQ38","v":0},null,{"$f":"GS33+GS35+GS37+GS38","v":0},{"$f":"GT33+GT35+GT37+GT38","v":16.39},{"$f":"GU33+GU35+GU37+GU38","v":5.798},46.492000000000004,{"$f":"GW33+GW35+GW37+GW38","v":0},null,{"$f":"GY33+GY35+GY37+GY38","v":0},{"$f":"GZ33+GZ35+GZ37+GZ38","v":33.548000000000002},{"$f":"HA33+HA35+HA37+HA38","v":12.944000000000001},24.082999999999998,{"$f":"HC33+HC35+HC37+HC38","v":0},null,{"$f":"HE33+HE35+HE37+HE38","v":0},{"$f":"HF33+HF35+HF37+HF38","v":16.994},{"$f":"HG33+HG35+HG37+HG38","v":7.0890000000000004},22.408999999999999,{"$f":"HI33+HI35+HI37+HI38","v":0},null,{"$f":"HK33+HK35+HK37+HK38","v":0},{"$f":"HL33+HL35+HL37+HL38","v":16.553999999999998},{"$f":"HM33+HM35+HM37+HM38","v":5.8550000000000004}]
[null,null,null,null,"из них, потребителям, присоединенным к центру питания на генераторном напряжении",0,null,null,null,null,null,0,null,null,null,null,null,0,null,null,null,null,null,0,null,null,null,null,null,0,null,null,null,null,null,0,null,null,null,null,null,0,0,null,0,0,0,0,null,null,null,null,null,0,null,null,null,null,null,0,0,null,0,0,0,0,{"$f":"CA32+CG32+CM32+CS32+CY32+DE32","v":0},null,0,0,0,0,{"$f":"DK32+DQ32+DW32+EC32+EI32+EO32","v":0},null,0,0,0,0,null,null,null,null,null,0,null,null,null,null,null,0,null,null,null,null,null,0,null,null,null,null,null,0,null,null,null,null,null,0,null,null,null,null,null,0,null,null,null,null,null,0,null,null,null,null,null,0,null,null,null,null,null,0,null,null,null,null,null,0,null,null,null,null,null,0,null,null,null,null,null,0,null,null,null,null,null,0,null,null,null,null,null,0,null,null,null,null,null,0,null,null,null,null,null,0,null,null,null,null,null,0,null,null,null,null,null,0,null,null,null,null,null,0,null,null,null,null,null,0,null,null,null,null,null,0,null,null,null,null,null,0,null,null,null,null,null,0]
[null,null,null,"4.1.1","ГП, участнику ОРЭМ",0,null,null,null,null,null,0,null,null,null,null,null,0,null,null,null,null,null,0,null,null,null,null,null,0,null,null,null,null,null,0,null,null,null,null,null,0,0,null,0,0,0,0,null,null,null,null,null,0,null,null,null,null,null,0,0,null,0,0,0,0,0,null,0,0,0,0,0,null,0,0,0,0,null,null,null,null,null,0,null,null,null,null,null,0,null,null,null,null,null,0,null,null,null,null,null,0,null,null,null,null,null,0,null,null,null,null,null,0,null,null,null,null,null,0,null,null,null,null,null,0,null,null,null,null,null,0,null,null,null,null,null,0,null,null,null,null,null,0,null,null,null,null,null,0,null,null,null,null,null,0,null,null,null,null,null,0,null,null,null,null,null,0,null,null,null,null,null,0,null,null,null,null,null,0,null,null,null,null,null,0,null,null,null,null,null,0,null,null,null,null,null,0,null,null,null,null,null,0,null,null,null,null,null,0,null,null,null,null,null,0]
[null,null,null,null," - по договору \"последней мили\"",0,null,null,null,null,null,0,null,null,null,null,null,0,null,null,null,null,null,0,null,null,null,null,null,0,null,null,null,null,null,0,null,null,null,null,null,0,0,null,0,0,0,0,null,null,null,null,null,0,null,null,null,null,null,0,0,null,0,0,0,0,0,null,0,0,0,0,0,null,0,0,0,0,null,null,null,null,null,0,null,null,null,null,null,0,null,null,null,null,null,0,null,null,null,null,null,0,null,null,null,null,null,0,null,null,null,null,null,0,null,null,null,null,null,0,null,null,null,null,null,0,null,null,null,null,null,0,null,null,null,null,null,0,null,null,null,null,null,0,null,null,null,null,null,0,null,null,null,null,null,0,null,null,null,null,null,0,null,null,null,null,null,0,null,null,null,null,null,0,null,null,null,null,null,0,null,null,null,null,null,0,null,null,null,null,null,0,null,null,null,null,null,0,null,null,null,null,null,0,null,null,null,null,null,0,null,null,null,null,null,0]
[null,null,null,"4.1.2","ЭСО, участнику ОРЭМ",0,null,null,null,null,null,0,null,null,null,null,null,0,null,null,null,null,null,0,null,null,null,null,null,0,null,null,null,null,null,0,null,null,null,null,null,0,0,null,0,0,0,0,null,null,null,null,null,0,null,null,null,null,null,0,0,null,0,0,0,0,0,null,0,0,0,0,0,null,0,0,0,0,null,null,null,null,null,0,null,null,null,null,null,0,null,null,null,null,null,0,null,null,null,null,null,0,null,null,null,null,null,0,null,null,null,null,null,0,null,null,null,null,null,0,null,null,null,null,null,0,null,null,null,null,null,0,null,null,null,null,null,0,null,null,null,null,null,0,null,null,null,null,null,0,null,null,null,null,null,0,null,null,null,null,null,0,null,null,null,null,null,0,null,null,null,null,null,0,null,null,null,null,null,0,null,null,null,null,null,0,null,null,null,null,null,0,null,null,null,null,null,0,null,null,null,null,null,0,null,null,null,null,null,0,null,null,null,null,null,0]
[null,null,null,null," - по договору \"последней мили\"",0,null,null,null,null,null,0,null,null,null,null,null,0,null,null,null,null,null,0,null,null,null,null,null,0,null,null,null,null,null,0,null,null,null,null,null,0,0,null,0,0,0,0,null,null,null,null,null,0,null,null,null,null,null,0,0,null,0,0,0,0,0,null,0,0,0,0,0,null,0,0,0,0,null,null,null,null,null,0,null,null,null,null,null,0,null,null,null,null,null,0,null,null,null,null,null,0,null,null,null,null,null,0,null,null,null,null,null,0,null,null,null,null,null,0,null,null,null,null,null,0,null,null,null,null,null,0,null,null,null,null,null,0,null,null,null,null,null,0,null,null,null,null,null,0,null,null,null,null,null,0,null,null,null,null,null,0,null,null,null,null,null,0,null,null,null,null,null,0,null,null,null,null,null,0,null,null,null,null,null,0,null,null,null,null,null,0,null,null,null,null,null,0,null,null,null,null,null,0,null,null,null,null,null,0,null,null,null,null,null,0]
[null,null,null,"4.1.3","сбытовым компаниям, не имеющим статус ГП",0,null,null,null,null,null,0,null,null,null,null,null,0,null,null,null,null,null,0,null,null,null,null,null,0,null,null,null,null,null,0,null,null,null,null,null,0,0,null,0,0,0,0,null,null,null,null,null,0,null,null,null,null,null,0,0,null,0,0,0,0,0,null,0,0,0,0,0,null,0,0,0,0,null,null,null,null,null,0,null,null,null,null,null,0,null,null,null,null,null,0,null,null,null,null,null,0,null,null,null,null,null,0,null,null,null,null,null,0,null,null,null,null,null,0,null,null,null,null,null,0,null,null,null,null,null,0,null,null,null,null,null,0,null,null,null,null,null,0,null,null,null,null,null,0,null,null,null,null,null,0,null,null,null,null,null,0,null,null,null,null,null,0,null,null,null,null,null,0,null,null,null,null,null,0,null,null,null,null,null,0,null,null,null,null,null,0,null,null,null,null,null,0,null,null,null,null,null,0,null,null,null,null,null,0,null,null,null,null,null,0]
[null,null,null,"4.1.4","потребителям, заключившим прямые договоры на услуги по передаче ",{"$f":"G38+I38+J38+K38","v":38.835799999999999},null,null,null,{"$f":"P38+V38","v":28.508099999999999},{"$f":"Q38+W38","v":10.3277},18.965899999999998,null,null,null,{"$f":"(2600+2411.5+2220.7+1913.4+1767.4+1829.6+142.9+152.7+124.4+94.4+99.4+104.8)/1000","v":13.461199999999998},{"$f":"(220.3+235.2+189.8+133.4+122.5+109.2+834.5+853.8+940.4+719+666.8+479.8)/1000","v":5.5047000000000006},19.869900000000001,null,null,null,{"$f":"(1868.3+1940.1+2162.8+2824.5+2800+2800+92.7+101.3+109+104.6+105.6+138)/1000","v":15.046900000000001},{"$f":"(96.7+99.5+130.8+157.6+181.8+220+542.8+519.6+589.4+672.6+747+865.2)/1000","v":4.8230000000000004},{"$f":"Y38+AA38+AB38+AC38","v":44.669629999999998},null,null,null,{"$f":"AH38+AN38","v":32.234967999999995},{"$f":"AI38+AO38","v":12.434661999999999},23.137528999999997,null,null,null,{"$f":"16328.365/1000","v":16.328364999999998},{"$f":"6809.164/1000","v":6.809164},21.532100999999997,null,null,null,{"$f":"15906.603/1000","v":15.906602999999999},{"$f":"5625.498/1000","v":5.6254979999999994},{"$f":"AQ38+AS38+AT38+AU38","v":43.476330000000004},0,null,0,31.651479999999999,11.824850000000001,21.974980000000002,null,null,null,15.388350000000001,6.5866300000000004,21.501350000000002,null,null,null,16.26313,5.2382200000000001,{"$f":"BI38+BK38+BL38+BM38","v":44.678000000000004},0,null,0,32.239000000000004,12.439,{"$f":"BO38+BQ38+BR38+BS38","v":23.143000000000001},0,null,0,16.331,6.8120000000000003,{"$f":"BU38+BW38+BX38+BY38","v":21.535},{"$f":"DK38+DQ38+DW38+EC38+EI38+EO38","v":0},null,0,15.908000000000001,5.6269999999999989,4.8469999999999995,null,null,null,3.3479999999999999,1.4990000000000001,4.1110000000000007,null,null,null,2.8450000000000002,1.266,4.4050000000000002,null,null,null,2.9740000000000002,1.431,3.4140000000000001,null,null,null,2.4670000000000001,0.94699999999999995,3.4379999999999997,null,null,null,2.581,0.85699999999999998,2.9279999999999999,null,null,null,2.1160000000000001,0.81200000000000006,2.8639999999999999,null,null,null,2.0779999999999998,0.78600000000000003,2.8029999999999999,null,null,null,2.1970000000000001,0.60599999999999998,3.431,null,null,null,2.4550000000000001,0.97599999999999998,4.0949999999999998,null,null,null,3.1469999999999998,0.94799999999999995,4.2279999999999998,null,null,null,3.1680000000000001,1.06,4.1139999999999999,null,null,null,2.863,1.2509999999999999,{"$f":"EU38+EW38+EX38+EY38","v":45.123999999999995},null,null,null,{"$f":"FD38+FJ38","v":32.561},{"$f":"FE38+FK38","v":12.562999999999999},{"$f":"FA38+FC38+FD38+FE38","v":23.373999999999999},null,null,null,16.494,6.88,{"$f":"FG38+FI38+FJ38+FK38","v":21.75},null,null,null,16.067,5.6829999999999998,{"$f":"FM38+FO38+FP38+FQ38","v":45.576000000000001},null,null,null,{"$f":"FV38+GB38","v":32.887},{"$f":"FW38+GC38","v":12.689},{"$f":"FS38+FU38+FV38+FW38","v":23.607999999999997},null,null,null,16.658999999999999,6.9489999999999998,{"$f":"FY38+GA38+GB38+GC38","v":21.968000000000004},null,null,null,16.228000000000002,5.74,{"$f":"GE38+GG38+GH38+GI38","v":46.031999999999996},null,null,null,{"$f":"GN38+GT38","v":33.216000000000001},{"$f":"GO38+GU38","v":12.815999999999999},{"$f":"GK38+GM38+GN38+GO38","v":23.844000000000001},null,null,null,16.826000000000001,7.0179999999999998,{"$f":"GQ38+GS38+GT38+GU38","v":22.188000000000002},null,null,null,16.39,5.798,{"$f":"GW38+GY38+GZ38+HA38","v":46.492000000000004},null,null,null,{"$f":"HF38+HL38","v":33.548000000000002},{"$f":"HG38+HM38","v":12.944000000000001},{"$f":"HC38+HE38+HF38+HG38","v":24.082999999999998},null,null,null,16.994,7.0890000000000004,{"$f":"HI38+HK38+HL38+HM38","v":22.408999999999999},null,null,null,16.553999999999998,5.8550000000000004]
[null,null,null,"4.2","переток в сопредельные регионы",0,null,null,null,null,null,0,null,null,null,null,null,0,null,null,null,null,null,0,{"$f":"П1.30!I65","v":0},null,{"$f":"П1.30!K65","v":0},{"$f":"П1.30!L65","v":0},{"$f":"П1.30!M65","v":0},0,{"$f":"П1.30!O65","v":0},null,{"$f":"П1.30!Q65","v":0},{"$f":"П1.30!R65","v":0},{"$f":"П1.30!S65","v":0},0,{"$f":"П1.30!U65","v":0},null,{"$f":"П1.30!W65","v":0},{"$f":"П1.30!X65","v":0},{"$f":"П1.30!Y65","v":0},{"$f":"AQ39+AS39+AT39+AU39","v":0},0,null,0,0,0,0,{"$f":"П1.30!AY68","v":0},null,{"$f":"П1.30!BA68","v":0},{"$f":"П1.30!BB68","v":0},{"$f":"П1.30!BC68","v":0},0,{"$f":"П1.30!BE68","v":0},null,{"$f":"П1.30!BG68","v":0},{"$f":"П1.30!BH68","v":0},{"$f":"П1.30!BI68","v":0},0,0,null,0,0,0,{"$f":"BO39+BQ39+BR39+BS39","v":0},0,null,0,0,0,{"$f":"BU39+BW39+BX39+BY39","v":0},{"$f":"DK39+DQ39+DW39+EC39+EI39+EO39","v":0},null,{"$f":"DM39+DS39+DY39+EE39+EK39+EQ39","v":0},0,0,0,null,null,null,null,null,0,null,null,null,null,null,0,null,null,null,null,null,0,null,null,null,null,null,0,null,null,null,null,null,0,null,null,null,null,null,0,null,null,null,null,null,0,null,null,null,null,null,0,null,null,null,null,null,0,null,null,null,null,null,0,null,null,null,null,null,0,null,null,null,null,null,0,null,null,null,null,null,{"$f":"FA39+FC39+FD39+FE39","v":0},null,null,null,null,null,{"$f":"FG39+FI39+FJ39+FK39","v":0},null,null,null,null,null,{"$f":"FM39+FO39+FP39+FQ39","v":0},null,null,null,null,null,{"$f":"FS39+FU39+FV39+FW39","v":0},null,null,null,null,null,{"$f":"FY39+GA39+GB39+GC39","v":0},null,null,null,null,null,{"$f":"GE39+GG39+GH39+GI39","v":0},null,null,null,null,null,{"$f":"GK39+GM39+GN39+GO39","v":0},null,null,null,null,null,{"$f":"GQ39+GS39+GT39+GU39","v":0},null,null,null,null,null,{"$f":"GW39+GY39+GZ39+HA39","v":0},null,null,null,null,null,{"$f":"HC39+HE39+HF39+HG39","v":0},null,null,null,null,null,{"$f":"HI39+HK39+HL39+HM39","v":0}]
[null,null,null,"4.3","переток в другие организации",{"$f":"G40+I40+J40+K40","v":0.4415},null,null,null,{"$f":"P40+V40","v":0.4415},null,0.2293,null,null,null,{"$f":"(49.9+46.1+45.3+37.6+27.9+22.5)/1000","v":0.2293},null,0.2122,null,null,null,{"$f":"(19.8+23.6+30.6+42.6+47.8+47.8)/1000","v":0.2122},null,{"$f":"Y40+AA40+AB40+AC40","v":0.47867199999999999},{"$f":"П1.30!I49+П1.30!I53","v":0},null,{"$f":"П1.30!K49+П1.30!K53","v":0},{"$f":"П1.30!L49+П1.30!L53","v":0.47867199999999999},{"$f":"П1.30!M49+П1.30!M53","v":0},0.25750400000000001,{"$f":"П1.30!O49+П1.30!O53","v":0},null,{"$f":"П1.30!Q49+П1.30!Q53","v":0},{"$f":"П1.30!R49+П1.30!R53","v":0.25750400000000001},{"$f":"П1.30!S49+П1.30!S53","v":0},0.22116799999999998,{"$f":"П1.30!U49+П1.30!U53","v":0},null,{"$f":"П1.30!W49+П1.30!W53","v":0},{"$f":"П1.30!X49+П1.30!X53","v":0.22116799999999998},{"$f":"П1.30!Y49+П1.30!Y53","v":0},{"$f":"AQ40+AS40+AT40+AU40","v":0.4805100000000001},0,null,0,0.4805100000000001,0,0.25751000000000007,{"$f":"П1.30!AY49+П1.30!AY53","v":0},null,{"$f":"П1.30!BA49+П1.30!BA53","v":0},{"$f":"П1.30!BB49+П1.30!BB53","v":0.25751000000000007},{"$f":"П1.30!BC49+П1.30!BC53","v":0},0.223,{"$f":"П1.30!BE49+П1.30!BE53","v":0},null,{"$f":"П1.30!BG49+П1.30!BG53","v":0},{"$f":"П1.30!BH49+П1.30!BH53","v":0.223},{"$f":"П1.30!BI49+П1.30!BI53","v":0},{"$f":"BI40+BK40+BL40+BM40","v":0.47800000000000004},0,null,0,0.47800000000000004,0,{"$f":"BO40+BQ40+BR40+BS40","v":0.25700000000000001},0,null,0,0.25700000000000001,0,{"$f":"BU40+BW40+BX40+BY40","v":0.22100000000000003},{"$f":"DK40+DQ40+DW40+EC40+EI40+EO40","v":0},null,0,0.22100000000000003,0,5.3999999999999999E-2,null,null,null,5.3999999999999999E-2,null,4.2999999999999997E-2,null,null,null,4.2999999999999997E-2,null,{"$f":"$BN40/6","v":4.2833333333333334E-2},null,null,null,4.9000000000000002E-2,null,3.6999999999999998E-2,null,null,null,3.6999999999999998E-2,null,{"$f":"$BN40/6","v":4.2833333333333334E-2},null,null,null,3.2000000000000001E-2,null,4.2000000000000003E-2,null,null,null,4.2000000000000003E-2,null,3.2000000000000001E-2,null,null,null,3.2000000000000001E-2,null,3.9E-2,null,null,null,3.9E-2,null,3.6999999999999998E-2,null,null,null,3.6999999999999998E-2,null,3.7999999999999999E-2,null,null,null,3.7999999999999999E-2,null,3.5999999999999997E-2,null,null,null,3.5999999999999997E-2,null,3.9E-2,null,null,null,3.9E-2,null,{"$f":"EU40+EW40+EX40+EY40","v":0.48299999999999998},null,null,null,{"$f":"FD40+FJ40","v":0.48299999999999998},null,{"$f":"FA40+FC40+FD40+FE40","v":0.26},null,null,null,0.26,null,{"$f":"FG40+FI40+FJ40+FK40","v":0.223},null,null,null,0.223,null,{"$f":"FM40+FO40+FP40+FQ40","v":0.48799999999999999},null,null,null,{"$f":"FV40+GB40","v":0.48799999999999999},null,{"$f":"FS40+FU40+FV40+FW40","v":0.26300000000000001},null,null,null,0.26300000000000001,null,{"$f":"FY40+GA40+GB40+GC40","v":0.22500000000000001},null,null,null,0.22500000000000001,null,{"$f":"GE40+GG40+GH40+GI40","v":0.49299999999999999},null,null,null,{"$f":"GN40+GT40","v":0.49299999999999999},null,{"$f":"GK40+GM40+GN40+GO40","v":0.26600000000000001},null,null,null,0.26600000000000001,null,{"$f":"GQ40+GS40+GT40+GU40","v":0.22700000000000001},null,null,null,0.22700000000000001,null,{"$f":"GW40+GY40+GZ40+HA40","v":0.498},null,null,null,{"$f":"HF40+HL40","v":0.498},null,{"$f":"HC40+HE40+HF40+HG40","v":0.26900000000000002},null,null,null,0.26900000000000002,null,{"$f":"HI40+HK40+HL40+HM40","v":0.22900000000000001},null,null,null,0.22900000000000001]
[null,null,null,5,"Небаланс",{"$f":"G41+I41+J41+K41","v":-4.0999999999983272E-3},{"$f":"G15-F17-G25-G29-G30","v":-7.7715611723760958E-16},null,{"$f":"I15-F18-I25-I29-I30","v":0},{"$f":"J15-F19-J25-J29-J30","v":0},{"$f":"K15-K25-K29-K30","v":-4.09999999999755E-3},7.9999999999863514E-4,{"$f":"M15-L17-M25-M29-M30","v":-3.8857805861880479E-16},null,{"$f":"O15-L18-O25-O29-O30","v":0},{"$f":"P15-L19-P25-P29-P30","v":0},{"$f":"Q15-Q25-Q29-Q30","v":7.9999999999902371E-4},-4.9000000000022914E-3,{"$f":"S15-R17-S25-S29-S30","v":4.9960036108132044E-16},null,{"$f":"U15-R18-U25-U29-U30","v":0},{"$f":"V15-R19-V25-V29-V30","v":0},{"$f":"W15-W25-W29-W30","v":-4.900000000002791E-3},{"$f":"Y41+AA41+AB41+AC41","v":5.220000000005276E-3},{"$f":"Y15-X17-Y25-Y29-Y30","v":8.8299999999982837E-3},null,{"$f":"AA15-X18-AA25-AA29-AA30","v":0},{"$f":"AB15-X19-AB25-AB29-AB30","v":-3.6130000000014206E-3},{"$f":"AC15-AC25-AC29-AC30","v":3.0000000084129397E-6},9.709999999957114E-4,{"$f":"AE15-AD17-AE25-AE29-AE30","v":4.5200000000006207E-3},null,{"$f":"AG15-AD18-AG25-AG29-AG30","v":0},{"$f":"AH15-AD19-AH25-AH29-AH30","v":-3.5519999999991114E-3},{"$f":"AI15-AI25-AI29-AI30","v":2.999999994202085E-6},4.2489999999971162E-3,{"$f":"AK15-AJ17-AK25-AK29-AK30","v":4.3099999999994254E-3},null,{"$f":"AM15-AJ18-AM25-AM29-AM30","v":0},{"$f":"AN15-AJ19-AN25-AN29-AN30","v":-6.1000000002309207E-5},{"$f":"AO15-AO25-AO29-AO30","v":0},{"$f":"AQ41+AS41+AT41+AU41","v":-1.8399999999959005E-3},-7.2164496600635175E-16,null,0,-2.0000000001019203E-5,-1.8199999999941596E-3,-1.4899999999972435E-3,{"$f":"AW15-AV17-AW25-AW29-AW30","v":-3.6082248300317588E-16},null,{"$f":"AY15-AV18-AY25-AY29-AY30","v":0},{"$f":"AZ15-AV19-AZ25-AZ29-AZ30","v":-4.0000000000262048E-5},{"$f":"BA15-BA25-BA29-BA30","v":-1.4499999999966207E-3},-3.4999999999865694E-4,{"$f":"BC15-BB17-BC25-BC29-BC30","v":-3.6082248300317588E-16},null,{"$f":"BE15-BB18-BE25-BE29-BE30","v":0},{"$f":"BF15-BB19-BF25-BF29-BF30","v":1.9999999999242846E-5},{"$f":"BG15-BG25-BG29-BG30","v":-3.6999999999753896E-4},{"$f":"BI41+BK41+BL41+BM41","v":-47.037500000000001},0.22609999999999997,null,0,-0.24759999999999849,-47.016000000000005,{"$f":"BO41+BQ41+BR41+BS41","v":-24.375},{"$f":"BO15-BN17-BO25-BO29-BO30","v":0.11549999999999996},null,{"$f":"BQ15-BN18-BQ25-BQ29-BQ30","v":0},{"$f":"BR15-BN19-BR25-BR29-BR30","v":-0.13049999999999784},{"$f":"BS15-BP18-BS25-BS29-BS30","v":-24.360000000000003},{"$f":"BU41+BW41+BX41+BY41","v":-22.662499999999998},{"$f":"BU15-BT17-BU25-BU29-BU30","v":0.1106},null,{"$f":"BW15-BT18-BW25-BW29-BW30","v":0},{"$f":"BX15-BT19-BX25-BX29-BX30","v":-0.11710000000000065},{"$f":"BY15-BV18-BY25-BY29-BY30","v":-22.655999999999999},{"$f":"CA41+CC41+CD41+CE41","v":-5.101},{"$f":"CA15-BZ17-CA25-CA29-CA30","v":0},null,{"$f":"CC15-BZ18-CC25-CC29-CC30","v":0},{"$f":"CD15-BZ19-CD25-CD29-CD30","v":0},{"$f":"CE15-CE25-CE29-CE30","v":-5.101},{"$f":"CG41+CI41+CJ41+CK41","v":-4.3239999999999998},{"$f":"CG15-CF17-CG25-CG29-CG30","v":0},null,{"$f":"CI15-CF18-CI25-CI29-CI30","v":0},{"$f":"CJ15-CF19-CJ25-CJ29-CJ30","v":0},{"$f":"CK15-CK25-CK29-CK30","v":-4.3239999999999998},{"$f":"CM41+CO41+CP41+CQ41","v":-4.6440000000000001},{"$f":"CM15-CL17-CM25-CM29-CM30","v":0},null,{"$f":"CO15-CL18-CO25-CO29-CO30","v":0},{"$f":"CP15-CL19-CP25-CP29-CP30","v":0},{"$f":"CQ15-CQ25-CQ29-CQ30","v":-4.6440000000000001},{"$f":"CS41+CU41+CV41+CW41","v":-3.5910000000000002},{"$f":"CS15-CR17-CS25-CS29-CS30","v":0},null,{"$f":"CU15-CR18-CU25-CU29-CU30","v":0},{"$f":"CV15-CR19-CV25-CV29-CV30","v":0},{"$f":"CW15-CW25-CW29-CW30","v":-3.5910000000000002},{"$f":"CY41+DA41+DB41+DC41","v":-3.6100000000000003},{"$f":"CY15-CX17-CY25-CY29-CY30","v":0},null,{"$f":"DA15-CX18-DA25-DA29-DA30","v":0},{"$f":"DB15-CX19-DB25-DB29-DB30","v":0},{"$f":"DC15-DC25-DC29-DC30","v":-3.6100000000000003},{"$f":"DE41+DG41+DH41+DI41","v":-3.09},{"$f":"DE15-DD17-DE25-DE29-DE30","v":0},null,{"$f":"DG15-DD18-DG25-DG29-DG30","v":0},{"$f":"DH15-DD19-DH25-DH29-DH30","v":0},{"$f":"DI15-DI25-DI29-DI30","v":-3.09},{"$f":"DK41+DM41+DN41+DO41","v":-3.016},{"$f":"DK15-DJ17-DK25-DK29-DK30","v":0},null,{"$f":"DM15-DJ18-DM25-DM29-DM30","v":0},{"$f":"DN15-DJ19-DN25-DN29-DN30","v":0},{"$f":"DO15-DO25-DO29-DO30","v":-3.016},{"$f":"DQ41+DS41+DT41+DU41","v":-2.9620000000000002},{"$f":"DQ15-DP17-DQ25-DQ29-DQ30","v":0},null,{"$f":"DS15-DP18-DS25-DS29-DS30","v":0},{"$f":"DT15-DP19-DT25-DT29-DT30","v":0},{"$f":"DU15-DU25-DU29-DU30","v":-2.9620000000000002},{"$f":"DW41+DY41+DZ41+EA41","v":-3.6080000000000001},{"$f":"DW15-DV17-DW25-DW29-DW30","v":0},null,{"$f":"DY15-DV18-DY25-DY29-DY30","v":0},{"$f":"DZ15-DV19-DZ25-DZ29-DZ30","v":0},{"$f":"EA15-EA25-EA29-EA30","v":-3.6080000000000001},{"$f":"EC41+EE41+EF41+EG41","v":-4.302999999999999},{"$f":"EC15-EB17-EC25-EC29-EC30","v":0},null,{"$f":"EE15-EB18-EE25-EE29-EE30","v":0},{"$f":"EF15-EB19-EF25-EF29-EF30","v":0},{"$f":"EG15-EG25-EG29-EG30","v":-4.302999999999999},{"$f":"EI41+EK41+EL41+EM41","v":-4.4440000000000008},{"$f":"EI15-EH17-EI25-EI29-EI30","v":0},null,{"$f":"EK15-EH18-EK25-EK29-EK30","v":0},{"$f":"EL15-EH19-EL25-EL29-EL30","v":0},{"$f":"EM15-EM25-EM29-EM30","v":-4.4440000000000008},{"$f":"EO41+EQ41+ER41+ES41","v":-4.3230000000000004},{"$f":"EO15-EN17-EO25-EO29-EO30","v":0},null,{"$f":"EQ15-EN18-EQ25-EQ29-EQ30","v":0},{"$f":"ER15-EN19-ER25-ER29-ER30","v":0},{"$f":"ES15-ES25-ES29-ES30","v":-4.3230000000000004},{"$f":"EU41+EW41+EX41+EY41","v":-47.506999999999991},{"$f":"EU15-ET17-EU25-EU29-EU30","v":0},null,{"$f":"EW15-ET18-EW25-EW29-EW30","v":0},{"$f":"EX15-ET19-EX25-EX29-EX30","v":0},{"$f":"EY15-EY25-EY29-EY30","v":-47.506999999999991},{"$f":"FA41+FC41+FD41+FE41","v":-24.623999999999999},{"$f":"FA15-EZ17-FA25-FA29-FA30","v":0},null,{"$f":"FC15-EZ18-FC25-FC29-FC30","v":0},{"$f":"FD15-EZ19-FD25-FD29-FD30","v":0},{"$f":"FE15-FE25-FE29-FE30","v":-24.623999999999999},{"$f":"FG41+FI41+FJ41+FK41","v":-22.882999999999999},{"$f":"FG15-FF17-FG25-FG29-FG30","v":0},null,{"$f":"FI15-FF18-FI25-FI29-FI30","v":0},{"$f":"FJ15-FF19-FJ25-FJ29-FJ30","v":0},{"$f":"FK15-FK25-FK29-FK30","v":-22.882999999999999},{"$f":"FM41+FO41+FP41+FQ41","v":-47.994},{"$f":"FM15-FL17-FM25-FM29-FM30","v":0},null,{"$f":"FO15-FL18-FO25-FO29-FO30","v":0},{"$f":"FP15-FL19-FP25-FP29-FP30","v":0},{"$f":"FQ15-FQ25-FQ29-FQ30","v":-47.994},{"$f":"FS41+FU41+FV41+FW41","v":-24.871000000000002},{"$f":"FS15-FR17-FS25-FS29-FS30","v":0},null,{"$f":"FU15-FR18-FU25-FU29-FU30","v":0},{"$f":"FV15-FR19-FV25-FV29-FV30","v":0},{"$f":"FW15-FW25-FW29-FW30","v":-24.871000000000002},{"$f":"FY41+GA41+GB41+GC41","v":-23.123000000000005},{"$f":"FY15-FX17-FY25-FY29-FY30","v":0},null,{"$f":"GA15-FX18-GA25-GA29-GA30","v":0},{"$f":"GB15-FX19-GB25-GB29-GB30","v":0},{"$f":"GC15-GC25-GC29-GC30","v":-23.123000000000005},{"$f":"GE41+GG41+GH41+GI41","v":-48.465000000000003},{"$f":"GE15-GD17-GE25-GE29-GE30","v":0},null,{"$f":"GG15-GD18-GG25-GG29-GG30","v":0},{"$f":"GH15-GD19-GH25-GH29-GH30","v":0},{"$f":"GI15-GI25-GI29-GI30","v":-48.465000000000003},{"$f":"GK41+GM41+GN41+GO41","v":-25.11},{"$f":"GK15-GJ17-GK25-GK29-GK30","v":0},null,{"$f":"GM15-GJ18-GM25-GM29-GM30","v":0},{"$f":"GN15-GJ19-GN25-GN29-GN30","v":0},{"$f":"GO15-GO25-GO29-GO30","v":-25.11},{"$f":"GQ41+GS41+GT41+GU41","v":-23.355000000000004},{"$f":"GQ15-GP17-GQ25-GQ29-GQ30","v":0},null,{"$f":"GS15-GP18-GS25-GS29-GS30","v":0},{"$f":"GT15-GP19-GT25-GT29-GT30","v":0},{"$f":"GU15-GU25-GU29-GU30","v":-23.355000000000004},{"$f":"GW41+GY41+GZ41+HA41","v":-48.95},{"$f":"GW15-GV17-GW25-GW29-GW30","v":0},null,{"$f":"GY15-GV18-GY25-GY29-GY30","v":0},{"$f":"GZ15-GV19-GZ25-GZ29-GZ30","v":0},{"$f":"HA15-HA25-HA29-HA30","v":-48.95},{"$f":"HC41+HE41+HF41+HG41","v":-25.372},{"$f":"HC15-HB17-HC25-HC29-HC30","v":0},null,{"$f":"HE15-HB18-HE25-HE29-HE30","v":0},{"$f":"HF15-HB19-HF25-HF29-HF30","v":0},{"$f":"HG15-HG25-HG29-HG30","v":-25.372},{"$f":"HI41+HK41+HL41+HM41","v":-23.577999999999999},{"$f":"HI15-HH17-HI25-HI29-HI30","v":0},null,{"$f":"HK15-HH18-HK25-HK29-HK30","v":0},{"$f":"HL15-HH19-HL25-HL29-HL30","v":0},{"$f":"HM15-HM25-HM29-HM30","v":-23.577999999999999}]

{"sheet":"П1.5","index":10,"n_rows":41,"n_cols":209,"rows_kept":41,"cut":false,"hidden":false,"merged":[[11,59,11,64],[9,113,9,118],[10,23,10,40],[7,23,7,28],[7,41,7,46],[7,59,7,64],[11,23,11,28],[9,95,9,100],[1,59,1,220],[10,59,10,76],[10,167,10,184],[10,185,10,202],[10,203,10,220],[7,167,7,172],[6,3,6,220],[10,3,12,3],[10,4,12,4],[11,41,11,46],[9,131,9,136],[11,5,11,10],[9,77,9,82],[11,167,11,172],[7,149,7,154],[7,5,7,10],[10,41,10,58],[10,149,10,166],[9,119,9,124],[9,107,9,112],[9,137,9,142],[9,125,9,130],[10,5,10,22],[9,83,9,88],[9,89,9,94],[11,203,11,208],[9,143,9,148],[11,185,11,190],[9,101,9,106],[11,149,11,154]]}
[]
[]
[]
[]
[]
[]
[null,null,null,"Баланс мощности по сетям ВН, СН1, СН2 и НН по ЭСО (по региональным электрическим сетям)"]
[]
[]
[null,null,null,null,"МВт"]
[null,null,null,"№ п/п","Показатели",{"$f":"\"План \" & IF(god=\"\",\"Не определено\",god-2) & \" год\"","v":"План 2013 год"},null,null,null,null,null,null,null,null,null,null,null,null,null,null,null,null,null,{"$f":"\"Факт \" & IF(god=\"\",\"Не определено\",god-2) & \" год\"","v":"Факт 2013 год"},null,null,null,null,null,null,null,null,null,null,null,null,null,null,null,null,null,{"$f":"\"План \" & IF(god=\"\",\"Не определено\",god-1) & \" год\"","v":"План 2014 год"},null,null,null,null,null,null,null,null,null,null,null,null,null,null,null,null,null,{"$f":"\"План \" & IF(god=\"\",\"Не определено\",god) & \" год\"","v":"План 2015 год"},null,null,null,null,null,null,null,null,null,null,null,null,null,null,null,null,null,null,null,null,null,null,null,null,null,null,null,null,null,null,null,null,null,null,null,null,null,null,null,null,null,null,null,null,null,null,null,null,null,null,null,null,null,null,null,null,null,null,null,null,null,null,null,null,null,null,null,null,null,null,null,null,null,null,null,null,null,null,null,null,null,null,null,null,null,null,null,null,null,{"$f":"\"План \" & IF(god=\"\",\"Не определено\",god+1) & \" год\"","v":"План 2016 год"},null,null,null,null,null,null,null,null,null,null,null,null,null,null,null,null,null,{"$f":"\"План \" & IF(god=\"\",\"Не определено\",god+2) & \" год\"","v":"План 2017 год"},null,null,null,null,null,null,null,null,null,null,null,null,null,null,null,null,null,{"$f":"\"План \" & IF(god=\"\",\"Не определено\",god+3) & \" год\"","v":"План 2018 год"},null,null,null,null,null,null,null,null,null,null,null,null,null,null,null,null,null,{"$f":"\"План \" & IF(god=\"\",\"Не определено\",god+4) & \" год\"","v":"План 2019 год"}]
[null,null,null,null,null,"За год",null,null,null,null,null,null,null,null,null,null,null,null,null,null,null,null,null,"За год",null,null,null,null,null,null,null,null,null,null,null,null,null,null,null,null,null,"За год",null,null,null,null,null,null,null,null,null,null,null,null,null,null,null,null,null,"За год",null,null,null,null,null,null,null,null,null,null,null,null,null,null,null,null,null,null,null,null,null,null,null,null,null,null,null,null,null,null,null,null,null,null,null,null,null,null,null,null,null,null,null,null,null,null,null,null,null,null,null,null,null,null,null,null,null,null,null,null,null,null,null,null,null,null,null,null,null,null,null,null,null,null,null,null,null,null,null,null,null,null,null,null,null,null,null,null,null,"За год",null,null,null,null,null,null,null,null,null,null,null,null,null,null,null,null,null,"За год",null,null,null,null,null,null,null,null,null,null,null,null,null,null,null,null,null,"За год",null,null,null,null,null,null,null,null,null,null,null,null,null,null,null,null,null,"За год"]
[null,null,null,null,null,"Всего","ВН",null,"СН 1","СН 2","НН",null,null,null,null,null,null,null,null,null,null,null,null,"Всего","ВН",null,"СН 1","СН 2","НН",null,null,null,null,null,null,null,null,null,null,null,null,"Всего","ВН",null,"СН 1","СН 2","НН",null,null,null,null,null,null,null,null,null,null,null,null,"Всего","ВН",null,"СН 1","СН 2","НН",null,null,null,null,null,null,null,null,null,null,null,null,null,null,null,null,null,null,null,null,null,null,null,null,null,null,null,null,null,null,null,null,null,null,null,null,null,null,null,null,null,null,null,null,null,null,null,null,null,null,null,null,null,null,null,null,null,null,null,null,null,null,null,null,null,null,null,null,null,null,null,null,null,null,null,null,null,null,null,null,null,null,null,null,"Всего","ВН",null,"СН 1","СН 2","НН",null,null,null,null,null,null,null,null,null,null,null,null,"Всего","ВН",null,"СН 1","СН 2","НН",null,null,null,null,null,null,null,null,null,null,null,null,"Всего","ВН",null,"СН 1","СН 2","НН",null,null,null,null,null,null,null,null,null,null,null,null,"Всего","ВН",null,"СН 1","СН 2","НН"]
[]
[null,null,null,"1","Поступление мощности, ВСЕГО ",{"$f":"F21+F22+F23","v":6.3},{"$f":"G21+G22+G23","v":2.63},null,{"$f":"I16+I21+I22+I23","v":0},{"$f":"J16+J21+J22+J23","v":6.3},{"$f":"K16+K21+K22+K23","v":1.8399999999999999},null,null,null,null,null,null,null,null,null,null,null,null,{"$f":"X21+X22+X23","v":7.5690675146771049},{"$f":"Y21+Y22+Y23","v":2.8950148401826481},null,{"$f":"AA16+AA21+AA22+AA23","v":0},{"$f":"AB16+AB21+AB22+AB23","v":7.5023959556425321},{"$f":"AC16+AC21+AC22+AC23","v":2.0278318656229626},null,null,null,null,null,null,null,null,null,null,null,null,{"$f":"AP21+AP22+AP23","v":8.5697931173680484},{"$f":"AQ21+AQ22+AQ23","v":3.8207932182864064},null,{"$f":"AS16+AS21+AS22+AS23","v":0},{"$f":"AT16+AT21+AT22+AT23","v":8.5437931173680486},{"$f":"AU16+AU21+AU22+AU23","v":2.398793117368049},null,null,null,null,null,null,null,null,null,null,null,null,{"$f":"BH21+BH22+BH23","v":9.1455130275356282},{"$f":"BI21+BI22+BI23","v":4.0591165144596646},null,{"$f":"BK16+BK21+BK22+BK23","v":0},{"$f":"BL16+BL21+BL22+BL23","v":9.0655130275356299},{"$f":"BM16+BM21+BM22+BM23","v":2.5405130275356305},null,null,null,null,null,null,null,null,null,null,null,null,null,null,null,null,null,null,null,null,null,null,null,null,null,null,null,null,null,null,null,null,null,null,null,null,null,null,null,null,null,null,null,null,null,null,null,null,null,null,null,null,null,null,null,null,null,null,null,null,null,null,null,null,null,null,null,null,null,null,null,null,null,null,null,null,null,null,null,null,null,null,null,null,{"$f":"ET21+ET22+ET23","v":0},{"$f":"EU21+EU22+EU23","v":0},null,{"$f":"EW16+EW21+EW22+EW23","v":0},{"$f":"EX16+EX21+EX22+EX23","v":0},{"$f":"EY16+EY21+EY22+EY23","v":0},null,null,null,null,null,null,null,null,null,null,null,null,{"$f":"FL21+FL22+FL23","v":0},{"$f":"FM21+FM22+FM23","v":0},null,{"$f":"FO16+FO21+FO22+FO23","v":0},{"$f":"FP16+FP21+FP22+FP23","v":0},{"$f":"FQ16+FQ21+FQ22+FQ23","v":0},null,null,null,null,null,null,null,null,null,null,null,null,{"$f":"GD21+GD22+GD23","v":0},{"$f":"GE21+GE22+GE23","v":0},null,{"$f":"GG16+GG21+GG22+GG23","v":0},{"$f":"GH16+GH21+GH22+GH23","v":0},{"$f":"GI16+GI21+GI22+GI23","v":0},null,null,null,null,null,null,null,null,null,null,null,null,{"$f":"GV21+GV22+GV23","v":0},{"$f":"GW21+GW22+GW23","v":0},null,{"$f":"GY16+GY21+GY22+GY23","v":0},{"$f":"GZ16+GZ21+GZ22+GZ23","v":0},{"$f":"HA16+HA21+HA22+HA23","v":0}]
[null,null,null,"1.1","из смежной сети, всего, в том числе из сети:",{"$f":"G16+I16+J16+K16","v":4.47},null,null,{"$f":"I17","v":0},{"$f":"J17+J18","v":2.63},{"$f":"K19+K18","v":1.8399999999999999},null,null,null,null,null,null,null,null,null,null,null,null,{"$f":"Y16+AA16+AB16+AC16","v":4.8561751467710383},null,null,{"$f":"AA17","v":0},{"$f":"AB17+AB18","v":2.8283432811480753},{"$f":"AC19+AC18","v":2.0278318656229626},null,null,null,null,null,null,null,null,null,null,null,null,{"$f":"AQ16+AS16+AT16+AU16","v":6.1935863356544552},null,null,{"$f":"AS17","v":0},{"$f":"AT17+AT18","v":3.7947932182864066},{"$f":"AU19+AU18","v":2.398793117368049},null,null,null,null,null,null,null,null,null,null,null,null,{"$f":"BI16+BK16+BL16+BM16","v":6.519629541995295},null,null,{"$f":"BK17","v":0},{"$f":"BL17+BL18","v":3.9791165144596645},{"$f":"BM19+BM18","v":2.5405130275356305},null,null,null,null,null,null,null,null,null,null,null,null,null,null,null,null,null,null,null,null,null,null,null,null,null,null,null,null,null,null,null,null,null,null,null,null,null,null,null,null,null,null,null,null,null,null,null,null,null,null,null,null,null,null,null,null,null,null,null,null,null,null,null,null,null,null,null,null,null,null,null,null,null,null,null,null,null,null,null,null,null,null,null,null,{"$f":"EU16+EW16+EX16+EY16","v":0},null,null,{"$f":"EW17","v":0},{"$f":"EX17+EX18","v":0},{"$f":"EY19+EY18","v":0},null,null,null,null,null,null,null,null,null,null,null,null,{"$f":"FM16+FO16+FP16+FQ16","v":0},null,null,{"$f":"FO17","v":0},{"$f":"FP17+FP18","v":0},{"$f":"FQ19+FQ18","v":0},null,null,null,null,null,null,null,null,null,null,null,null,{"$f":"GE16+GG16+GH16+GI16","v":0},null,null,{"$f":"GG17","v":0},{"$f":"GH17+GH18","v":0},{"$f":"GI19+GI18","v":0},null,null,null,null,null,null,null,null,null,null,null,null,{"$f":"GW16+GY16+GZ16+HA16","v":0},null,null,{"$f":"GY17","v":0},{"$f":"GZ17+GZ18","v":0},{"$f":"HA19+HA18","v":0}]
[null,null,null,"1.1.1","ВН",2.63,null,null,null,{"$f":"G15-G25","v":2.63},null,null,null,null,null,null,null,null,null,null,null,null,null,{"$f":"Y17+AA17+AB17+AC17","v":2.8283432811480753},null,null,{"$f":"П1.30!AC35","v":0},{"$f":"П1.30!AD35","v":2.8283432811480753},null,null,null,null,null,null,null,null,null,null,null,null,null,{"$f":"AQ17+AS17+AT17+AU17","v":3.7947932182864066},null,null,{"$f":"П1.30!BM35","v":0},{"$f":"П1.30!BN35","v":3.7947932182864066},null,null,null,null,null,null,null,null,null,null,null,null,null,{"$f":"BI17+BK17+BL17+BM17","v":3.9791165144596645},null,null,{"$f":"П1.30!CW35","v":0},{"$f":"П1.30!CX35","v":3.9791165144596645},null,null,null,null,null,null,null,null,null,null,null,null,null,null,null,null,null,null,null,null,null,null,null,null,null,null,null,null,null,null,null,null,null,null,null,null,null,null,null,null,null,null,null,null,null,null,null,null,null,null,null,null,null,null,null,null,null,null,null,null,null,null,null,null,null,null,null,null,null,null,null,null,null,null,null,null,null,null,null,null,null,null,null,null,null,{"$f":"EU17+EW17+EX17+EY17","v":0},null,null,null,{"$f":"EU15-EU25","v":0},null,null,null,null,null,null,null,null,null,null,null,null,null,{"$f":"FM17+FO17+FP17+FQ17","v":0},null,null,null,{"$f":"FM15-FM25","v":0},null,null,null,null,null,null,null,null,null,null,null,null,null,{"$f":"GE17+GG17+GH17+GI17","v":0},null,null,null,{"$f":"GE15-GE25","v":0},null,null,null,null,null,null,null,null,null,null,null,null,null,{"$f":"GW17+GY17+GZ17+HA17","v":0},null,null,null,{"$f":"GW15-GW25","v":0}]
[null,null,null,"1.1.2","СН1",0,null,null,null,null,null,null,null,null,null,null,null,null,null,null,null,null,null,0,null,null,null,{"$f":"П1.30!AD36","v":0},{"$f":"П1.30!AE36","v":0},null,null,null,null,null,null,null,null,null,null,null,null,0,null,null,null,{"$f":"П1.30!BN36","v":0},{"$f":"П1.30!BO36","v":0},null,null,null,null,null,null,null,null,null,null,null,null,0,null,null,null,{"$f":"П1.30!CX36","v":0},{"$f":"П1.30!CY36","v":0},null,null,null,null,null,null,null,null,null,null,null,null,null,null,null,null,null,null,null,null,null,null,null,null,null,null,null,null,null,null,null,null,null,null,null,null,null,null,null,null,null,null,null,null,null,null,null,null,null,null,null,null,null,null,null,null,null,null,null,null,null,null,null,null,null,null,null,null,null,null,null,null,null,null,null,null,null,null,null,null,null,null,null,null,0,null,null,null,null,null,null,null,null,null,null,null,null,null,null,null,null,null,0,null,null,null,null,null,null,null,null,null,null,null,null,null,null,null,null,null,0,null,null,null,null,null,null,null,null,null,null,null,null,null,null,null,null,null,0]
[null,null,null,"1.1.3","СН2",1.8399999999999999,null,null,null,null,{"$f":"J15-J24-J29","v":1.8399999999999999},null,null,null,null,null,null,null,null,null,null,null,null,2.0278318656229626,null,null,null,null,{"$f":"П1.30!AE37","v":2.0278318656229626},null,null,null,null,null,null,null,null,null,null,null,null,2.398793117368049,null,null,null,null,{"$f":"П1.30!BO37","v":2.398793117368049},null,null,null,null,null,null,null,null,null,null,null,null,2.5405130275356305,null,null,null,null,{"$f":"П1.30!CY37","v":2.5405130275356305},null,null,null,null,null,null,null,null,null,null,null,null,null,null,null,null,null,null,null,null,null,null,null,null,null,null,null,null,null,null,null,null,null,null,null,null,null,null,null,null,null,null,null,null,null,null,null,null,null,null,null,null,null,null,null,null,null,null,null,null,null,null,null,null,null,null,null,null,null,null,null,null,null,null,null,null,null,null,null,null,null,null,null,null,0,null,null,null,null,{"$f":"EX15-EX25-EX30","v":0},null,null,null,null,null,null,null,null,null,null,null,null,0,null,null,null,null,{"$f":"FP15-FP25-FP30","v":0},null,null,null,null,null,null,null,null,null,null,null,null,0,null,null,null,null,{"$f":"GH15-GH25-GH30","v":0},null,null,null,null,null,null,null,null,null,null,null,null,0,null,null,null,null,{"$f":"GZ15-GZ25-GZ30","v":0}]
[null,null,null,null,"из 1.1 поступление из сети РСК",0,null,null,null,null,null,null,null,null,null,null,null,null,null,null,null,null,null,0,{"$f":"П1.30!AA23","v":0},null,{"$f":"П1.30!AC23","v":0},{"$f":"П1.30!AD23","v":0},{"$f":"П1.30!AE23","v":0},null,null,null,null,null,null,null,null,null,null,null,null,0,{"$f":"П1.30!BK23","v":0},null,{"$f":"П1.30!BM23","v":0},{"$f":"П1.30!BN23","v":0},{"$f":"П1.30!BO23","v":0},null,null,null,null,null,null,null,null,null,null,null,null,0,{"$f":"П1.30!CU23","v":0},null,{"$f":"П1.30!CW23","v":0},{"$f":"П1.30!CX23","v":0},{"$f":"П1.30!CY23","v":0},null,null,null,null,null,null,null,null,null,null,null,null,null,null,null,null,null,null,null,null,null,null,null,null,null,null,null,null,null,null,null,null,null,null,null,null,null,null,null,null,null,null,null,null,null,null,null,null,null,null,null,null,null,null,null,null,null,null,null,null,null,null,null,null,null,null,null,null,null,null,null,null,null,null,null,null,null,null,null,null,null,null,null,null,0,null,null,null,null,null,null,null,null,null,null,null,null,null,null,null,null,null,0,null,null,null,null,null,null,null,null,null,null,null,null,null,null,null,null,null,0,null,null,null,null,null,null,null,null,null,null,null,null,null,null,null,null,null,0]
[null,null,null,"1.2","от электростанций ПЭ (ЭСО)",0,null,null,null,null,null,null,null,null,null,null,null,null,null,null,null,null,null,0,{"$f":"П1.30!AA18","v":0},null,{"$f":"П1.30!AC18","v":0},{"$f":"П1.30!AD18","v":0},{"$f":"П1.30!AE18","v":0},null,null,null,null,null,null,null,null,null,null,null,null,0,{"$f":"П1.30!BK18","v":0},null,{"$f":"П1.30!BM18","v":0},{"$f":"П1.30!BN18","v":0},{"$f":"П1.30!BO18","v":0},null,null,null,null,null,null,null,null,null,null,null,null,0,{"$f":"П1.30!CU18","v":0},null,{"$f":"П1.30!CW18","v":0},{"$f":"П1.30!CX18","v":0},{"$f":"П1.30!CY18","v":0},null,null,null,null,null,null,null,null,null,null,null,null,null,null,null,null,null,null,null,null,null,null,null,null,null,null,null,null,null,null,null,null,null,null,null,null,null,null,null,null,null,null,null,null,null,null,null,null,null,null,null,null,null,null,null,null,null,null,null,null,null,null,null,null,null,null,null,null,null,null,null,null,null,null,null,null,null,null,null,null,null,null,null,null,0,null,null,null,null,null,null,null,null,null,null,null,null,null,null,null,null,null,0,null,null,null,null,null,null,null,null,null,null,null,null,null,null,null,null,null,0,null,null,null,null,null,null,null,null,null,null,null,null,null,null,null,null,null,0]
[null,null,null,"1.3","от других поставщиков (в т.ч. с оптового рынка)",6.3,2.63,null,null,3.67,null,null,null,null,null,null,null,null,null,null,null,null,null,{"$f":"Y22+AA22+AB22+AC22","v":7.5690675146771049},{"$f":"П1.30!AA21","v":2.8950148401826481},null,{"$f":"П1.30!AC21","v":0},{"$f":"П1.30!AD21","v":4.6740526744944564},{"$f":"П1.30!AE21","v":0},null,null,null,null,null,null,null,null,null,null,null,null,{"$f":"AQ22+AS22+AT22+AU22","v":8.5697931173680484},{"$f":"П1.30!BK21","v":3.8207932182864064},null,{"$f":"П1.30!BM21","v":0},{"$f":"П1.30!BN21","v":4.7489998990816424},{"$f":"П1.30!BO21","v":0},null,null,null,null,null,null,null,null,null,null,null,null,{"$f":"BI22+BK22+BL22+BM22","v":9.1455130275356282},{"$f":"П1.30!CU21","v":4.0591165144596646},null,{"$f":"П1.30!CW21","v":0},{"$f":"П1.30!CX21","v":5.0863965130759645},{"$f":"П1.30!CY21","v":0},null,null,null,null,null,null,null,null,null,null,null,null,null,null,null,null,null,null,null,null,null,null,null,null,null,null,null,null,null,null,null,null,null,null,null,null,null,null,null,null,null,null,null,null,null,null,null,null,null,null,null,null,null,null,null,null,null,null,null,null,null,null,null,null,null,null,null,null,null,null,null,null,null,null,null,null,null,null,null,null,null,null,null,null,0,null,null,null,null,null,null,null,null,null,null,null,null,null,null,null,null,null,0,null,null,null,null,null,null,null,null,null,null,null,null,null,null,null,null,null,0,null,null,null,null,null,null,null,null,null,null,null,null,null,null,null,null,null,0]
[null,null,null,"1.4","поступление мощности от других организаций ",0,null,null,null,null,null,null,null,null,null,null,null,null,null,null,null,null,null,0,{"$f":"П1.30!AA33","v":0},null,{"$f":"П1.30!AC33","v":0},{"$f":"П1.30!AD33","v":0},{"$f":"П1.30!AE33","v":0},null,null,null,null,null,null,null,null,null,null,null,null,0,{"$f":"П1.30!BK33","v":0},null,{"$f":"П1.30!BM33","v":0},{"$f":"П1.30!BN33","v":0},{"$f":"П1.30!BO33","v":0},null,null,null,null,null,null,null,null,null,null,null,null,0,{"$f":"П1.30!CU33","v":0},null,{"$f":"П1.30!CW33","v":0},{"$f":"П1.30!CX33","v":0},{"$f":"П1.30!CY33","v":0},null,null,null,null,null,null,null,null,null,null,null,null,null,null,null,null,null,null,null,null,null,null,null,null,null,null,null,null,null,null,null,null,null,null,null,null,null,null,null,null,null,null,null,null,null,null,null,null,null,null,null,null,null,null,null,null,null,null,null,null,null,null,null,null,null,null,null,null,null,null,null,null,null,null,null,null,null,null,null,null,null,null,null,null,0,null,null,null,null,null,null,null,null,null,null,null,null,null,null,null,null,null,0,null,null,null,null,null,null,null,null,null,null,null,null,null,null,null,null,null,0,null,null,null,null,null,null,null,null,null,null,null,null,null,null,null,null,null,0]
[null,null,null,"2","Потери мощности в сети ",0.06,{"$f":"G26+G27","v":0},null,{"$f":"I26+I27","v":0},{"$f":"J26+J27","v":0.06},{"$f":"K26+K27","v":0},null,null,null,null,null,null,null,null,null,null,null,null,0.20633023483365953,{"$f":"Y26+Y27","v":6.6671559034572739E-2},null,{"$f":"AA26+AA27","v":0},{"$f":"AB26+AB27","v":0.13965867579908678},{"$f":"AC26+AC27","v":0},null,null,null,null,null,null,null,null,null,null,null,null,0.11899999999999999,{"$f":"AQ26+AQ27","v":2.5999999999999999E-2},null,{"$f":"AS26+AS27","v":0},{"$f":"AT26+AT27","v":9.2999999999999999E-2},{"$f":"AU26+AU27","v":0},null,null,null,null,null,null,null,null,null,null,null,null,0.36499999999999999,{"$f":"BI26+BI27","v":0.08},null,{"$f":"BK26+BK27","v":0},{"$f":"BL26+BL27","v":0.28499999999999998},{"$f":"BM26+BM27","v":0},null,null,null,null,null,null,null,null,null,null,null,null,null,null,null,null,null,null,null,null,null,null,null,null,null,null,null,null,null,null,null,null,null,null,null,null,null,null,null,null,null,null,null,null,null,null,null,null,null,null,null,null,null,null,null,null,null,null,null,null,null,null,null,null,null,null,null,null,null,null,null,null,null,null,null,null,null,null,null,null,null,null,null,null,0,{"$f":"EU26+EU27","v":0},null,{"$f":"EW26+EW27","v":0},{"$f":"EX26+EX27","v":0},{"$f":"EY26+EY27","v":0},null,null,null,null,null,null,null,null,null,null,null,null,0,{"$f":"FM26+FM27","v":0},null,{"$f":"FO26+FO27","v":0},{"$f":"FP26+FP27","v":0},{"$f":"FQ26+FQ27","v":0},null,null,null,null,null,null,null,null,null,null,null,null,0,{"$f":"GE26+GE27","v":0},null,{"$f":"GG26+GG27","v":0},{"$f":"GH26+GH27","v":0},{"$f":"GI26+GI27","v":0},null,null,null,null,null,null,null,null,null,null,null,null,0,{"$f":"GW26+GW27","v":0},null,{"$f":"GY26+GY27","v":0},{"$f":"GZ26+GZ27","v":0},{"$f":"HA26+HA27","v":0}]
[null,null,null,null,"то же в % (п.2/п.1)",{"$f":"IF(F15=0,0,F24/F15*100)","v":0.95238095238095233},{"$f":"IF(G15=0,0,G24/G15*100)","v":0},null,{"$f":"IF(I15=0,0,I24/I15*100)","v":0},{"$f":"IF(J15=0,0,J24/J15*100)","v":0.95238095238095233},{"$f":"IF(K15=0,0,K24/K15*100)","v":0},null,null,null,null,null,null,null,null,null,null,null,null,{"$f":"IF(X15=0,0,X24/X15*100)","v":2.7259663681631401},{"$f":"IF(Y15=0,0,Y24/Y15*100)","v":2.3029781439865222},null,{"$f":"IF(AA15=0,0,AA24/AA15*100)","v":0},{"$f":"IF(AB15=0,0,AB24/AB15*100)","v":1.8615209944237863},{"$f":"IF(AC15=0,0,AC24/AC15*100)","v":0},null,null,null,null,null,null,null,null,null,null,null,null,{"$f":"IF(AP15=0,0,AP24/AP15*100)","v":1.3885982820148548},{"$f":"IF(AQ15=0,0,AQ24/AQ15*100)","v":0.68048696997166414},null,{"$f":"IF(AS15=0,0,AS24/AS15*100)","v":0},{"$f":"IF(AT15=0,0,AT24/AT15*100)","v":1.0885095030092331},{"$f":"IF(AU15=0,0,AU24/AU15*100)","v":0},null,null,null,null,null,null,null,null,null,null,null,null,{"$f":"IF(BH15=0,0,BH24/BH15*100)","v":3.9910281566604882},{"$f":"IF(BI15=0,0,BI24/BI15*100)","v":1.9708722258900055},null,{"$f":"IF(BK15=0,0,BK24/BK15*100)","v":0},{"$f":"IF(BL15=0,0,BL24/BL15*100)","v":3.1437823665835536},{"$f":"IF(BM15=0,0,BM24/BM15*100)","v":0},null,null,null,null,null,null,null,null,null,null,null,null,null,null,null,null,null,null,null,null,null,null,null,null,null,null,null,null,null,null,null,null,null,null,null,null,null,null,null,null,null,null,null,null,null,null,null,null,null,null,null,null,null,null,null,null,null,null,null,null,null,null,null,null,null,null,null,null,null,null,null,null,null,null,null,null,null,null,null,null,null,null,null,null,{"$f":"IF(ET15=0,0,ET24/ET15*100)","v":0},{"$f":"IF(EU15=0,0,EU24/EU15*100)","v":0},null,{"$f":"IF(EW15=0,0,EW24/EW15*100)","v":0},{"$f":"IF(EX15=0,0,EX24/EX15*100)","v":0},{"$f":"IF(EY15=0,0,EY24/EY15*100)","v":0},null,null,null,null,null,null,null,null,null,null,null,null,{"$f":"IF(FL15=0,0,FL24/FL15*100)","v":0},{"$f":"IF(FM15=0,0,FM24/FM15*100)","v":0},null,{"$f":"IF(FO15=0,0,FO24/FO15*100)","v":0},{"$f":"IF(FP15=0,0,FP24/FP15*100)","v":0},{"$f":"IF(FQ15=0,0,FQ24/FQ15*100)","v":0},null,null,null,null,null,null,null,null,null,null,null,null,{"$f":"IF(GD15=0,0,GD24/GD15*100)","v":0},{"$f":"IF(GE15=0,0,GE24/GE15*100)","v":0},null,{"$f":"IF(GG15=0,0,GG24/GG15*100)","v":0},{"$f":"IF(GH15=0,0,GH24/GH15*100)","v":0},{"$f":"IF(GI15=0,0,GI24/GI15*100)","v":0},null,null,null,null,null,null,null,null,null,null,null,null,{"$f":"IF(GV15=0,0,GV24/GV15*100)","v":0},{"$f":"IF(GW15=0,0,GW24/GW15*100)","v":0},null,{"$f":"IF(GY15=0,0,GY24/GY15*100)","v":0},{"$f":"IF(GZ15=0,0,GZ24/GZ15*100)","v":0},{"$f":"IF(HA15=0,0,HA24/HA15*100)","v":0}]
[null,null,null,"2.1","Относимые на основное производство",0,null,null,null,null,null,null,null,null,null,null,null,null,null,null,null,null,null,0,{"$f":"П1.30!AA39","v":0},null,{"$f":"П1.30!AC39","v":0},{"$f":"П1.30!AD39","v":0},{"$f":"П1.30!AE39","v":0},null,null,null,null,null,null,null,null,null,null,null,null,0,{"$f":"П1.30!BK39","v":0},null,{"$f":"П1.30!BM39","v":0},{"$f":"П1.30!BN39","v":0},{"$f":"П1.30!BO39","v":0},null,null,null,null,null,null,null,null,null,null,null,null,0,{"$f":"П1.30!CU39","v":0},null,{"$f":"П1.30!CW39","v":0},{"$f":"П1.30!CX39","v":0},{"$f":"П1.30!CY39","v":0},null,null,null,null,null,null,null,null,null,null,null,null,null,null,null,null,null,null,null,null,null,null,null,null,null,null,null,null,null,null,null,null,null,null,null,null,null,null,null,null,null,null,null,null,null,null,null,null,null,null,null,null,null,null,null,null,null,null,null,null,null,null,null,null,null,null,null,null,null,null,null,null,null,null,null,null,null,null,null,null,null,null,null,null,0,null,null,null,null,null,null,null,null,null,null,null,null,null,null,null,null,null,0,null,null,null,null,null,null,null,null,null,null,null,null,null,null,null,null,null,0,null,null,null,null,null,null,null,null,null,null,null,null,null,null,null,null,null,0]
[null,null,null,"2.2","Относимые на сторонних потребителей",0.06,null,null,null,0.06,null,null,null,null,null,null,null,null,null,null,null,null,null,0.20633023483365953,{"$f":"П1.30!AA40","v":6.6671559034572739E-2},null,{"$f":"П1.30!AC40","v":0},{"$f":"П1.30!AD40","v":0.13965867579908678},{"$f":"П1.30!AE40","v":0},null,null,null,null,null,null,null,null,null,null,null,null,0.11899999999999999,{"$f":"П1.30!BK40","v":2.5999999999999999E-2},null,{"$f":"П1.30!BM40","v":0},{"$f":"П1.30!BN40","v":9.2999999999999999E-2},{"$f":"П1.30!BO40","v":0},null,null,null,null,null,null,null,null,null,null,null,null,0.36499999999999999,{"$f":"П1.30!CU40","v":0.08},null,{"$f":"П1.30!CW40","v":0},{"$f":"П1.30!CX40","v":0.28499999999999998},{"$f":"П1.30!CY40","v":0},null,null,null,null,null,null,null,null,null,null,null,null,null,null,null,null,null,null,null,null,null,null,null,null,null,null,null,null,null,null,null,null,null,null,null,null,null,null,null,null,null,null,null,null,null,null,null,null,null,null,null,null,null,null,null,null,null,null,null,null,null,null,null,null,null,null,null,null,null,null,null,null,null,null,null,null,null,null,null,null,null,null,null,null,0,null,null,null,null,null,null,null,null,null,null,null,null,null,null,null,null,null,0,null,null,null,null,null,null,null,null,null,null,null,null,null,null,null,null,null,0,null,null,null,null,null,null,null,null,null,null,null,null,null,null,null,null,null,0]
[null,null,null,"3","Расход мощности на производственные и хозяйственные нужды (собственное потребление организаций, для которых оказание услуг по передаче не является основным видом деятельности)*",0,null,null,null,null,null,null,null,null,null,null,null,null,null,null,null,null,null,0,{"$f":"П1.30!AA45","v":0},null,{"$f":"П1.30!AC45","v":0},{"$f":"П1.30!AD45","v":0},{"$f":"П1.30!AE45","v":0},null,null,null,null,null,null,null,null,null,null,null,null,0,{"$f":"П1.30!BK45","v":0},null,{"$f":"П1.30!BM45","v":0},{"$f":"П1.30!BN45","v":0},{"$f":"П1.30!BO45","v":0},null,null,null,null,null,null,null,null,null,null,null,null,0,{"$f":"П1.30!CU45","v":0},null,{"$f":"П1.30!CW45","v":0},{"$f":"П1.30!CX45","v":0},{"$f":"П1.30!CY45","v":0},null,null,null,null,null,null,null,null,null,null,null,null,null,null,null,null,null,null,null,null,null,null,null,null,null,null,null,null,null,null,null,null,null,null,null,null,null,null,null,null,null,null,null,null,null,null,null,null,null,null,null,null,null,null,null,null,null,null,null,null,null,null,null,null,null,null,null,null,null,null,null,null,null,null,null,null,null,null,null,null,null,null,null,null,0,null,null,null,null,null,null,null,null,null,null,null,null,null,null,null,null,null,0,null,null,null,null,null,null,null,null,null,null,null,null,null,null,null,null,null,0,null,null,null,null,null,null,null,null,null,null,null,null,null,null,null,null,null,0]
[null,null,null,"4","Полезный отпуск из сети ",6.24,{"$f":"G30+G38+G39","v":0},null,{"$f":"I30+I38+I39","v":0},{"$f":"J30+J38+J39","v":4.4000000000000004},{"$f":"K30+K38+K39","v":1.84},null,null,null,null,null,null,null,null,null,null,null,null,7.3640613176777556,{"$f":"Y30+Y38+Y39","v":0},null,{"$f":"AA30+AA38+AA39","v":0},{"$f":"AB30+AB38+AB39","v":5.3340613176777563},{"$f":"AC30+AC38+AC39","v":2.0299999999999998},null,null,null,null,null,null,null,null,null,null,null,null,8.4489999999999998,{"$f":"AQ30+AQ38+AQ39","v":0},null,{"$f":"AS30+AS38+AS39","v":0},{"$f":"AT30+AT38+AT39","v":6.0519999999999996},{"$f":"AU30+AU38+AU39","v":2.3969999999999998},null,null,null,null,null,null,null,null,null,null,null,null,8.7809999999999988,{"$f":"BI30+BI38+BI39","v":0},null,{"$f":"BK30+BK38+BK39","v":0},{"$f":"BL30+BL38+BL39","v":6.2399999999999993},{"$f":"BM30+BM38+BM39","v":2.5409999999999999},null,null,null,null,null,null,null,null,null,null,null,null,null,null,null,null,null,null,null,null,null,null,null,null,null,null,null,null,null,null,null,null,null,null,null,null,null,null,null,null,null,null,null,null,null,null,null,null,null,null,null,null,null,null,null,null,null,null,null,null,null,null,null,null,null,null,null,null,null,null,null,null,null,null,null,null,null,null,null,null,null,null,null,null,0,{"$f":"EU30+EU38+EU39","v":0},null,{"$f":"EW30+EW38+EW39","v":0},{"$f":"EX30+EX38+EX39","v":0},{"$f":"EY30+EY38+EY39","v":0},null,null,null,null,null,null,null,null,null,null,null,null,0,{"$f":"FM30+FM38+FM39","v":0},null,{"$f":"FO30+FO38+FO39","v":0},{"$f":"FP30+FP38+FP39","v":0},{"$f":"FQ30+FQ38+FQ39","v":0},null,null,null,null,null,null,null,null,null,null,null,null,0,{"$f":"GE30+GE38+GE39","v":0},null,{"$f":"GG30+GG38+GG39","v":0},{"$f":"GH30+GH38+GH39","v":0},{"$f":"GI30+GI38+GI39","v":0},null,null,null,null,null,null,null,null,null,null,null,null,0,{"$f":"GW30+GW38+GW39","v":0},null,{"$f":"GY30+GY38+GY39","v":0},{"$f":"GZ30+GZ38+GZ39","v":0},{"$f":"HA30+HA38+HA39","v":0}]
[null,null,null,"4.1","в т.ч. собственным потребителям",6.16,{"$f":"G32+G34+G36+G37","v":0},null,{"$f":"I32+I34+I36+I37","v":0},{"$f":"J32+J34+J36+J37","v":4.32},{"$f":"K32+K34+K36+K37","v":1.84},null,null,null,null,null,null,null,null,null,null,null,null,7.2859999999999996,{"$f":"Y32+Y34+Y36+Y37","v":0},null,{"$f":"AA32+AA34+AA36+AA37","v":0},{"$f":"AB32+AB34+AB36+AB37","v":5.2560000000000002},{"$f":"AC32+AC34+AC36+AC37","v":2.0299999999999998},null,null,null,null,null,null,null,null,null,null,null,null,8.3490000000000002,{"$f":"AQ32+AQ34+AQ36+AQ37","v":0},null,{"$f":"AS32+AS34+AS36+AS37","v":0},{"$f":"AT32+AT34+AT36+AT37","v":5.952},{"$f":"AU32+AU34+AU36+AU37","v":2.3969999999999998},null,null,null,null,null,null,null,null,null,null,null,null,8.6809999999999992,{"$f":"BI32+BI34+BI36+BI37","v":0},null,{"$f":"BK32+BK34+BK36+BK37","v":0},{"$f":"BL32+BL34+BL36+BL37","v":6.14},{"$f":"BM32+BM34+BM36+BM37","v":2.5409999999999999},null,null,null,null,null,null,null,null,null,null,null,null,null,null,null,null,null,null,null,null,null,null,null,null,null,null,null,null,null,null,null,null,null,null,null,null,null,null,null,null,null,null,null,null,null,null,null,null,null,null,null,null,null,null,null,null,null,null,null,null,null,null,null,null,null,null,null,null,null,null,null,null,null,null,null,null,null,null,null,null,null,null,null,null,0,{"$f":"EU32+EU34+EU36+EU37","v":0},null,{"$f":"EW32+EW34+EW36+EW37","v":0},{"$f":"EX32+EX34+EX36+EX37","v":0},{"$f":"EY32+EY34+EY36+EY37","v":0},null,null,null,null,null,null,null,null,null,null,null,null,0,{"$f":"FM32+FM34+FM36+FM37","v":0},null,{"$f":"FO32+FO34+FO36+FO37","v":0},{"$f":"FP32+FP34+FP36+FP37","v":0},{"$f":"FQ32+FQ34+FQ36+FQ37","v":0},null,null,null,null,null,null,null,null,null,null,null,null,0,{"$f":"GE32+GE34+GE36+GE37","v":0},null,{"$f":"GG32+GG34+GG36+GG37","v":0},{"$f":"GH32+GH34+GH36+GH37","v":0},{"$f":"GI32+GI34+GI36+GI37","v":0},null,null,null,null,null,null,null,null,null,null,null,null,0,{"$f":"GW32+GW34+GW36+GW37","v":0},null,{"$f":"GY32+GY34+GY36+GY37","v":0},{"$f":"GZ32+GZ34+GZ36+GZ37","v":0},{"$f":"HA32+HA34+HA36+HA37","v":0}]
[null,null,null,null,"из них, потребителям, присоединенным к центру питания на генераторном напряжении",0,null,null,null,null,null,null,null,null,null,null,null,null,null,null,null,null,null,0,null,null,null,null,null,null,null,null,null,null,null,null,null,null,null,null,null,0,null,null,null,null,null,null,null,null,null,null,null,null,null,null,null,null,null,0,null,null,null,null,null,null,null,null,null,null,null,null,null,null,null,null,null,null,null,null,null,null,null,null,null,null,null,null,null,null,null,null,null,null,null,null,null,null,null,null,null,null,null,null,null,null,null,null,null,null,null,null,null,null,null,null,null,null,null,null,null,null,null,null,null,null,null,null,null,null,null,null,null,null,null,null,null,null,null,null,null,null,null,null,null,null,null,null,null,0,null,null,null,null,null,null,null,null,null,null,null,null,null,null,null,null,null,0,null,null,null,null,null,null,null,null,null,null,null,null,null,null,null,null,null,0,null,null,null,null,null,null,null,null,null,null,null,null,null,null,null,null,null,0]
[null,null,null,"4.1.1","ГП, участнику ОРЭМ",0,null,null,null,null,null,null,null,null,null,null,null,null,null,null,null,null,null,0,null,null,null,null,null,null,null,null,null,null,null,null,null,null,null,null,null,0,null,null,null,null,null,null,null,null,null,null,null,null,null,null,null,null,null,0,null,null,null,null,null,null,null,null,null,null,null,null,null,null,null,null,null,null,null,null,null,null,null,null,null,null,null,null,null,null,null,null,null,null,null,null,null,null,null,null,null,null,null,null,null,null,null,null,null,null,null,null,null,null,null,null,null,null,null,null,null,null,null,null,null,null,null,null,null,null,null,null,null,null,null,null,null,null,null,null,null,null,null,null,null,null,null,null,null,0,null,null,null,null,null,null,null,null,null,null,null,null,null,null,null,null,null,0,null,null,null,null,null,null,null,null,null,null,null,null,null,null,null,null,null,0,null,null,null,null,null,null,null,null,null,null,null,null,null,null,null,null,null,0]
[null,null,null,null," - по договору \"последней мили\"",0,null,null,null,null,null,null,null,null,null,null,null,null,null,null,null,null,null,0,null,null,null,null,null,null,null,null,null,null,null,null,null,null,null,null,null,0,null,null,null,null,null,null,null,null,null,null,null,null,null,null,null,null,null,0,null,null,null,null,null,null,null,null,null,null,null,null,null,null,null,null,null,null,null,null,null,null,null,null,null,null,null,null,null,null,null,null,null,null,null,null,null,null,null,null,null,null,null,null,null,null,null,null,null,null,null,null,null,null,null,null,null,null,null,null,null,null,null,null,null,null,null,null,null,null,null,null,null,null,null,null,null,null,null,null,null,null,null,null,null,null,null,null,null,0,null,null,null,null,null,null,null,null,null,null,null,null,null,null,null,null,null,0,null,null,null,null,null,null,null,null,null,null,null,null,null,null,null,null,null,0,null,null,null,null,null,null,null,null,null,null,null,null,null,null,null,null,null,0]
[null,null,null,"4.1.2","ЭСО, участнику ОРЭМ",0,null,null,null,null,null,null,null,null,null,null,null,null,null,null,null,null,null,0,null,null,null,null,null,null,null,null,null,null,null,null,null,null,null,null,null,0,null,null,null,null,null,null,null,null,null,null,null,null,null,null,null,null,null,0,null,null,null,null,null,null,null,null,null,null,null,null,null,null,null,null,null,null,null,null,null,null,null,null,null,null,null,null,null,null,null,null,null,null,null,null,null,null,null,null,null,null,null,null,null,null,null,null,null,null,null,null,null,null,null,null,null,null,null,null,null,null,null,null,null,null,null,null,null,null,null,null,null,null,null,null,null,null,null,null,null,null,null,null,null,null,null,null,null,0,null,null,null,null,null,null,null,null,null,null,null,null,null,null,null,null,null,0,null,null,null,null,null,null,null,null,null,null,null,null,null,null,null,null,null,0,null,null,null,null,null,null,null,null,null,null,null,null,null,null,null,null,null,0]
[null,null,null,null," - по договору \"последней мили\"",0,null,null,null,null,null,null,null,null,null,null,null,null,null,null,null,null,null,0,null,null,null,null,null,null,null,null,null,null,null,null,null,null,null,null,null,0,null,null,null,null,null,null,null,null,null,null,null,null,null,null,null,null,null,0,null,null,null,null,null,null,null,null,null,null,null,null,null,null,null,null,null,null,null,null,null,null,null,null,null,null,null,null,null,null,null,null,null,null,null,null,null,null,null,null,null,null,null,null,null,null,null,null,null,null,null,null,null,null,null,null,null,null,null,null,null,null,null,null,null,null,null,null,null,null,null,null,null,null,null,null,null,null,null,null,null,null,null,null,null,null,null,null,null,0,null,null,null,null,null,null,null,null,null,null,null,null,null,null,null,null,null,0,null,null,null,null,null,null,null,null,null,null,null,null,null,null,null,null,null,0,null,null,null,null,null,null,null,null,null,null,null,null,null,null,null,null,null,0]
[null,null,null,"4.1.3","сбытовым компаниям, не имеющим статус ГП",0,null,null,null,null,null,null,null,null,null,null,null,null,null,null,null,null,null,0,null,null,null,null,null,null,null,null,null,null,null,null,null,null,null,null,null,0,null,null,null,null,null,null,null,null,null,null,null,null,null,null,null,null,null,0,null,null,null,null,null,null,null,null,null,null,null,null,null,null,null,null,null,null,null,null,null,null,null,null,null,null,null,null,null,null,null,null,null,null,null,null,null,null,null,null,null,null,null,null,null,null,null,null,null,null,null,null,null,null,null,null,null,null,null,null,null,null,null,null,null,null,null,null,null,null,null,null,null,null,null,null,null,null,null,null,null,null,null,null,null,null,null,null,null,0,null,null,null,null,null,null,null,null,null,null,null,null,null,null,null,null,null,0,null,null,null,null,null,null,null,null,null,null,null,null,null,null,null,null,null,0,null,null,null,null,null,null,null,null,null,null,null,null,null,null,null,null,null,0]
[null,null,null,"4.1.4","потребителям, заключившим прямые договоры на услуги по передаче ",6.16,null,null,null,4.32,1.84,null,null,null,null,null,null,null,null,null,null,null,null,{"$f":"Y37+AA37+AB37+AC37","v":7.2859999999999996},null,null,null,5.2560000000000002,2.0299999999999998,null,null,null,null,null,null,null,null,null,null,null,null,{"$f":"AQ37+AS37+AT37+AU37","v":8.3490000000000002},null,null,null,5.952,2.3969999999999998,null,null,null,null,null,null,null,null,null,null,null,null,{"$f":"BI37+BK37+BL37+BM37","v":8.6809999999999992},null,null,null,6.14,2.5409999999999999,null,null,null,null,null,null,null,null,null,null,null,null,null,null,null,null,null,null,null,null,null,null,null,null,null,null,null,null,null,null,null,null,null,null,null,null,null,null,null,null,null,null,null,null,null,null,null,null,null,null,null,null,null,null,null,null,null,null,null,null,null,null,null,null,null,null,null,null,null,null,null,null,null,null,null,null,null,null,null,null,null,null,null,null,{"$f":"EU37+EW37+EX37+EY37","v":0},null,null,null,null,null,null,null,null,null,null,null,null,null,null,null,null,null,{"$f":"FM37+FO37+FP37+FQ37","v":0},null,null,null,null,null,null,null,null,null,null,null,null,null,null,null,null,null,{"$f":"GE37+GG37+GH37+GI37","v":0},null,null,null,null,null,null,null,null,null,null,null,null,null,null,null,null,null,{"$f":"GW37+GY37+GZ37+HA37","v":0}]
[null,null,null,"4.2","переток в сопредельные регионы",0,null,null,null,null,null,null,null,null,null,null,null,null,null,null,null,null,null,0,{"$f":"П1.30!AA65","v":0},null,{"$f":"П1.30!AC65","v":0},{"$f":"П1.30!AD65","v":0},{"$f":"П1.30!AE65","v":0},null,null,null,null,null,null,null,null,null,null,null,null,0,{"$f":"П1.30!BK65","v":0},null,{"$f":"П1.30!BM65","v":0},{"$f":"П1.30!BN65","v":0},{"$f":"П1.30!BO65","v":0},null,null,null,null,null,null,null,null,null,null,null,null,0,{"$f":"П1.30!CU65","v":0},null,{"$f":"П1.30!CW65","v":0},{"$f":"П1.30!CX65","v":0},{"$f":"П1.30!CY65","v":0},null,null,null,null,null,null,null,null,null,null,null,null,null,null,null,null,null,null,null,null,null,null,null,null,null,null,null,null,null,null,null,null,null,null,null,null,null,null,null,null,null,null,null,null,null,null,null,null,null,null,null,null,null,null,null,null,null,null,null,null,null,null,null,null,null,null,null,null,null,null,null,null,null,null,null,null,null,null,null,null,null,null,null,null,0,null,null,null,null,null,null,null,null,null,null,null,null,null,null,null,null,null,0,null,null,null,null,null,null,null,null,null,null,null,null,null,null,null,null,null,0,null,null,null,null,null,null,null,null,null,null,null,null,null,null,null,null,null,0]
[null,null,null,"4.3","переток в другие организации",0.08,null,null,null,0.08,null,null,null,null,null,null,null,null,null,null,null,null,null,7.8061317677756037E-2,{"$f":"П1.30!AA49+П1.30!AA53","v":0},null,{"$f":"П1.30!AC49+П1.30!AC53","v":0},{"$f":"П1.30!AD49+П1.30!AD53","v":7.8061317677756037E-2},{"$f":"П1.30!AE49+П1.30!AE53","v":0},null,null,null,null,null,null,null,null,null,null,null,null,0.1,{"$f":"П1.30!BK49+П1.30!BK53","v":0},null,{"$f":"П1.30!BM49+П1.30!BM53","v":0},{"$f":"П1.30!BN49+П1.30!BN53","v":0.1},{"$f":"П1.30!BO49+П1.30!BO53","v":0},null,null,null,null,null,null,null,null,null,null,null,null,0.1,{"$f":"П1.30!CU49+П1.30!CU53","v":0},null,{"$f":"П1.30!CW49+П1.30!CW53","v":0},{"$f":"П1.30!CX49+П1.30!CX53","v":0.1},{"$f":"П1.30!CY49+П1.30!CY53","v":0},null,null,null,null,null,null,null,null,null,null,null,null,null,null,null,null,null,null,null,null,null,null,null,null,null,null,null,null,null,null,null,null,null,null,null,null,null,null,null,null,null,null,null,null,null,null,null,null,null,null,null,null,null,null,null,null,null,null,null,null,null,null,null,null,null,null,null,null,null,null,null,null,null,null,null,null,null,null,null,null,null,null,null,null,0,null,null,null,null,null,null,null,null,null,null,null,null,null,null,null,null,null,0,null,null,null,null,null,null,null,null,null,null,null,null,null,null,null,null,null,0,null,null,null,null,null,null,null,null,null,null,null,null,null,null,null,null,null,0]
[null,null,null,5,"Заявленная мощность ЕНЭС",0,null,null,null,null,null,null,null,null,null,null,null,null,null,null,null,null,null,0,null,null,null,null,null,null,null,null,null,null,null,null,null,null,null,null,null,0,null,null,null,null,null,null,null,null,null,null,null,null,null,null,null,null,null,0,null,null,null,null,null,null,null,null,null,null,null,null,null,null,null,null,null,null,null,null,null,null,null,null,null,null,null,null,null,null,null,null,null,null,null,null,null,null,null,null,null,null,null,null,null,null,null,null,null,null,null,null,null,null,null,null,null,null,null,null,null,null,null,null,null,null,null,null,null,null,null,null,null,null,null,null,null,null,null,null,null,null,null,null,null,null,null,null,null,0,null,null,null,null,null,null,null,null,null,null,null,null,null,null,null,null,null,0,null,null,null,null,null,null,null,null,null,null,null,null,null,null,null,null,null,0,null,null,null,null,null,null,null,null,null,null,null,null,null,null,null,null,null,0]
[null,null,null,6,"Небаланс",{"$f":"G41+I41+J41+K41","v":0},{"$f":"G15-F17-G24-G28-G29","v":0},null,{"$f":"I15-F18-I24-I28-I29","v":0},{"$f":"J15-F19-J24-J28-J29","v":0},{"$f":"K15-K24-K28-K29","v":0},null,null,null,null,null,null,null,null,null,null,null,null,{"$f":"Y41+AA41+AB41+AC41","v":-1.3240378343106346E-3},{"$f":"Y15-X17-Y24-Y28-Y29","v":4.163336342344337E-17},null,{"$f":"AA15-X18-AA24-AA28-AA29","v":0},{"$f":"AB15-X19-AB24-AB28-AB29","v":8.4409654272654677E-4},{"$f":"AC15-AC24-AC28-AC29","v":-2.168134377037223E-3},null,null,null,null,null,null,null,null,null,null,null,null,{"$f":"AQ41+AS41+AT41+AU41","v":1.7931173680490152E-3},{"$f":"AQ15-AP17-AQ24-AQ28-AQ29","v":-1.9775847626135601E-16},null,{"$f":"AS15-AP18-AS24-AS28-AS29","v":0},{"$f":"AT15-AP19-AT24-AT28-AT29","v":0},{"$f":"AU15-AU24-AU28-AU29","v":1.793117368049213E-3},null,null,null,null,null,null,null,null,null,null,null,null,{"$f":"BI41+BK41+BL41+BM41","v":-4.8697246436939234E-4},{"$f":"BI15-BH17-BI24-BI28-BI29","v":6.9388939039072284E-17},null,{"$f":"BK15-BH18-BK24-BK28-BK29","v":0},{"$f":"BL15-BH19-BL24-BL28-BL29","v":0},{"$f":"BM15-BM24-BM28-BM29","v":-4.8697246436946173E-4},null,null,null,null,null,null,null,null,null,null,null,null,null,null,null,null,null,null,null,null,null,null,null,null,null,null,null,null,null,null,null,null,null,null,null,null,null,null,null,null,null,null,null,null,null,null,null,null,null,null,null,null,null,null,null,null,null,null,null,null,null,null,null,null,null,null,null,null,null,null,null,null,null,null,null,null,null,null,null,null,null,null,null,null,{"$f":"EU41+EW41+EX41+EY41","v":0},{"$f":"EU15-ET17-EU24-EU28-EU29","v":0},null,{"$f":"EW15-ET18-EW24-EW28-EW29","v":0},{"$f":"EX15-ET19-EX24-EX28-EX29","v":0},{"$f":"EY15-EY24-EY28-EY29","v":0},null,null,null,null,null,null,null,null,null,null,null,null,{"$f":"FM41+FO41+FP41+FQ41","v":0},{"$f":"FM15-FL17-FM24-FM28-FM29","v":0},null,{"$f":"FO15-FL18-FO24-FO28-FO29","v":0},{"$f":"FP15-FL19-FP24-FP28-FP29","v":0},{"$f":"FQ15-FQ24-FQ28-FQ29","v":0},null,null,null,null,null,null,null,null,null,null,null,null,{"$f":"GE41+GG41+GH41+GI41","v":0},{"$f":"GE15-GD17-GE24-GE28-GE29","v":0},null,{"$f":"GG15-GD18-GG24-GG28-GG29","v":0},{"$f":"GH15-GD19-GH24-GH28-GH29","v":0},{"$f":"GI15-GI24-GI28-GI29","v":0},null,null,null,null,null,null,null,null,null,null,null,null,{"$f":"GW41+GY41+GZ41+HA41","v":0},{"$f":"GW15-GV17-GW24-GW28-GW29","v":0},null,{"$f":"GY15-GV18-GY24-GY28-GY29","v":0},{"$f":"GZ15-GV19-GZ24-GZ28-GZ29","v":0},{"$f":"HA15-HA24-HA28-HA29","v":0}]

{"sheet":"Прямые договоры с потребителями","index":11,"n_rows":19,"n_cols":20,"rows_kept":19,"cut":false,"hidden":false,"merged":[[6,3,6,19],[11,3,13,3],[11,4,13,4],[11,5,13,5],[11,6,13,6],[11,7,13,7],[11,8,11,19],[12,8,12,13],[12,14,12,19]]}
[]
[]
[]
[]
[]
[]
[null,null,null,"Объёмы оказания услуг по передаче электрической энергии конечным потребителям "]
[]
[]
[]
[]
[null,null,null,"№ п/п","Наименование потребителя","Сетевая организация, к сети которой непосредственно присоединен потребитель *)","Сбытовая организация (поставщик, у которого потребитель приобретает ЭЭ)","Вид тарифа по расчётам за услуги по передаче","Общий объём"]
[null,null,null,null,null,null,null,null,"Электроэнергия (млн. кВтч)",null,null,null,null,null,"Мощность (МВт)"]
[null,null,null,null,null,null,null,null,"Всего","ГН","ВН","СН1","СН2","НН","Всего","ГН","ВН","СН1","СН2","НН"]
[null,null,null,1,{"$f":"D15+1","v":2},{"$f":"E15+1","v":3},4,5,6,7,8,9,10,11,12,13,14,15,16,17]
[null,null,null,0]
[null,null,null,null,"Добавить потребителя"]
[]
[null,null,null,null,"*) - В случае схемы - котел \"сверху\""]

{"sheet":"Договоры взаиморасчёта","index":12,"n_rows":15,"n_cols":8,"rows_kept":15,"cut":false,"hidden":false,"merged":[[6,3,6,7]]}
[]
[]
[]
[]
[]
[]
[null,null,null,"Договоры взаиморасчёта"]
[]
[]
[]
[]
[null,null,null,"№ п/п","Контрагент (сетевая организация, с которой заключен договор)","Наличие физической границы","Способ расчёта объёма оказания услуг","Дифференциация по уровням напряжения"]
[null,null,null,1,{"$f":"D13+1","v":2},{"$f":"E13+1","v":3},{"$f":"F13+1","v":4},{"$f":"G13+1","v":5}]
[null,null,null,0]
[null,null,null,null,"Добавить договор"]

{"sheet":"Комментарии","index":13,"n_rows":10,"n_cols":6,"rows_kept":10,"cut":false,"hidden":false,"merged":[[6,4,6,5]]}
[]
[]
[]
[]
[]
[]
[null,null,null,null,"Ниже вы можете оставить свои комментарии"]
[]
[null,null,null,null,"1"]
[null,null,null,null,null,"Добавить комментарий"]

{"sheet":"Проверка","index":14,"n_rows":11,"n_cols":8,"rows_kept":11,"cut":false,"hidden":false,"merged":[[8,4,8,7]]}
[]
[]
[]
[]
[]
[]
[]
[]
[null,null,null,null,"Результаты проверки"]
[]
[null,null,null,null,"Ссылка 1","Ссылка 2","Описание причины","Обязательность выполнения"]

{"sheet":"modPass","index":15,"n_rows":0,"n_cols":0,"rows_kept":0,"cut":false,"hidden":true,"merged":[]}

{"sheet":"modCommonProv","index":16,"n_rows":3912,"n_cols":3,"rows_kept":3912,"cut":false,"hidden":true,"merged":[]}
[]
[]
[]
[]
[]
[]
[]
[]
[]
[]
[]
[]
[]
[]
[]
[]
[]
[]
[]
[]
[]
[]
[]
[]
[]
[]
[]
[]
[]
[]
[]
[]
[]
[]
[]
[]
[]
[]
[]
[]
[]
[]
[]
[]
[]
[]
[]
[]
[]
[]
[]
[]
[]
[]
[]
[]
[]
[]
[]
[]
[]
[]
[]
[]
[]
[]
[]
[]
[]
[]
[]
[]
[]
[]
[]
[]
[]
[]
[]
[]
[]
[]
[]
[]
[]
[]
[]
[]
[]
[]
[]
[]
[]
[]
[]
[]
[]
[]
[]
[]
[]
[]
[]
[]
[]
[]
[]
[]
[]
[]
[]
[]
[]
[]
[]
[]
[]
[]
[]
[]
[]
[]
[]
[]
[]
[]
[]
[]
[]
[]
[]
[]
[]
[]
[]
[]
[]
[]
[]
[]
[]
[]
[]
[]
[]
[]
[]
[]
[]
[]
[]
[]
[]
[]
[]
[]
[]
[]
[]
[]
[]
[]
[]
[]
[]
[]
[]
[]
[]
[]
[]
[]
[]
[]
[]
[]
[]
[]
[]
[]
[]
[]
[]
[]
[]
[]
[]
[]
[]
[]
[]
[]
[]
[]
[]
[]
[]
[]
[]
[]
[]
[]
[]
[]
[]
[]
[]
[]
[]
[]
[]
[]
[]
[]
[]
[]
[]
[]
[]
[]
[]
[]
[]
[]
[]
[]
[]
[]
[]
[]
[]
[]
[]
[]
[]
[]
[]
[]
[]
[]
[]
[]
[]
[]
[]
[]
[]
[]
[]
[]
[]
[]
[]
[]
[]
[]
[]
[]
[]
[]
[]
[]
[]
[]
[]
[]
[]
[]
[]
[]
[]
[]
[]
[]
[]
[]
[]
[]
[]
[]
[]
[]
[]
[]
[]
[]
[]
[]
[]
[]
[]
[]
[]
[]
[]
[]
[]
[]
[]
[]
[]
[]
[]
[]
[]
[]
[]
[]
[]
[]
[]
[]
[]
[]
[null,null,"заработная плата прочего персонала, относимого на регулируемый вид деятельности"]
[]
[]
[]
[]
[]
[]
[]
[]
[]
[]
[]
[]
[]
[]
[]
[]
[]
[]
[]
[]
[]
[]
[]
[]
[]
[]
[]
[]
[]
[]
[]
[]
[]
[]
[]
[]
[]
[]
[]
[]
[]
[]
[]
[]
[]
[]
[]
[]
[]
[]
[]
[]
[]
[]
[]
[]
[]
[]
[]
[]
[]
[]
[]
[]
[]
[]
[]
[]
[]
[]
[]
[]
[]
[]
[]
[]
[]
[]
[]
[]
[]
[]
[]
[]
[]
[]
[]
[]
[]
[]
[]
[]
[]
[]
[]
[]
[]
[]
[]
[]
[]
[]
[]
[]
[]
[]
[]
[]
[]
[]
[]
[]
[]
[]
[]
[]
[]
[]
[]
[]
[]
[]
[]
[]
[]
[]
[]
[]
[]
[]
[]
[]
[]
[]
[]
[]
[]
[]
[]
[]
[]
[]
[]
[]
[]
[]
[]
[]
[]
[]
[]
[]
[]
[]
[]
[]
[]
[]
[]
[]
[]
[]
[]
[]
[]
[]
[]
[]
[]
[]
[]
[]
[]
[]
[]
[]
[]
[]
[]
[]
[]
[]
[]
[]
[]
[]
[]
[]
[]
[]
[]
[]
[]
[]
[]
[]
[]
[]
[]
[]
[]
[]
[]
[]
[]
[]
[]
[]
[]
[]
[]
[]
[]
[]
[]
[]
[]
[]
[]
[]
[]
[]
[]
[]
[]
[]
[]
[]
[]
[]
[]
[]
[]
[]
[]
[]
[]
[]
[]
[]
[]
[]
[]
[]
[]
[]
[]
[]
[]
[]
[]
[]
[]
[]
[]
[]
[]
[]
[]
[]
[]
[]
[]
[]
[]
[]
[]
[]
[]
[]
[]
[]
[]
[]
[]
[]
[]
[]
[]
[]
[]
[]
[]
[]
[]
[]
[]
[]
[]
[]
[]
[]
[]
[]
[]
[]
[]
[]
[]
[]
[]
[]
[]
[]
[]
[]
[]
[]
[]
[]
[]
[]
[]
[]
[]
[]
[]
[]
[]
[]
[]
[]
[]
[]
[]
[]
[]
[]
[]
[]
[]
[]
[]
[]
[]
[]
[]
[]
[]
[]
[]
[]
[]
[]
[]
[]
[]
[]
[]
[]
[]
[]
[]
[]
[]
[]
[]
[]
[]
[]
[]
[]
[]
[]
[]
[]
[]
[]
[]
[]
[]
[]
[]
[]
[]
[]
[]
[]
[]
[]
[]
[]
[]
[]
[]
[]
[]
[]
[]
[]
[]
[]
[]
[]
[]
[]
[]
[]
[]
[null,null,"заработная плата прочего персонала, относимого на регулируемый вид деятельности"]
[]
[]
[]
[]
[]
[]
[]
[]
[]
[]
[]
[]
[]
[]
[]
[]
[]
[]
[]
[]
[]
[]
[]
[]
[]
[]
[]
[]
[]
[]
[]
[]
[]
[]
[]
[]
[]
[]
[]
[]
[]
[]
[]
[]
[]
[]
[]
[]
[]
[]
[]
[]
[]
[]
[]
[]
[]
[]
[]
[]
[]
[]
[]
[]
[]
[]
[]
[]
[]
[]
[]
[]
[]
[]
[]
[]
[]
[]
[]
[]
[]
[]
[]
[]
[]
[]
[]
[]
[]
[]
[]
[]
[]
[]
[]
[]
[]
[]
[]
[]
[]
[]
[]
[]
[]
[]
[]
[]
[]
[]
[]
[]
[]
[]
[]
[]
[]
[]
[]
[]
[]
[]
[]
[]
[]
[]
[]
[]
[]
[]
[]
[]
[]
[]
[]
[]
[]
[]
[]
[]
[]
[]
[]
[]
[]
[]
[]
[]
[]
[]
[]
[]
[]
[]
[]
[]
[]
[]
[]
[]
[]
[]
[]
[]
[]
[]
[]
[]
[]
[]
[]
[]
[]
[]
[]
[]
[]
[]
[]
[]
[]
[]
[]
[]
[]
[]
[]
[]
[]
[]
[]
[]
[]
[]
[]
[]
[]
[]
[]
[]
[]
[]
[]
[]
[]
[]
[]
[]
[]
[]
[]
[]
[]
[]
[]
[]
[]
[]
[]
[]
[]
[]
[]
[]
[]
[]
[]
[]
[]
[]
[]
[]
[]
[]
[]
[]
[]
[]
[]
[]
[]
[]
[]
[]
[]
[]
[]
[]
[]
[]
[]
[]
[]
[]
[]
[]
[]
[]
[]
[]
[]
[]
[]
[]
[]
[]
[]
[]
[]
[]
[]
[]
[]
[]
[]
[]
[]
[]
[]
[]
[]
[]
[]
[]
[]
[]
[]
[]
[]
[]
[]
[]
[]
[]
[]
[]
[]
[]
[]
[]
[]
[]
[]
[]
[]
[]
[]
[]
[]
[]
[]
[]
[]
[]
[]
[]
[]
[]
[]
[]
[]
[]
[]
[]
[]
[]
[]
[]
[]
[]
[]
[]
[]
[]
[]
[]
[]
[]
[]
[]
[]
[]
[]
[]
[]
[]
[]
[]
[]
[]
[]
[]
[]
[]
[]
[]
[]
[]
[]
[]
[]
[]
[]
[]
[]
[]
[]
[]
[]
[]
[]
[]
[]
[]
[]
[]
[]
[]
[]
[]
[]
[]
[]
[]
[]
[]
[]
[]
[]
[]
[]
[]
[]
[]
[]
[]
[]
[]
[]
[null,null,"заработная плата прочего персонала, относимого на регулируемый вид деятельности"]
[]
[]
[]
[]
[]
[]
[]
[]
[]
[]
[]
[]
[]
[]
[]
[]
[]
[]
[]
[]
[]
[]
[]
[]
[]
[]
[]
[]
[]
[]
[]
[]
[]
[]
[]
[]
[]
[]
[]
[]
[]
[]
[]
[]
[]
[]
[]
[]
[]
[]
[]
[]
[]
[]
[]
[]
[]
[]
[]
[]
[]
[]
[]
[]
[]
[]
[]
[]
[]
[]
[]
[]
[]
[]
[]
[]
[]
[]
[]
[]
[]
[]
[]
[]
[]
[]
[]
[]
[]
[]
[]
[]
[]
[]
[]
[]
[]
[]
[]
[]
[]
[]
[]
[]
[]
[]
[]
[]
[]
[]
[]
[]
[]
[]
[]
[]
[]
[]
[]
[]
[]
[]
[]
[]
[]
[]
[]
[]
[]
[]
[]
[]
[]
[]
[]
[]
[]
[]
[]
[]
[]
[]
[]
[]
[]
[]
[]
[]
[]
[]
[]
[]
[]
[]
[]
[]
[]
[]
[]
[]
[]
[]
[]
[]
[]
[]
[]
[]
[]
[]
[]
[]
[]
[]
[]
[]
[]
[]
[]
[]
[]
[]
[]
[]
[]
[]
[]
[]
[]
[]
[]
[]
[]
[]
[]
[]
[]
[]
[]
[]
[]
[]
[]
[]
[]
[]
[]
[]
[]
[]
[]
[]
[]
[]
[]
[]
[]
[]
[]
[]
[]
[]
[]
[]
[]
[]
[]
[]
[]
[]
[]
[]
[]
[]
[]
[]
[]
[]
[]
[]
[]
[]
[]
[]
[]
[]
[]
[]
[]
[]
[]
[]
[]
[]
[]
[]
[]
[]
[]
[]
[]
[]
[]
[]
[]
[]
[]
[]
[]
[]
[]
[]
[]
[]
[]
[]
[]
[]
[]
[]
[]
[]
[]
[]
[]
[]
[]
[]
[]
[]
[]
[]
[]
[]
[]
[]
[]
[]
[]
[]
[]
[]
[]
[]
[]
[]
[]
[]
[]
[]
[]
[]
[]
[]
[]
[]
[]
[]
[]
[]
[]
[]
[]
[]
[]
[]
[]
[]
[]
[]
[]
[]
[]
[]
[]
[]
[]
[]
[]
[]
[]
[]
[]
[]
[]
[]
[]
[]
[]
[]
[]
[]
[]
[]
[]
[]
[]
[]
[]
[]
[]
[]
[]
[]
[]
[]
[]
[]
[]
[]
[]
[]
[]
[]
[]
[]
[]
[]
[]
[]
[]
[]
[]
[]
[]
[]
[]
[]
[]
[]
[]
[]
[]
[]
[]
[]
[null,null,"заработная плата прочего персонала, относимого на регулируемый вид деятельности"]
[]
[]
[]
[]
[]
[]
[]
[]
[]
[]
[]
[]
[]
[]
[]
[]
[]
[]
[]
[]
[]
[]
[]
[]
[]
[]
[]
[]
[]
[]
[]
[]
[]
[]
[]
[]
[]
[]
[]
[]
[]
[]
[]
[]
[]
[]
[]
[]
[]
[]
[]
[]
[]
[]
[]
[]
[]
[]
[]
[]
[]
[]
[]
[]
[]
[]
[]
[]
[]
[]
[]
[]
[]
[]
[]
[]
[]
[]
[]
[]
[]
[]
[]
[]
[]
[]
[]
[]
[]
[]
[]
[]
[]
[]
[]
[]
[]
[]
[]
[]
[]
[]
[]
[]
[]
[]
[]
[]
[]
[]
[]
[]
[]
[]
[]
[]
[]
[]
[]
[]
[]
[]
[]
[]
[]
[]
[]
[]
[]
[]
[]
[]
[]
[]
[]
[]
[]
[]
[]
[]
[]
[]
[]
[]
[]
[]
[]
[]
[]
[]
[]
[]
[]
[]
[]
[]
[]
[]
[]
[]
[]
[]
[]
[]
[]
[]
[]
[]
[]
[]
[]
[]
[]
[]
[]
[]
[]
[]
[]
[]
[]
[]
[]
[]
[]
[]
[]
[]
[]
[]
[]
[]
[]
[]
[]
[]
[]
[]
[]
[]
[]
[]
[]
[]
[]
[]
[]
[]
[]
[]
[]
[]
[]
[]
[]
[]
[]
[]
[]
[]
[]
[]
[]
[]
[]
[]
[]
[]
[]
[]
[]
[]
[]
[]
[]
[]
[]
[]
[]
[]
[]
[]
[]
[]
[]
[]
[]
[]
[]
[]
[]
[]
[]
[]
[]
[]
[]
[]
[]
[]
[]
[]
[]
[]
[]
[]
[]
[]
[]
[]
[]
[]
[]
[]
[]
[]
[]
[]
[]
[]
[]
[]
[]
[]
[]
[]
[]
[]
[]
[]
[]
[]
[]
[]
[]
[]
[]
[]
[]
[]
[]
[]
[]
[]
[]
[]
[]
[]
[]
[]
[]
[]
[]
[]
[]
[]
[]
[]
[]
[]
[]
[]
[]
[]
[]
[]
[]
[]
[]
[]
[]
[]
[]
[]
[]
[]
[]
[]
[]
[]
[]
[]
[]
[]
[]
[]
[]
[]
[]
[]
[]
[]
[]
[]
[]
[]
[]
[]
[]
[]
[]
[]
[]
[]
[]
[]
[]
[]
[]
[]
[]
[]
[]
[]
[]
[]
[]
[]
[]
[]
[]
[]
[]
[]
[]
[]
[]
[]
[]
[]
[]
[]
[]
[]
[]
[]
[]
[]
[]
[null,null,"заработная плата прочего персонала, относимого на регулируемый вид деятельности"]
[]
[]
[]
[]
[]
[]
[]
[]
[]
[]
[]
[]
[]
[]
[]
[]
[]
[]
[]
[]
[]
[]
[]
[]
[]
[]
[]
[]
[]
[]
[]
[]
[]
[]
[]
[]
[]
[]
[]
[]
[]
[]
[]
[]
[]
[]
[]
[]
[]
[]
[]
[]
[]
[]
[]
[]
[]
[]
[]
[]
[]
[]
[]
[]
[]
[]
[]
[]
[]
[]
[]
[]
[]
[]
[]
[]
[]
[]
[]
[]
[]
[]
[]
[]
[]
[]
[]
[]
[]
[]
[]
[]
[]
[]
[]
[]
[]
[]
[]
[]
[]
[]
[]
[]
[]
[]
[]
[]
[]
[]
[]
[]
[]
[]
[]
[]
[]
[]
[]
[]
[]
[]
[]
[]
[]
[]
[]
[]
[]
[]
[]
[]
[]
[]
[]
[]
[]
[]
[]
[]
[]
[]
[]
[]
[]
[]
[]
[]
[]
[]
[]
[]
[]
[]
[]
[]
[]
[]
[]
[]
[]
[]
[]
[]
[]
[]
[]
[]
[]
[]
[]
[]
[]
[]
[]
[]
[]
[]
[]
[]
[]
[]
[]
[]
[]
[]
[]
[]
[]
[]
[]
[]
[]
[]
[]
[]
[]
[]
[]
[]
[]
[]
[]
[]
[]
[]
[]
[]
[]
[]
[]
[]
[]
[]
[]
[]
[]
[]
[]
[]
[]
[]
[]
[]
[]
[]
[]
[]
[]
[]
[]
[]
[]
[]
[]
[]
[]
[]
[]
[]
[]
[]
[]
[]
[]
[]
[]
[]
[]
[]
[]
[]
[]
[]
[]
[]
[]
[]
[]
[]
[]
[]
[]
[]
[]
[]
[]
[]
[]
[]
[]
[]
[]
[]
[]
[]
[]
[]
[]
[]
[]
[]
[]
[]
[]
[]
[]
[]
[]
[]
[]
[]
[]
[]
[]
[]
[]
[]
[]
[]
[]
[]
[]
[]
[]
[]
[]
[]
[]
[]
[]
[]
[]
[]
[]
[]
[]
[]
[]
[]
[]
[]
[]
[]
[]
[]
[]
[]
[]
[]
[]
[]
[]
[]
[]
[]
[]
[]
[]
[]
[]
[]
[]
[]
[]
[]
[]
[]
[]
[]
[]
[]
[]
[]
[]
[]
[]
[]
[]
[]
[]
[]
[]
[]
[]
[]
[]
[]
[]
[]
[]
[]
[]
[]
[]
[]
[]
[]
[]
[]
[]
[]
[]
[]
[]
[]
[]
[]
[]
[]
[]
[]
[]
[]
[]
[]
[]
[]
[]
[null,null,"заработная плата прочего персонала, относимого на регулируемый вид деятельности"]
[]
[]
[]
[]
[]
[]
[]
[]
[]
[]
[]
[]
[]
[]
[]
[]
[]
[]
[]
[]
[]
[]
[]
[]
[]
[]
[]
[]
[]
[]
[]
[]
[]
[]
[]
[]
[]
[]
[]
[]
[]
[]
[]
[]
[]
[]
[]
[]
[]
[]
[]
[]
[]
[]
[]
[]
[]
[]
[]
[]
[]
[]
[]
[]
[]
[]
[]
[]
[]
[]
[]
[]
[]
[]
[]
[]
[]
[]
[]
[]
[]
[]
[]
[]
[]
[]
[]
[]
[]
[]
[]
[]
[]
[]
[]
[]
[]
[]
[]
[]
[]
[]
[]
[]
[]
[]
[]
[]
[]
[]
[]
[]
[]
[]
[]
[]
[]
[]
[]
[]
[]
[]
[]
[]
[]
[]
[]
[]
[]
[]
[]
[]
[]
[]
[]
[]
[]
[]
[]
[]
[]
[]
[]
[]
[]
[]
[]
[]
[]
[]
[]
[]
[]
[]
[]
[]
[]
[]
[]
[]
[]
[]
[]
[]
[]
[]
[]
[]
[]
[]
[]
[]
[]
[]
[]
[]
[]
[]
[]
[]
[]
[]
[]
[]
[]
[]
[]
[]
[]
[]
[]
[]
[]
[]
[]
[]
[]
[]
[]
[]
[]
[]
[]
[]
[]
[]
[]
[]
[]
[]
[]
[]
[]
[]
[]
[]
[]
[]
[]
[]
[]
[]
[]
[]
[]
[]
[]
[]
[]
[]
[]
[]
[]
[]
[]
[]
[]
[]
[]
[]
[]
[]
[]
[]
[]
[]
[]
[]
[]
[]
[]
[]
[]
[]
[]
[]
[]
[]
[]
[]
[]
[]
[]
[]
[]
[]
[]
[]
[]
[]
[]
[]
[]
[]
[]
[]
[]
[]
[]
[]
[]
[]
[]
[]
[]
[]
[]
[]
[]
[]
[]
[]
[]
[]
[]
[]
[]
[]
[]
[]
[]
[]
[]
[]
[]
[]
[]
[]
[]
[]
[]
[]
[]
[]
[]
[]
[]
[]
[]
[]
[]
[]
[]
[]
[]
[]
[]
[]
[]
[]
[]
[]
[]
[]
[]
[]
[]
[]
[]
[]
[]
[]
[]
[]
[]
[]
[]
[]
[]
[]
[]
[]
[]
[]
[]
[]
[]
[]
[]
[]
[]
[]
[]
[]
[]
[]
[]
[]
[]
[]
[]
[]
[]
[]
[]
[]
[]
[]
[]
[]
[]
[]
[]
[]
[]
[]
[]
[]
[]
[]
[]
[]
[]
[]
[]
[]
[]
[]
[]
[]
[]
[]
[]
[]
[]
[]
[]
[]
[]
[]
[]
[]
[]
[]
[]
[]
[]
[]
[]
[]
[]
[]
[]
[]
[]
[]
[]
[]
[]
[]
[]
[]
[]
[]
[]
[]
[]
[]
[]
[]
[]
[]
[]
[]
[]
[]
[]
[]
[]
[]
[]
[]
[]
[]
[]
[]
[]
[]
[]
[]
[]
[]
[]
[]
[]
[]
[]
[]
[]
[]
[]
[]
[]
[]
[]
[]
[]
[]
[]
[]
[]
[]
[]
[]
[]
[]
[]
[]
[]
[]
[]
[]
[]
[]
[]
[]
[]
[]
[]
[]
[]
[]
[]
[]
[]
[]
[]
[]
[]
[]
[]
[]
[]
[]
[]
[]
[]
[]
[]
[]
[]
[]
[]
[]
[]
[]
[]
[]
[]
[]
[]
[]
[]
[]
[]
[]
[]
[]
[]
[]
[]
[]
[]
[]
[]
[]
[]
[]
[]
[]
[]
[]
[]
[]
[]
[]
[]
[]
[]
[]
[]
[]
[]
[]
[]
[]
[]
[]
[]
[]
[]
[]
[]
[]
[]
[]
[]
[]
[]
[]
[]
[]
[]
[]
[]
[]
[]
[]
[]
[]
[]
[]
[]
[]
[]
[]
[]
[]
[]
[]
[]
[]
[]
[]
[]
[]
[]
[]
[]
[]
[]
[]
[]
[]
[]
[]
[]
[]
[]
[]
[]
[]
[]
[]
[]
[]
[]
[]
[]
[]
[]
[]
[]
[]
[]
[]
[]
[]
[]
[]
[]
[]
[]
[]
[]
[]
[]
[]
[]
[]
[]
[]
[]
[]
[]
[]
[]
[]
[]
[]
[]
[]
[]
[]
[]
[]
[]
[]
[]
[]
[]
[]
[]
[]
[]
[]
[]
[]
[]
[]
[]
[]
[]
[]
[]
[]
[]
[]
[]
[]
[]
[]
[]
[]
[]
[]
[]
[]
[]
[]
[]
[]
[]
[]
[]
[]
[]
[]
[]
[]
[]
[]
[]
[]
[]
[]
[]
[]
[]
[]
[]
[]
[]
[]
[]
[]
[]
[]
[]
[]
[]
[]
[]
[]
[]
[]
[]
[]
[]
[]
[]
[]
[]
[]
[]
[]
[]
[]
[]
[]
[]
[]
[]
[]
[]
[]
[]
[]
[]
[]
[]
[]
[]
[]
[]
[]
[]
[]
[]
[]
[]
[]
[]
[]
[]
[]
[]
[]
[]
[]
[]
[]
[]
[]
[]
[]
[]
[]
[]
[]
[]
[]
[]
[]
[]
[]
[]
[]
[]
[]
[]
[]
[]
[]
[]
[]
[]
[]
[]
[]
[]
[]
[]
[]
[]
[]
[]
[]
[]
[]
[]
[]
[]
[]
[]
[]
[]
[]
[]
[]
[]
[]
[]
[]
[]
[]
[]
[]
[]
[]
[]
[]
[]
[]
[]
[]
[]
[]
[]
[]
[]
[]
[]
[]
[]
[]
[]
[]
[]
[]
[]
[]
[]
[]
[]
[]
[]
[]
[]
[]
[]
[]
[]
[]
[]
[]
[]
[]
[]
[]
[]
[]
[]
[]
[]
[]
[]
[]
[]
[]
[]
[]
[]
[]
[]
[]
[]
[]
[]
[]
[]
[]
[]
[]
[]
[]
[]
[]
[]
[]
[]
[]
[]
[]
[]
[]
[]
[]
[]
[]
[]
[]
[]
[]
[]
[]
[]
[]
[]
[]
[]
[]
[]
[]
[]
[]
[]
[]
[]
[]
[]
[]
[]
[]
[]
[]
[]
[]
[]
[]
[]
[]
[]
[]
[]
[]
[]
[]
[]
[]
[]
[]
[]
[]
[]
[]
[]
[]
[]
[]
[]
[]
[]
[]
[]
[]
[]
[]
[]
[]
[]
[]
[]
[]
[]
[]
[]
[]
[]
[]
[]
[]
[]
[]
[]
[]
[]
[]
[]
[]
[]
[]
[]
[]
[]
[]
[]
[]
[]
[]
[]
[]
[]
[]
[]
[]
[]
[]
[]
[]
[]
[]
[]
[]
[]
[]
[]
[]
[]
[]
[]
[]
[]
[]
[]
[]
[]
[]
[]
[]
[]
[]
[]
[]
[]
[]
[]
[]
[]
[]
[]
[]
[]
[]
[]
[]
[]
[]
[]
[]
[]
[]
[]
[]
[]
[]
[]
[]
[]
[]
[]
[]
[]
[]
[]
[]
[]
[]
[]
[]
[]
[]
[]
[]
[]
[]
[]
[]
[]
[]
[]
[]
[]
[]
[]
[]
[]
[]
[]
[]
[]
[]
[]
[]
[]
[]
[]
[]
[]
[]
[]
[]
[]
[]
[]
[]
[]
[]
[]
[]
[]
[]
[]
[]
[]
[]
[]
[]
[]
[]
[]
[]
[]
[]
[]
[]
[]
[]
[]
[]
[]
[]
[]
[]
[]
[]
[]
[]
[]
[]
[]
[]
[]
[]
[]
[]
[]
[]
[]
[]
[]
[]
[]
[]
[]
[]
[]
[]
[]
[]
[]
[]
[]
[]
[]
[]
[]
[]
[]
[]
[]
[]
[]
[]
[]
[]
[]
[]
[]
[]
[]
[]
[]
[]
[]
[]
[]
[]
[]
[]
[]
[]
[]
[]
[]
[]
[]
[]
[]
[]
[]
[]
[]
[]
[]
[]
[]
[]
[]
[]
[]
[]
[]
[]
[]
[]
[]
[]
[]
[]
[]
[]
[]
[]
[]
[]
[]
[]
[]
[]
[]
[]
[]
[]
[]
[]
[]
[]
[]
[]
[]
[]
[]
[]
[]
[]
[]
[]
[]
[]
[]
[]
[]
[]
[]
[]
[]
[]
[]
[]
[]
[]
[]
[]
[]
[]
[]
[]
[]
[]
[]
[]
[]
[]
[]
[]
[]
[]
[]
[]
[]
[]
[]
[]
[]
[]
[]
[]
[]
[]
[]
[]
[]
[]
[]
[]
[]
[]
[]
[]
[]
[]
[]
[]
[]
[]
[]
[]
[]
[]
[]
[]
[]
[]
[]
[]
[]
[]
[]
[]
[]
[]
[]
[]
[]
[]
[]
[]
[]
[]
[]
[]
[]
[]
[]
[]
[]
[]
[]
[]
[]
[]
[]
[]
[]
[]
[]
[]
[]
[]
[]
[]
[]
[]
[]
[]
[]
[]
[]
[]
[]
[]
[]
[]
[]
[]
[]
[]
[]
[]
[]
[]
[]
[]
[]
[]
[]
[]
[]
[]
[]
[]
[]
[]
[]
[]
[]
[]
[]
[]
[]
[]
[]
[]
[]
[]
[]
[]
[]
[]
[]
[]
[]
[]
[]
[]
[]
[]
[]
[]
[]
[]
[]
[]
[]
[]
[]
[]
[]
[]
[]
[]
[]
[]
[]
[]
[]
[]
[]
[]
[]
[]
[]
[]
[]
[]
[]
[]
[]
[]
[]
[]
[]
[]
[]
[]
[]
[]
[]
[]
[]
[]
[]
[]
[]
[]
[]
[]
[]
[]
[]
[]
[]
[]
[]
[]
[]
[]
[]
[]
[]
[]
[]
[]
[]
[]
[]
[]
[]
[]
[]
[]
[]
[]
[]
[]
[]
[]
[]
[]
[]
[]
[]
[]
[]
[]
[]
[]
[]
[]
[]
[]
[]
[]
[]
[]
[]
[]
[]
[]
[]
[]
[]
[]
[]
[]
[]
[]
[]
[]
[]
[]
[]
[]
[]
[]
[]
[]
[]
[]
[]
[]
[]
[]
[]
[]
[]
[]
[]
[]
[]
[]
[]
[]
[]
[]
[]
[]
[]
[]
[]
[]
[]
[]
[]
[]
[]
[]
[]
[]
[]
[]
[]
[]
[]
[]
[]
[]
[]
[]
[]
[]
[]
[]
[]
[]
[]
[]
[]
[]
[]
[]
[]
[]
[]
[]
[]
[]
[]
[null,null,"заработная плата прочего персонала, относимого на регулируемый вид деятельности"]

{"sheet":"modProv","index":17,"n_rows":0,"n_cols":0,"rows_kept":0,"cut":false,"hidden":true,"merged":[]}

{"sheet":"modProvGeneralProc","index":18,"n_rows":0,"n_cols":0,"rows_kept":0,"cut":false,"hidden":true,"merged":[]}

{"sheet":"tech","index":19,"n_rows":36,"n_cols":110,"rows_kept":36,"cut":false,"hidden":true,"merged":[[1,0,1,1],[4,0,4,1],[35,0,35,1],[27,0,27,1],[14,0,14,1],[11,0,11,1],[22,3,24,3],[22,4,24,4],[17,0,17,1],[20,0,20,1],[21,0,21,1]]}
[]
["MUTUAL_SETTLEMENT_ADD_RANGE"]
[]
[]
["DIRECT_CONTRACT_ADD_RANGE"]
[null,null,null,null,null,null,null,null,{"$f":"SUM(J6:N6)","v":0},null,null,null,null,null,{"$f":"SUM(P6:T6)","v":0}]
[]
[]
[]
[]
[]
["p_1_30_tso_range"]
[null,null,null,null,null,null,null,{"$f":"I13+K13+L13+M13","v":0},null,null,null,null,null,{"$f":"O13+Q13+R13+S13","v":0},null,null,null,null,null,{"$f":"U13+W13+X13+Y13","v":0},null,null,null,null,null,{"$f":"AA13+AC13+AD13+AE13","v":0},null,null,null,null,null,{"$f":"AG13+AI13+AJ13+AK13","v":0},null,null,null,null,null,null,null,null,null,null,null,{"$f":"AS13+AU13+AV13+AW13","v":0},null,null,null,null,null,{"$f":"AY13+BA13+BB13+BC13","v":0},null,null,null,null,null,{"$f":"BE13+BG13+BH13+BI13","v":0},null,null,null,null,null,{"$f":"BK13+BM13+BN13+BO13","v":0},null,null,null,null,null,{"$f":"BQ13+BS13+BT13+BU13","v":0},null,null,null,null,null,null,null,null,null,null,null,{"$f":"CC13+CE13+CF13+CG13","v":0},null,null,null,null,null,{"$f":"CI13+CK13+CL13+CM13","v":0},null,null,null,null,null,{"$f":"CO13+CQ13+CR13+CS13","v":0},null,null,null,null,null,{"$f":"CU13+CW13+CX13+CY13","v":0},null,null,null,null,null,{"$f":"DA13+DC13+DD13+DE13","v":0}]
[]
["p_1_30_3_sbwt_company_range"]
[null,null,null,null,null,null,null,{"$f":"I16+K16+L16+M16","v":0},null,null,null,null,null,{"$f":"O16+Q16+R16+S16","v":0},null,null,null,null,null,{"$f":"U16+W16+X16+Y16","v":0},null,null,null,null,null,{"$f":"AA16+AC16+AD16+AE16","v":0},null,null,null,null,null,{"$f":"AG16+AI16+AJ16+AK16","v":0},null,null,null,null,null,null,null,null,null,null,null,{"$f":"AS16+AU16+AV16+AW16","v":0},null,null,null,null,null,{"$f":"AY16+BA16+BB16+BC16","v":0},null,null,null,null,null,{"$f":"BE16+BG16+BH16+BI16","v":0},null,null,null,null,null,{"$f":"BK16+BM16+BN16+BO16","v":0},null,null,null,null,null,{"$f":"BQ16+BS16+BT16+BU16","v":0},null,null,null,null,null,null,null,null,null,null,null,{"$f":"CC16+CE16+CF16+CG16","v":0},null,null,null,null,null,{"$f":"CI16+CK16+CL16+CM16","v":0},null,null,null,null,null,{"$f":"CO16+CQ16+CR16+CS16","v":0},null,null,null,null,null,{"$f":"CU16+CW16+CX16+CY16","v":0},null,null,null,null,null,{"$f":"DA16+DC16+DD16+DE16","v":0}]
[]
["p_1_30_other_tso_range"]
[null,null,null,null,null,null,null,{"$f":"I19+K19+L19+M19","v":0},null,null,null,null,null,{"$f":"O19+Q19+R19+S19","v":0},null,null,null,null,null,{"$f":"U19+W19+X19+Y19","v":0},null,null,null,null,null,{"$f":"AA19+AC19+AD19+AE19","v":0},null,null,null,null,null,{"$f":"AG19+AI19+AJ19+AK19","v":0},null,null,null,null,null,{"$f":"AM19+AO19+AP19+AQ19","v":0},null,null,null,null,null,{"$f":"AS19+AU19+AV19+AW19","v":0},null,null,null,null,null,{"$f":"AY19+BA19+BB19+BC19","v":0},null,null,null,null,null,{"$f":"BE19+BG19+BH19+BI19","v":0},null,null,null,null,null,{"$f":"BK19+BM19+BN19+BO19","v":0},null,null,null,null,null,{"$f":"BQ19+BS19+BT19+BU19","v":0},null,null,null,null,null,{"$f":"BW19+BY19+BZ19+CA19","v":0},null,null,null,null,null,{"$f":"CC19+CE19+CF19+CG19","v":0},null,null,null,null,null,{"$f":"CI19+CK19+CL19+CM19","v":0},null,null,null,null,null,{"$f":"CO19+CQ19+CR19+CS19","v":0},null,null,null,null,null,{"$f":"CU19+CW19+CX19+CY19","v":0},null,null,null,null,null,{"$f":"DA19+DC19+DD19+DE19","v":0},null,null,null,null,null,{"$f":"DG19+DI19+DJ19+DK19","v":0}]
[]
["p_1_30_sbwt_range"]
["p_1_30_customer_range"]
[null,null,null,null,null,null,"total"]
[null,null,null,null,null,1,null,{"$f":"I24+K24+L24+M24","v":0},null,null,null,null,null,{"$f":"O24+Q24+R24+S24","v":0},null,null,null,null,null,{"$f":"U24+W24+X24+Y24","v":0},null,null,null,null,null,{"$f":"AA24+AC24+AD24+AE24","v":0},null,null,null,null,null,{"$f":"AG24+AI24+AJ24+AK24","v":0},null,null,null,null,null,{"$f":"AM24+AO24+AP24+AQ24","v":0},null,null,null,null,null,{"$f":"AS24+AU24+AV24+AW24","v":0},null,null,null,null,null,{"$f":"AY24+BA24+BB24+BC24","v":0},null,null,null,null,null,{"$f":"BE24+BG24+BH24+BI24","v":0},null,null,null,null,null,{"$f":"BK24+BM24+BN24+BO24","v":0},null,null,null,null,null,{"$f":"BQ24+BS24+BT24+BU24","v":0},null,null,null,null,null,{"$f":"BW24+BY24+BZ24+CA24","v":0},null,null,null,null,null,{"$f":"CC24+CE24+CF24+CG24","v":0},null,null,null,null,null,{"$f":"CI24+CK24+CL24+CM24","v":0},null,null,null,null,null,{"$f":"CO24+CQ24+CR24+CS24","v":0},null,null,null,null,null,{"$f":"CU24+CW24+CX24+CY24","v":0},null,null,null,null,null,{"$f":"DA24+DC24+DD24+DE24","v":0},null,null,null,null,null,{"$f":"DG24+DI24+DJ24+DK24","v":0}]
[]
[]
[]
["p_1_30_4_1_sbwt_company_range"]
[null,null,null,null,null,null,null,{"$f":"I29+K29+L29+M29","v":0},null,null,null,null,null,{"$f":"O29+Q29+R29+S29","v":0},null,null,null,null,null,{"$f":"U29+W29+X29+Y29","v":0},null,null,null,null,null,{"$f":"AA29+AC29+AD29+AE29","v":0},null,null,null,null,null,{"$f":"AG29+AI29+AJ29+AK29","v":0},null,null,null,null,null,{"$f":"AM29+AO29+AP29+AQ29","v":0},null,null,null,null,null,{"$f":"AS29+AU29+AV29+AW29","v":0},null,null,null,null,null,{"$f":"AY29+BA29+BB29+BC29","v":0},null,null,null,null,null,{"$f":"BE29+BG29+BH29+BI29","v":0},null,null,null,null,null,{"$f":"BK29+BM29+BN29+BO29","v":0},null,null,null,null,null,{"$f":"BQ29+BS29+BT29+BU29","v":0},null,null,null,null,null,{"$f":"BW29+BY29+BZ29+CA29","v":0},null,null,null,null,null,{"$f":"CC29+CE29+CF29+CG29","v":0},null,null,null,null,null,{"$f":"CI29+CK29+CL29+CM29","v":0},null,null,null,null,null,{"$f":"CO29+CQ29+CR29+CS29","v":0},null,null,null,null,null,{"$f":"CU29+CW29+CX29+CY29","v":0},null,null,null,null,null,{"$f":"DA29+DC29+DD29+DE29","v":0},null,null,null,null,null,{"$f":"DG29+DI29+DJ29+DK29","v":0}]
[]
[]
[]
[]
[]
[]
["COMS_ADD_RANGE"]

{"sheet":"modSheetTitle","index":20,"n_rows":0,"n_cols":0,"rows_kept":0,"cut":false,"hidden":true,"merged":[]}

{"sheet":"TECHSHEET","index":21,"n_rows":84,"n_cols":15,"rows_kept":84,"cut":false,"hidden":true,"merged":[[40,14,51,14],[0,14,23,14]]}
["Алтайский край",null,"YEAR","MONTH","logic",null,"НСРФ",null,null,"LOGIN",null,"POSSIBLE_PERIOD_LENGTH",null,"POSSIBLE_PERIODS_2006_2010","3 и 5 лет"]
["Амурская область",null,2010,"Январь","да",null,{"$f":"region_name","v":"Тюменская область"},null,null,"PASSWORD",null,"1",null,"POSSIBLE_PERIODS_2008_2010"]
["Архангельская область",null,2011,"Февраль","нет",null,null,null,null,"LGL_ID",null,"3",null,"POSSIBLE_PERIODS_2007_2011"]
["Астраханская область",null,2012,"Март",null,null,null,null,null,null,null,"4",null,"POSSIBLE_PERIODS_2009_2011"]
["Белгородская область",null,2013,"Апрель",null,null,null,null,null,null,null,"5",null,"POSSIBLE_PERIODS_2008_2012"]
["Брянская область",null,2014,"Май",null,null,null,null,null,null,null,null,null,"POSSIBLE_PERIODS_2010_2012"]
["Владимирская область",null,2015,"Июнь",null,null,null,null,null,"XML_AUTHORIZATION_TAG_NAMES",null,null,null,"POSSIBLE_PERIODS_2009_2013"]
["Волгоградская область",null,2016,"Июль",null,null,null,null,null,"AL",null,null,null,"POSSIBLE_PERIODS_2011_2013"]
["Вологодская область",null,2017,"Август",null,null,null,null,null,"LGL_ID",null,null,null,"POSSIBLE_PERIODS_2010_2014"]
["Воронежская область",null,2018,"Сентябрь",null,null,null,null,null,null,null,null,null,"POSSIBLE_PERIODS_2012_2014"]
["г. Москва",null,2019,"Октябрь",null,null,null,null,null,null,null,null,null,"POSSIBLE_PERIODS_2011_2015"]
["г.Байконур",null,2020,"Ноябрь",null,null,null,null,null,null,null,null,null,"POSSIBLE_PERIODS_2013_2015"]
["г.Санкт-Петербург",null,2021,"Декабрь",null,null,null,null,null,null,null,null,null,"POSSIBLE_PERIODS_2012_2016"]
["Еврейская автономная область",null,null,null,null,null,"method_calc_services_amount",null,null,null,null,null,null,"POSSIBLE_PERIODS_2014_2016"]
["Забайкальский край",null,null,null,null,null,"Сальдо-переток из отчитывающейся организации контрагенту",null,null,null,null,null,null,"POSSIBLE_PERIODS_2013_2017"]
["Ивановская область",null,null,null,null,null,"Сальдо-переток от контрагента в отчитывающуюся организацию",null,null,null,null,null,null,"POSSIBLE_PERIODS_2015_2017"]
["Иркутская область",null,null,null,null,null,"Сальдо-переток от сети контрангента конечным потребителям (общий объём, оплачиваемый сбытовыми компаниями за конечных потребителей)",null,null,null,null,null,null,"POSSIBLE_PERIODS_2014_2018"]
["Кабардино-Балкарская республика",null,null,null,null,null,"Сальдо-переток от сети отчитывающейся организации конечным потребителям (общий объем, оплачиваемый сбытовыми компаниями за конечных потребителей)",null,null,null,null,null,null,"POSSIBLE_PERIODS_2016_2018"]
["Калининградская область",null,null,null,null,null,null,null,null,null,null,null,null,"POSSIBLE_PERIODS_2015_2019"]
["Калужская область",null,null,null,null,null,null,null,null,null,null,null,null,"POSSIBLE_PERIODS_2017_2019"]
["Камчатский край",null,null,null,null,"Конечные потребители",null,null,null,null,null,null,null,"POSSIBLE_PERIODS_2016_2020"]
["Карачаево-Черкесская республика",null,null,null,null,null,"small_customers_range",null,null,"XML_ORG_DATA_F_3_1_TAG_NAMES",null,null,null,"POSSIBLE_PERIODS_2018_2020"]
["Кемеровская область",null,null,null,null,1,"Конечный потребитель №1",null,null,"LGL_ID",null,null,null,"POSSIBLE_PERIODS_2017_2021"]
["Кировская область",null,null,null,null,2,"Конечный потребитель №2",null,null,"ENTITY_NAME",null,null,null,"POSSIBLE_PERIODS_2019_2021"]
["Костромская область",null,null,null,null,3,"Конечный потребитель №3",null,null,"SCENARIO_NAME",null,null,null,2006]
["Краснодарский край",null,null,null,null,4,"Конечный потребитель №4",null,null,"PF_NAME",null,null,null,2007]
["Красноярский край",null,null,null,null,5,"Конечный потребитель №5",null,null,"PRD_NAME",null,null,null,2008]
["Курганская область",null,null,null,null,6,"Конечный потребитель №6",null,null,"PRD2_NAME",null,null,null,2009]
["Курская область",null,null,null,null,7,"Конечный потребитель №7",null,null,"L1",null,null,null,2010]
["Ленинградская область",null,null,null,null,8,"Конечный потребитель №8",null,null,"L2",null,null,null,2011]
["Липецкая область",null,null,null,null,9,"Конечный потребитель №9",null,null,"L2_1",null,null,null,2012]
["Магаданская область",null,null,null,null,10,"Конечный потребитель №10",null,null,"L2_2",null,null,null,2013]
["Московская область",null,null,null,null,11,"Конечный потребитель №11",null,null,"L3",null,null,null,2014]
["Мурманская область",null,null,null,null,12,"Конечный потребитель №12",null,null,"L4",null,null,null,2015]
["Ненецкий автономный округ",null,null,null,null,13,"Конечный потребитель №13",null,null,"L4_1",null,null,null,2016]
["Нижегородская область",null,null,null,null,14,"Конечный потребитель №14",null,null,"L4_2",null,null,null,2017]
["Новгородская область",null,null,null,null,15,"Конечный потребитель №15",null,null,"L_STUB",null,null,null,2018]
["Новосибирская область",null,null,null,null,16,"Конечный потребитель №16",null,null,"L5",null,null,null,2019]
["Омская область",null,null,null,null,17,"Конечный потребитель №17",null,null,"L6",null,null,null,2020]
["Оренбургская область",null,null,null,null,18,"Конечный потребитель №18",null,null,"L6_1",null,null,null,2021]
["Орловская область",null,null,null,null,19,"Конечный потребитель №19",null,null,"L6_2",null,null,null,"POSSIBLE_PERIODS_2007_2010","4 года"]
["Пензенская область",null,null,null,null,20,"Конечный потребитель №20",null,null,"L7",null,null,null,"POSSIBLE_PERIODS_2008_2011"]
["Пермский край",null,null,null,null,null,null,null,null,"L8",null,null,null,"POSSIBLE_PERIODS_2009_2012"]
["Приморский край",null,null,null,null,null,null,null,null,"L8_1",null,null,null,"POSSIBLE_PERIODS_2010_2013"]
["Псковская область",null,null,null,null,null,null,null,null,"L8_2",null,null,null,"POSSIBLE_PERIODS_2011_2014"]
["Республика Адыгея",null,null,null,null,null,"XML_ORG_LIST_TAG_NAMES",null,null,"L9",null,null,null,"POSSIBLE_PERIODS_2012_2015"]
["Республика Алтай",null,null,null,null,null,"ORG_NAME",null,null,"L9_1",null,null,null,"POSSIBLE_PERIODS_2013_2016"]
["Республика Башкортостан",null,null,null,null,null,"INN_NAME",null,null,"L9_2",null,null,null,"POSSIBLE_PERIODS_2014_2017"]
["Республика Бурятия",null,null,null,null,null,"KPP_NAME",null,null,"L10",null,null,null,"POSSIBLE_PERIODS_2015_2018"]
["Республика Дагестан",null,null,null,null,null,"VDET_NAME",null,null,"L10_1",null,null,null,"POSSIBLE_PERIODS_2016_2019"]
["Республика Ингушетия",null,null,null,null,null,"NSRF",null,null,"L10_2",null,null,null,"POSSIBLE_PERIODS_2017_2020"]
["Республика Калмыкия",null,null,null,null,null,null,null,null,null,null,null,null,"POSSIBLE_PERIODS_2018_2021"]
["Республика Карелия"]
["Республика Коми"]
["Республика Марий Эл"]
["Республика Мордовия"]
["Республика Саха (Якутия)"]
["Республика Северная Осетия-Алания"]
["Республика Татарстан"]
["Республика Тыва"]
["Республика Хакасия"]
["Ростовская область"]
["Рязанская область"]
["Самарская область"]
["Саратовская область"]
["Сахалинская область"]
["Свердловская область"]
["Смоленская область"]
["Ставропольский край"]
["Тамбовская область"]
["Тверская область"]
["Томская область"]
["Тульская область"]
["Тюменская область"]
["Удмуртская республика"]
["Ульяновская область"]
["Хабаровский край"]
["Ханты-Мансийский автономный округ"]
["Челябинская область"]
["Чеченская республика"]
["Чувашская республика"]
["Чукотский автономный округ"]
["Ямало-Ненецкий автономный округ"]
["Ярославская область"]

{"sheet":"modInfo","index":22,"n_rows":2,"n_cols":2,"rows_kept":2,"cut":false,"hidden":true,"merged":[]}
[]
[null,"• Шаблон предназначен для представления информации по предложениям территориальных сетевых организаций по передаче электрической энергии и мощности\n\n• Выбор организаций осуществляется по данным реестра организаций ФСТ России"]

{"sheet":"modCommandButton","index":23,"n_rows":0,"n_cols":0,"rows_kept":0,"cut":false,"hidden":true,"merged":[]}

{"sheet":"modUpdTemplMain","index":24,"n_rows":0,"n_cols":0,"rows_kept":0,"cut":false,"hidden":true,"merged":[]}

{"sheet":"modCommonProcedures","index":25,"n_rows":3912,"n_cols":3,"rows_kept":3912,"cut":false,"hidden":true,"merged":[]}
[]
[]
[]
[]
[]
[]
[]
[]
[]
[]
[]
[]
[]
[]
[]
[]
[]
[]
[]
[]
[]
[]
[]
[]
[]
[]
[]
[]
[]
[]
[]
[]
[]
[]
[]
[]
[]
[]
[]
[]
[]
[]
[]
[]
[]
[]
[]
[]
[]
[]
[]
[]
[]
[]
[]
[]
[]
[]
[]
[]
[]
[]
[]
[]
[]
[]
[]
[]
[]
[]
[]
[]
[]
[]
[]
[]
[]
[]
[]
[]
[]
[]
[]
[]
[]
[]
[]
[]
[]
[]
[]
[]
[]
[]
[]
[]
[]
[]
[]
[]
[]
[]
[]
[]
[]
[]
[]
[]
[]
[]
[]
[]
[]
[]
[]
[]
[]
[]
[]
[]
[]
[]
[]
[]
[]
[]
[]
[]
[]
[]
[]
[]
[]
[]
[]
[]
[]
[]
[]
[]
[]
[]
[]
[]
[]
[]
[]
[]
[]
[]
[]
[]
[]
[]
[]
[]
[]
[]
[]
[]
[]
[]
[]
[]
[]
[]
[]
[]
[]
[]
[]
[]
[]
[]
[]
[]
[]
[]
[]
[]
[]
[]
[]
[]
[]
[]
[]
[]
[]
[]
[]
[]
[]
[]
[]
[]
[]
[]
[]
[]
[]
[]
[]
[]
[]
[]
[]
[]
[]
[]
[]
[]
[]
[]
[]
[]
[]
[]
[]
[]
[]
[]
[]
[]
[]
[]
[]
[]
[]
[]
[]
[]
[]
[]
[]
[]
[]
[]
[]
[]
[]
[]
[]
[]
[]
[]
[]
[]
[]
[]
[]
[]
[]
[]
[]
[]
[]
[]
[]
[]
[]
[]
[]
[]
[]
[]
[]
[]
[]
[]
[]
[]
[]
[]
[]
[]
[]
[]
[]
[]
[]
[]
[]
[]
[]
[]
[]
[]
[]
[]
[]
[]
[]
[]
[]
[]
[]
[]
[]
[]
[]
[]
[]
[]
[]
[]
[]
[]
[]
[]
[]
[]
[]
[]
[null,null,"заработная плата прочего персонала, относимого на регулируемый вид деятельности"]
[]
[]
[]
[]
[]
[]
[]
[]
[]
[]
[]
[]
[]
[]
[]
[]
[]
[]
[]
[]
[]
[]
[]
[]
[]
[]
[]
[]
[]
[]
[]
[]
[]
[]
[]
[]
[]
[]
[]
[]
[]
[]
[]
[]
[]
[]
[]
[]
[]
[]
[]
[]
[]
[]
[]
[]
[]
[]
[]
[]
[]
[]
[]
[]
[]
[]
[]
[]
[]
[]
[]
[]
[]
[]
[]
[]
[]
[]
[]
[]
[]
[]
[]
[]
[]
[]
[]
[]
[]
[]
[]
[]
[]
[]
[]
[]
[]
[]
[]
[]
[]
[]
[]
[]
[]
[]
[]
[]
[]
[]
[]
[]
[]
[]
[]
[]
[]
[]
[]
[]
[]
[]
[]
[]
[]
[]
[]
[]
[]
[]
[]
[]
[]
[]
[]
[]
[]
[]
[]
[]
[]
[]
[]
[]
[]
[]
[]
[]
[]
[]
[]
[]
[]
[]
[]
[]
[]
[]
[]
[]
[]
[]
[]
[]
[]
[]
[]
[]
[]
[]
[]
[]
[]
[]
[]
[]
[]
[]
[]
[]
[]
[]
[]
[]
[]
[]
[]
[]
[]
[]
[]
[]
[]
[]
[]
[]
[]
[]
[]
[]
[]
[]
[]
[]
[]
[]
[]
[]
[]
[]
[]
[]
[]
[]
[]
[]
[]
[]
[]
[]
[]
[]
[]
[]
[]
[]
[]
[]
[]
[]
[]
[]
[]
[]
[]
[]
[]
[]
[]
[]
[]
[]
[]
[]
[]
[]
[]
[]
[]
[]
[]
[]
[]
[]
[]
[]
[]
[]
[]
[]
[]
[]
[]
[]
[]
[]
[]
[]
[]
[]
[]
[]
[]
[]
[]
[]
[]
[]
[]
[]
[]
[]
[]
[]
[]
[]
[]
[]
[]
[]
[]
[]
[]
[]
[]
[]
[]
[]
[]
[]
[]
[]
[]
[]
[]
[]
[]
[]
[]
[]
[]
[]
[]
[]
[]
[]
[]
[]
[]
[]
[]
[]
[]
[]
[]
[]
[]
[]
[]
[]
[]
[]
[]
[]
[]
[]
[]
[]
[]
[]
[]
[]
[]
[]
[]
[]
[]
[]
[]
[]
[]
[]
[]
[]
[]
[]
[]
[]
[]
[]
[]
[]
[]
[]
[]
[]
[]
[]
[]
[]
[]
[]
[]
[]
[]
[]
[]
[]
[]
[]
[]
[]
[]
[]
[]
[]
[]
[]
[]
[]
[]
[]
[]
[]
[]
[]
[]
[]
[]
[null,null,"заработная плата прочего персонала, относимого на регулируемый вид деятельности"]
[]
[]
[]
[]
[]
[]
[]
[]
[]
[]
[]
[]
[]
[]
[]
[]
[]
[]
[]
[]
[]
[]
[]
[]
[]
[]
[]
[]
[]
[]
[]
[]
[]
[]
[]
[]
[]
[]
[]
[]
[]
[]
[]
[]
[]
[]
[]
[]
[]
[]
[]
[]
[]
[]
[]
[]
[]
[]
[]
[]
[]
[]
[]
[]
[]
[]
[]
[]
[]
[]
[]
[]
[]
[]
[]
[]
[]
[]
[]
[]
[]
[]
[]
[]
[]
[]
[]
[]
[]
[]
[]
[]
[]
[]
[]
[]
[]
[]
[]
[]
[]
[]
[]
[]
[]
[]
[]
[]
[]
[]
[]
[]
[]
[]
[]
[]
[]
[]
[]
[]
[]
[]
[]
[]
[]
[]
[]
[]
[]
[]
[]
[]
[]
[]
[]
[]
[]
[]
[]
[]
[]
[]
[]
[]
[]
[]
[]
[]
[]
[]
[]
[]
[]
[]
[]
[]
[]
[]
[]
[]
[]
[]
[]
[]
[]
[]
[]
[]
[]
[]
[]
[]
[]
[]
[]
[]
[]
[]
[]
[]
[]
[]
[]
[]
[]
[]
[]
[]
[]
[]
[]
[]
[]
[]
[]
[]
[]
[]
[]
[]
[]
[]
[]
[]
[]
[]
[]
[]
[]
[]
[]
[]
[]
[]
[]
[]
[]
[]
[]
[]
[]
[]
[]
[]
[]
[]
[]
[]
[]
[]
[]
[]
[]
[]
[]
[]
[]
[]
[]
[]
[]
[]
[]
[]
[]
[]
[]
[]
[]
[]
[]
[]
[]
[]
[]
[]
[]
[]
[]
[]
[]
[]
[]
[]
[]
[]
[]
[]
[]
[]
[]
[]
[]
[]
[]
[]
[]
[]
[]
[]
[]
[]
[]
[]
[]
[]
[]
[]
[]
[]
[]
[]
[]
[]
[]
[]
[]
[]
[]
[]
[]
[]
[]
[]
[]
[]
[]
[]
[]
[]
[]
[]
[]
[]
[]
[]
[]
[]
[]
[]
[]
[]
[]
[]
[]
[]
[]
[]
[]
[]
[]
[]
[]
[]
[]
[]
[]
[]
[]
[]
[]
[]
[]
[]
[]
[]
[]
[]
[]
[]
[]
[]
[]
[]
[]
[]
[]
[]
[]
[]
[]
[]
[]
[]
[]
[]
[]
[]
[]
[]
[]
[]
[]
[]
[]
[]
[]
[]
[]
[]
[]
[]
[]
[]
[]
[]
[]
[]
[]
[]
[]
[]
[]
[]
[]
[]
[]
[]
[]
[null,null,"заработная плата прочего персонала, относимого на регулируемый вид деятельности"]
[]
[]
[]
[]
[]
[]
[]
[]
[]
[]
[]
[]
[]
[]
[]
[]
[]
[]
[]
[]
[]
[]
[]
[]
[]
[]
[]
[]
[]
[]
[]
[]
[]
[]
[]
[]
[]
[]
[]
[]
[]
[]
[]
[]
[]
[]
[]
[]
[]
[]
[]
[]
[]
[]
[]
[]
[]
[]
[]
[]
[]
[]
[]
[]
[]
[]
[]
[]
[]
[]
[]
[]
[]
[]
[]
[]
[]
[]
[]
[]
[]
[]
[]
[]
[]
[]
[]
[]
[]
[]
[]
[]
[]
[]
[]
[]
[]
[]
[]
[]
[]
[]
[]
[]
[]
[]
[]
[]
[]
[]
[]
[]
[]
[]
[]
[]
[]
[]
[]
[]
[]
[]
[]
[]
[]
[]
[]
[]
[]
[]
[]
[]
[]
[]
[]
[]
[]
[]
[]
[]
[]
[]
[]
[]
[]
[]
[]
[]
[]
[]
[]
[]
[]
[]
[]
[]
[]
[]
[]
[]
[]
[]
[]
[]
[]
[]
[]
[]
[]
[]
[]
[]
[]
[]
[]
[]
[]
[]
[]
[]
[]
[]
[]
[]
[]
[]
[]
[]
[]
[]
[]
[]
[]
[]
[]
[]
[]
[]
[]
[]
[]
[]
[]
[]
[]
[]
[]
[]
[]
[]
[]
[]
[]
[]
[]
[]
[]
[]
[]
[]
[]
[]
[]
[]
[]
[]
[]
[]
[]
[]
[]
[]
[]
[]
[]
[]
[]
[]
[]
[]
[]
[]
[]
[]
[]
[]
[]
[]
[]
[]
[]
[]
[]
[]
[]
[]
[]
[]
[]
[]
[]
[]
[]
[]
[]
[]
[]
[]
[]
[]
[]
[]
[]
[]
[]
[]
[]
[]
[]
[]
[]
[]
[]
[]
[]
[]
[]
[]
[]
[]
[]
[]
[]
[]
[]
[]
[]
[]
[]
[]
[]
[]
[]
[]
[]
[]
[]
[]
[]
[]
[]
[]
[]
[]
[]
[]
[]
[]
[]
[]
[]
[]
[]
[]
[]
[]
[]
[]
[]
[]
[]
[]
[]
[]
[]
[]
[]
[]
[]
[]
[]
[]
[]
[]
[]
[]
[]
[]
[]
[]
[]
[]
[]
[]
[]
[]
[]
[]
[]
[]
[]
[]
[]
[]
[]
[]
[]
[]
[]
[]
[]
[]
[]
[]
[]
[]
[]
[]
[]
[]
[]
[]
[]
[]
[]
[]
[]
[]
[]
[]
[]
[]
[]
[]
[]
[]
[null,null,"заработная плата прочего персонала, относимого на регулируемый вид деятельности"]
[]
[]
[]
[]
[]
[]
[]
[]
[]
[]
[]
[]
[]
[]
[]
[]
[]
[]
[]
[]
[]
[]
[]
[]
[]
[]
[]
[]
[]
[]
[]
[]
[]
[]
[]
[]
[]
[]
[]
[]
[]
[]
[]
[]
[]
[]
[]
[]
[]
[]
[]
[]
[]
[]
[]
[]
[]
[]
[]
[]
[]
[]
[]
[]
[]
[]
[]
[]
[]
[]
[]
[]
[]
[]
[]
[]
[]
[]
[]
[]
[]
[]
[]
[]
[]
[]
[]
[]
[]
[]
[]
[]
[]
[]
[]
[]
[]
[]
[]
[]
[]
[]
[]
[]
[]
[]
[]
[]
[]
[]
[]
[]
[]
[]
[]
[]
[]
[]
[]
[]
[]
[]
[]
[]
[]
[]
[]
[]
[]
[]
[]
[]
[]
[]
[]
[]
[]
[]
[]
[]
[]
[]
[]
[]
[]
[]
[]
[]
[]
[]
[]
[]
[]
[]
[]
[]
[]
[]
[]
[]
[]
[]
[]
[]
[]
[]
[]
[]
[]
[]
[]
[]
[]
[]
[]
[]
[]
[]
[]
[]
[]
[]
[]
[]
[]
[]
[]
[]
[]
[]
[]
[]
[]
[]
[]
[]
[]
[]
[]
[]
[]
[]
[]
[]
[]
[]
[]
[]
[]
[]
[]
[]
[]
[]
[]
[]
[]
[]
[]
[]
[]
[]
[]
[]
[]
[]
[]
[]
[]
[]
[]
[]
[]
[]
[]
[]
[]
[]
[]
[]
[]
[]
[]
[]
[]
[]
[]
[]
[]
[]
[]
[]
[]
[]
[]
[]
[]
[]
[]
[]
[]
[]
[]
[]
[]
[]
[]
[]
[]
[]
[]
[]
[]
[]
[]
[]
[]
[]
[]
[]
[]
[]
[]
[]
[]
[]
[]
[]
[]
[]
[]
[]
[]
[]
[]
[]
[]
[]
[]
[]
[]
[]
[]
[]
[]
[]
[]
[]
[]
[]
[]
[]
[]
[]
[]
[]
[]
[]
[]
[]
[]
[]
[]
[]
[]
[]
[]
[]
[]
[]
[]
[]
[]
[]
[]
[]
[]
[]
[]
[]
[]
[]
[]
[]
[]
[]
[]
[]
[]
[]
[]
[]
[]
[]
[]
[]
[]
[]
[]
[]
[]
[]
[]
[]
[]
[]
[]
[]
[]
[]
[]
[]
[]
[]
[]
[]
[]
[]
[]
[]
[]
[]
[]
[]
[]
[]
[]
[]
[]
[]
[]
[]
[]
[]
[]
[]
[]
[]
[]
[null,null,"заработная плата прочего персонала, относимого на регулируемый вид деятельности"]
[]
[]
[]
[]
[]
[]
[]
[]
[]
[]
[]
[]
[]
[]
[]
[]
[]
[]
[]
[]
[]
[]
[]
[]
[]
[]
[]
[]
[]
[]
[]
[]
[]
[]
[]
[]
[]
[]
[]
[]
[]
[]
[]
[]
[]
[]
[]
[]
[]
[]
[]
[]
[]
[]
[]
[]
[]
[]
[]
[]
[]
[]
[]
[]
[]
[]
[]
[]
[]
[]
[]
[]
[]
[]
[]
[]
[]
[]
[]
[]
[]
[]
[]
[]
[]
[]
[]
[]
[]
[]
[]
[]
[]
[]
[]
[]
[]
[]
[]
[]
[]
[]
[]
[]
[]
[]
[]
[]
[]
[]
[]
[]
[]
[]
[]
[]
[]
[]
[]
[]
[]
[]
[]
[]
[]
[]
[]
[]
[]
[]
[]
[]
[]
[]
[]
[]
[]
[]
[]
[]
[]
[]
[]
[]
[]
[]
[]
[]
[]
[]
[]
[]
[]
[]
[]
[]
[]
[]
[]
[]
[]
[]
[]
[]
[]
[]
[]
[]
[]
[]
[]
[]
[]
[]
[]
[]
[]
[]
[]
[]
[]
[]
[]
[]
[]
[]
[]
[]
[]
[]
[]
[]
[]
[]
[]
[]
[]
[]
[]
[]
[]
[]
[]
[]
[]
[]
[]
[]
[]
[]
[]
[]
[]
[]
[]
[]
[]
[]
[]
[]
[]
[]
[]
[]
[]
[]
[]
[]
[]
[]
[]
[]
[]
[]
[]
[]
[]
[]
[]
[]
[]
[]
[]
[]
[]
[]
[]
[]
[]
[]
[]
[]
[]
[]
[]
[]
[]
[]
[]
[]
[]
[]
[]
[]
[]
[]
[]
[]
[]
[]
[]
[]
[]
[]
[]
[]
[]
[]
[]
[]
[]
[]
[]
[]
[]
[]
[]
[]
[]
[]
[]
[]
[]
[]
[]
[]
[]
[]
[]
[]
[]
[]
[]
[]
[]
[]
[]
[]
[]
[]
[]
[]
[]
[]
[]
[]
[]
[]
[]
[]
[]
[]
[]
[]
[]
[]
[]
[]
[]
[]
[]
[]
[]
[]
[]
[]
[]
[]
[]
[]
[]
[]
[]
[]
[]
[]
[]
[]
[]
[]
[]
[]
[]
[]
[]
[]
[]
[]
[]
[]
[]
[]
[]
[]
[]
[]
[]
[]
[]
[]
[]
[]
[]
[]
[]
[]
[]
[]
[]
[]
[]
[]
[]
[]
[]
[]
[]
[]
[]
[]
[]
[]
[]
[]
[]
[]
[]
[]
[]
[null,null,"заработная плата прочего персонала, относимого на регулируемый вид деятельности"]
[]
[]
[]
[]
[]
[]
[]
[]
[]
[]
[]
[]
[]
[]
[]
[]
[]
[]
[]
[]
[]
[]
[]
[]
[]
[]
[]
[]
[]
[]
[]
[]
[]
[]
[]
[]
[]
[]
[]
[]
[]
[]
[]
[]
[]
[]
[]
[]
[]
[]
[]
[]
[]
[]
[]
[]
[]
[]
[]
[]
[]
[]
[]
[]
[]
[]
[]
[]
[]
[]
[]
[]
[]
[]
[]
[]
[]
[]
[]
[]
[]
[]
[]
[]
[]
[]
[]
[]
[]
[]
[]
[]
[]
[]
[]
[]
[]
[]
[]
[]
[]
[]
[]
[]
[]
[]
[]
[]
[]
[]
[]
[]
[]
[]
[]
[]
[]
[]
[]
[]
[]
[]
[]
[]
[]
[]
[]
[]
[]
[]
[]
[]
[]
[]
[]
[]
[]
[]
[]
[]
[]
[]
[]
[]
[]
[]
[]
[]
[]
[]
[]
[]
[]
[]
[]
[]
[]
[]
[]
[]
[]
[]
[]
[]
[]
[]
[]
[]
[]
[]
[]
[]
[]
[]
[]
[]
[]
[]
[]
[]
[]
[]
[]
[]
[]
[]
[]
[]
[]
[]
[]
[]
[]
[]
[]
[]
[]
[]
[]
[]
[]
[]
[]
[]
[]
[]
[]
[]
[]
[]
[]
[]
[]
[]
[]
[]
[]
[]
[]
[]
[]
[]
[]
[]
[]
[]
[]
[]
[]
[]
[]
[]
[]
[]
[]
[]
[]
[]
[]
[]
[]
[]
[]
[]
[]
[]
[]
[]
[]
[]
[]
[]
[]
[]
[]
[]
[]
[]
[]
[]
[]
[]
[]
[]
[]
[]
[]
[]
[]
[]
[]
[]
[]
[]
[]
[]
[]
[]
[]
[]
[]
[]
[]
[]
[]
[]
[]
[]
[]
[]
[]
[]
[]
[]
[]
[]
[]
[]
[]
[]
[]
[]
[]
[]
[]
[]
[]
[]
[]
[]
[]
[]
[]
[]
[]
[]
[]
[]
[]
[]
[]
[]
[]
[]
[]
[]
[]
[]
[]
[]
[]
[]
[]
[]
[]
[]
[]
[]
[]
[]
[]
[]
[]
[]
[]
[]
[]
[]
[]
[]
[]
[]
[]
[]
[]
[]
[]
[]
[]
[]
[]
[]
[]
[]
[]
[]
[]
[]
[]
[]
[]
[]
[]
[]
[]
[]
[]
[]
[]
[]
[]
[]
[]
[]
[]
[]
[]
[]
[]
[]
[]
[]
[]
[]
[]
[]
[]
[]
[]
[]
[]
[]
[]
[]
[]
[]
[]
[]
[]
[]
[]
[]
[]
[]
[]
[]
[]
[]
[]
[]
[]
[]
[]
[]
[]
[]
[]
[]
[]
[]
[]
[]
[]
[]
[]
[]
[]
[]
[]
[]
[]
[]
[]
[]
[]
[]
[]
[]
[]
[]
[]
[]
[]
[]
[]
[]
[]
[]
[]
[]
[]
[]
[]
[]
[]
[]
[]
[]
[]
[]
[]
[]
[]
[]
[]
[]
[]
[]
[]
[]
[]
[]
[]
[]
[]
[]
[]
[]
[]
[]
[]
[]
[]
[]
[]
[]
[]
[]
[]
[]
[]
[]
[]
[]
[]
[]
[]
[]
[]
[]
[]
[]
[]
[]
[]
[]
[]
[]
[]
[]
[]
[]
[]
[]
[]
[]
[]
[]
[]
[]
[]
[]
[]
[]
[]
[]
[]
[]
[]
[]
[]
[]
[]
[]
[]
[]
[]
[]
[]
[]
[]
[]
[]
[]
[]
[]
[]
[]
[]
[]
[]
[]
[]
[]
[]
[]
[]
[]
[]
[]
[]
[]
[]
[]
[]
[]
[]
[]
[]
[]
[]
[]
[]
[]
[]
[]
[]
[]
[]
[]
[]
[]
[]
[]
[]
[]
[]
[]
[]
[]
[]
[]
[]
[]
[]
[]
[]
[]
[]
[]
[]
[]
[]
[]
[]
[]
[]
[]
[]
[]
[]
[]
[]
[]
[]
[]
[]
[]
[]
[]
[]
[]
[]
[]
[]
[]
[]
[]
[]
[]
[]
[]
[]
[]
[]
[]
[]
[]
[]
[]
[]
[]
[]
[]
[]
[]
[]
[]
[]
[]
[]
[]
[]
[]
[]
[]
[]
[]
[]
[]
[]
[]
[]
[]
[]
[]
[]
[]
[]
[]
[]
[]
[]
[]
[]
[]
[]
[]
[]
[]
[]
[]
[]
[]
[]
[]
[]
[]
[]
[]
[]
[]
[]
[]
[]
[]
[]
[]
[]
[]
[]
[]
[]
[]
[]
[]
[]
[]
[]
[]
[]
[]
[]
[]
[]
[]
[]
[]
[]
[]
[]
[]
[]
[]
[]
[]
[]
[]
[]
[]
[]
[]
[]
[]
[]
[]
[]
[]
[]
[]
[]
[]
[]
[]
[]
[]
[]
[]
[]
[]
[]
[]
[]
[]
[]
[]
[]
[]
[]
[]
[]
[]
[]
[]
[]
[]
[]
[]
[]
[]
[]
[]
[]
[]
[]
[]
[]
[]
[]
[]
[]
[]
[]
[]
[]
[]
[]
[]
[]
[]
[]
[]
[]
[]
[]
[]
[]
[]
[]
[]
[]
[]
[]
[]
[]
[]
[]
[]
[]
[]
[]
[]
[]
[]
[]
[]
[]
[]
[]
[]
[]
[]
[]
[]
[]
[]
[]
[]
[]
[]
[]
[]
[]
[]
[]
[]
[]
[]
[]
[]
[]
[]
[]
[]
[]
[]
[]
[]
[]
[]
[]
[]
[]
[]
[]
[]
[]
[]
[]
[]
[]
[]
[]
[]
[]
[]
[]
[]
[]
[]
[]
[]
[]
[]
[]
[]
[]
[]
[]
[]
[]
[]
[]
[]
[]
[]
[]
[]
[]
[]
[]
[]
[]
[]
[]
[]
[]
[]
[]
[]
[]
[]
[]
[]
[]
[]
[]
[]
[]
[]
[]
[]
[]
[]
[]
[]
[]
[]
[]
[]
[]
[]
[]
[]
[]
[]
[]
[]
[]
[]
[]
[]
[]
[]
[]
[]
[]
[]
[]
[]
[]
[]
[]
[]
[]
[]
[]
[]
[]
[]
[]
[]
[]
[]
[]
[]
[]
[]
[]
[]
[]
[]
[]
[]
[]
[]
[]
[]
[]
[]
[]
[]
[]
[]
[]
[]
[]
[]
[]
[]
[]
[]
[]
[]
[]
[]
[]
[]
[]
[]
[]
[]
[]
[]
[]
[]
[]
[]
[]
[]
[]
[]
[]
[]
[]
[]
[]
[]
[]
[]
[]
[]
[]
[]
[]
[]
[]
[]
[]
[]
[]
[]
[]
[]
[]
[]
[]
[]
[]
[]
[]
[]
[]
[]
[]
[]
[]
[]
[]
[]
[]
[]
[]
[]
[]
[]
[]
[]
[]
[]
[]
[]
[]
[]
[]
[]
[]
[]
[]
[]
[]
[]
[]
[]
[]
[]
[]
[]
[]
[]
[]
[]
[]
[]
[]
[]
[]
[]
[]
[]
[]
[]
[]
[]
[]
[]
[]
[]
[]
[]
[]
[]
[]
[]
[]
[]
[]
[]
[]
[]
[]
[]
[]
[]
[]
[]
[]
[]
[]
[]
[]
[]
[]
[]
[]
[]
[]
[]
[]
[]
[]
[]
[]
[]
[]
[]
[]
[]
[]
[]
[]
[]
[]
[]
[]
[]
[]
[]
[]
[]
[]
[]
[]
[]
[]
[]
[]
[]
[]
[]
[]
[]
[]
[]
[]
[]
[]
[]
[]
[]
[]
[]
[]
[]
[]
[]
[]
[]
[]
[]
[]
[]
[]
[]
[]
[]
[]
[]
[]
[]
[]
[]
[]
[]
[]
[]
[]
[]
[]
[]
[]
[]
[]
[]
[]
[]
[]
[]
[]
[]
[]
[]
[]
[]
[]
[]
[]
[]
[]
[]
[]
[]
[]
[]
[]
[]
[]
[]
[]
[]
[]
[]
[]
[]
[]
[]
[]
[]
[]
[]
[]
[]
[]
[]
[]
[]
[]
[]
[]
[]
[]
[]
[]
[]
[]
[]
[]
[]
[]
[]
[]
[]
[]
[]
[]
[]
[]
[]
[]
[]
[]
[]
[]
[]
[]
[]
[]
[]
[]
[]
[]
[]
[]
[]
[]
[]
[]
[]
[]
[]
[]
[]
[]
[]
[]
[]
[]
[]
[]
[]
[]
[]
[]
[]
[]
[]
[]
[]
[]
[]
[]
[]
[]
[]
[]
[]
[]
[]
[]
[]
[]
[]
[]
[]
[]
[]
[]
[]
[]
[]
[]
[]
[]
[]
[]
[]
[]
[]
[]
[]
[]
[]
[]
[]
[]
[]
[]
[]
[]
[]
[]
[]
[]
[]
[]
[]
[]
[]
[]
[]
[]
[]
[]
[]
[]
[]
[]
[]
[]
[]
[]
[]
[]
[]
[]
[]
[]
[]
[]
[]
[]
[]
[]
[]
[]
[]
[]
[]
[]
[]
[]
[]
[]
[]
[]
[]
[]
[]
[]
[]
[]
[]
[]
[]
[]
[]
[]
[]
[]
[]
[]
[]
[]
[]
[]
[]
[]
[]
[]
[]
[]
[]
[]
[]
[]
[]
[]
[]
[]
[]
[]
[]
[]
[]
[]
[]
[]
[]
[]
[]
[]
[]
[]
[]
[]
[]
[]
[]
[]
[]
[]
[]
[]
[]
[]
[]
[]
[]
[]
[]
[]
[]
[]
[]
[]
[]
[]
[]
[]
[]
[]
[]
[]
[]
[]
[]
[]
[]
[]
[]
[]
[]
[]
[]
[]
[]
[]
[]
[]
[]
[]
[]
[]
[]
[]
[]
[]
[]
[]
[]
[]
[]
[]
[]
[]
[]
[]
[]
[]
[]
[]
[]
[]
[]
[]
[]
[]
[]
[]
[]
[]
[]
[]
[]
[]
[]
[]
[]
[]
[]
[]
[]
[]
[]
[]
[]
[]
[]
[]
[]
[]
[]
[]
[]
[]
[]
[]
[]
[]
[]
[]
[]
[]
[]
[]
[]
[]
[]
[]
[]
[]
[]
[]
[]
[]
[]
[]
[]
[]
[]
[]
[]
[]
[]
[]
[]
[]
[]
[]
[]
[]
[]
[]
[]
[]
[]
[]
[]
[]
[]
[]
[]
[]
[]
[]
[]
[]
[]
[]
[null,null,"заработная плата прочего персонала, относимого на регулируемый вид деятельности"]

{"sheet":"modfrmCheckUpdates","index":26,"n_rows":0,"n_cols":0,"rows_kept":0,"cut":false,"hidden":true,"merged":[]}

{"sheet":"modfrmUpdateIsInProgress","index":27,"n_rows":0,"n_cols":0,"rows_kept":0,"cut":false,"hidden":true,"merged":[]}

{"sheet":"REESTR_ORG","index":28,"n_rows":546,"n_cols":46,"rows_kept":546,"cut":false,"hidden":true,"merged":[]}
["Организация","ИНН","КПП","Тип организации","НСРФ",null,"ЕНЭС"]
["Блокстанции ТЭ","7200000000","720000001","Региональная генерация","Тюменская область",null,"Конечные потребители (кроме ТСО)"]
["ЗАО \"ЛУКОЙЛ-АИК\"","8608180070","860801001","Региональная генерация","Тюменская область",null,"Региональная генерация"]
["МУП Байкаловский КПП","7223000825","722301001","Региональная генерация","Тюменская область",null,"Оптовая генерация"]
["ОАО \"ИНТЕР РАО - Электрогенерация\"","7704784450","862450001","Региональная генерация","Тюменская область",null,"ТСО других субъектов РФ"]
["ОАО \"Первая генерирующая компания оптового рынка электроэнергии\"","7203158282","770401001","Региональная генерация","Тюменская область",null,"Прямой договор"]
["ОАО \"СУЭНКО\"","7205011944","720501001","Региональная генерация","Тюменская область",null,"Независимые сбытовые компании"]
["ОАО \"Славнефть-Мегионнефтегаз\"","8605003932","860501001","Региональная генерация","Тюменская область",null,"Оптовый рынок"]
["ОАО \"Сургутнефтегаз\"","8602060555","997150001","Региональная генерация","Тюменская область",null,"Прочие конечные потребители"]
["ОАО \"ТНК-Нягань\"","8610010727","997150001","Региональная генерация","Тюменская область"]
["ОАО \"Югорская Генерирующая Компания\"\"","8601029263","860101001","Региональная генерация","Тюменская область"]
["ООО \"Газпром добыча Уренгой\"","8904034784","997250001","Региональная генерация","Тюменская область"]
["ООО \"Газпром добыча Ямбург\"","8904034777","890401001","Региональная генерация","Тюменская область"]
["ООО \"Газпромнефть-Хантос\"","8618006063","862450001","Региональная генерация","Тюменская область"]
["ООО \"Западно-Малобалыкское\"","8619010665","997150001","Региональная генерация","Тюменская область"]
["ООО \"ЛУКОЙЛ-Западная Сибирь\"","8608048498","860602001","Региональная генерация","Тюменская область"]
["ООО \"Салым Петролеум\"","8619013320","861901001","Региональная генерация","Тюменская область"]
["ООО \"Северная ПЛЭС\"","7716605105","890345001","Региональная генерация","Тюменская область"]
["ПИИ ОАО \"Газтурбосервис\"","7203078728","720301001","Региональная генерация","Тюменская область"]
["ЗАО \"Дирекция по энергообеспечению Восточного промузла\"","7203009876","720301001","Сбытовая компания","Тюменская область"]
["ЗАО \"ЕЭСнК\"","7727232575","771401001","Сбытовая компания","Тюменская область"]
["Закрытое акционерное общество \"Энергопромышленная компания\", г. Екатеринбург","6661105959","666101001","Сбытовая компания","Тюменская область"]
["МП \"ГЭС\" г. Ханты-Мансийск\"","8601005865","860101001","Сбытовая компания","Тюменская область"]
["ОАО \"Межрегионэнергосбыт\"","7705750968","772901001","Сбытовая компания","Тюменская область"]
["ОАО \"ОБОРОНЭНЕРГОСБЫТ\" филиал \"УРАЛЬСКИЙ\"","7704731218","720445001","Сбытовая компания","Тюменская область"]
["ОАО \"Оборонэнергосбыт\"","7704731218","770401001","Сбытовая компания","Тюменская область"]
["ОАО \"Промышленная энергетика\"","7705736716","770501001","Сбытовая компания","Тюменская область"]
["ОАО \"Северная энергетическая компания\"","8911019579","890501001","Сбытовая компания","Тюменская область"]
["ОАО \"Сибурэнергоменеджмент\"","7727276526","366750001","Сбытовая компания","Тюменская область"]
["ОАО \"Тюменская энергосбытовая компания\"","8602067215","862450001","Сбытовая компания","Тюменская область"]
["ОАО \"Тюменьэнергосбыт\"","7205011951","720201001","Сбытовая компания","Тюменская область"]
["ОАО \"Энергосбытовая компания \"Восток\"","7705424509","770101001","Сбытовая компания","Тюменская область"]
["ОАО \"ЮТЭК\"","8601022317","860101001","Сбытовая компания","Тюменская область"]
["ООО \"Газпром добыча Ямбург\"","8904034777","890401001","Сбытовая компания","Тюменская область"]
["ООО \"КНАУФ ЭНЕРГИЯ\"","7729677594","772901001","Сбытовая компания","Тюменская область"]
["ООО \"ЛУКОЙЛ-ЭНЕРГОСЕРВИС\"","5030040730","503001001","Сбытовая компания","Тюменская область"]
["ООО \"МагнитЭнерго\"","7715902899","771501001","Сбытовая компания","Тюменская область"]
["ООО \"Независимое энергосбытовое предприятие\"","8602171819","860201001","Сбытовая компания","Тюменская область"]
["ООО \"Нижневартовская энергосбытовая компания\"","8603109926","860301001","Сбытовая компания","Тюменская область"]
["ООО \"Промэнергосбыт\"","7206036155","720601001","Сбытовая компания","Тюменская область"]
["ООО \"РН-Энерго\"","7706525041","772501001","Сбытовая компания","Тюменская область"]
["ООО \"РУСЭНЕРГОСБЫТ\"","7706284124","770601001","Сбытовая компания","Тюменская область"]
["ООО \"Региональная энергосбытовая компания\" (ОПП)","4633017746","463301001","Сбытовая компания","Тюменская область"]
["ООО \"Русэнергоресурс\"","7706288496","770601001","Сбытовая компания","Тюменская область"]
["ООО \"Сургутская энергосбытовая компания\"","8602153048","860201001","Сбытовая компания","Тюменская область"]
["ООО \"ТЭК-Энерго\"","8602173527","860201001","Сбытовая компания","Тюменская область"]
["ООО \"Транснефтьэнерго\"","7703552167","772301001","Сбытовая компания","Тюменская область"]
["ООО \"Энергосбытовая компания Черногорэнерго\"","8603126569","860301001","Сбытовая компания","Тюменская область"]
["ООО \"Энергострим - Энергосбыт\"","7724669350","770401001","Сбытовая компания","Тюменская область"]
["ООО Энергосбытовая компания \"Аган\",г.Радужный","8609018048","860901001","Сбытовая компания","Тюменская область"]
["Общество с ограниченной ответственностью «Энергосбытовая компания»","0275075272","027501001","Сбытовая компания","Тюменская область"]
["РЭУ  ОАО \"Запсибгазпром\"","7203001796","720345001","Сбытовая компания","Тюменская область"]
["ЗАО \" Тюменский приборостроительный завод\"","7203000841","720301001","Сетевая компания","Тюменская область"]
["ЗАО \"Завод Тюменьремдормаш\"","7204005867","722401001","Сетевая компания","Тюменская область"]
["ЗАО \"НадымЭнергоСбыт\"","8903032551","890301001","Сетевая компания","Тюменская область"]
["ЗАО \"Сибэнергокомплектмонтаж\"","8602057175","860201001","Сетевая компания","Тюменская область"]
["МП \"ГЭС\" г. Ханты-Мансийск\"","8601005865","860101001","Сетевая компания","Тюменская область"]
["МУП \"Губкинские городские электрические сети\"","8913000830","891301001","Сетевая компания","Тюменская область"]
["МУП \"Муравленковское предприятие городских электрических сетей\"","8906000460","890601001","Сетевая компания","Тюменская область"]
["МУП \"Надымские городские электрические сети\"","8903030850","890301001","Сетевая компания","Тюменская область"]
["МУП \"Пуровские электрические сети\"","8911018938","891101001","Сетевая компания","Тюменская область"]
["МУП \"Сургутские районные электрические сети\" МО Сургутский район","8617017320","861701001","Сетевая компания","Тюменская область"]
["МУП ЖКХ \"Лимбей\"","8904008329","890401001","Сетевая компания","Тюменская область"]
["Муниципальное предприятие \"Эксплуатационная генерирующая компания\"  муниципального образования городское поселение Приобье","8614008285","861401001","Сетевая компания","Тюменская область"]
["ОАО \"Аэропорт Белоярский\"","8611002077","861101001","Сетевая компания","Тюменская область"]
["ОАО \"Аэропорт Рощино\"","7204660086","720401001","Сетевая компания","Тюменская область"]
["ОАО \"Аэропорт Сургут\"","8602060523","860201001","Сетевая компания","Тюменская область"]
["ОАО \"Аэропорт Урай\"","8606010379","860601001","Сетевая компания","Тюменская область"]
["ОАО \"Варьеганэнергонефть\"","8609003059","860901001","Сетевая компания","Тюменская область"]
["ОАО \"Вынгапуровский тепловодоканал\"","8905045443","890501001","Сетевая компания","Тюменская область"]
["ОАО \"ГЭС\" г. Мегион","8605017251","860501001","Сетевая компания","Тюменская область"]
["ОАО \"Городские электрические сети\" г.Нижневартовск","8603004190","860301001","Сетевая компания","Тюменская область"]
["ОАО \"Кондинский комплексный лесопромышленный комбинат\"","8616000203","861601001","Сетевая компания","Тюменская область"]
["ОАО \"Надымское авиапредприятие\"","8903025610","890301001","Сетевая компания","Тюменская область"]
["ОАО \"Нижневартовское нефтегазодобывающее предприятие\"","8603089941","997150001","Сетевая компания","Тюменская область"]
["ОАО \"Новоуренгойский объединенный авиаотряд\"","8904045602","891450001","Сетевая компания","Тюменская область"]
["ОАО \"Пойковские электрические сети\"","8619013546","861901001","Сетевая компания","Тюменская область"]
["ОАО \"Птицефабрика \"Боровская\"","7224008030","722401001","Сетевая компания","Тюменская область"]
["ОАО \"РГЭС\"","8609004670","860901001","Сетевая компания","Тюменская область"]
["ОАО \"СУЭНКО\"","7205011944","720501001","Сетевая компания","Тюменская область"]
["ОАО \"Самотлорнефтегаз\"","8603089934","997150001","Сетевая компания","Тюменская область"]
["ОАО \"Сибнефтепровод\"","7201000726","720301001","Сетевая компания","Тюменская область"]
["ОАО \"Строительно-промышленный комбинат\"","8603108023","860301001","Сетевая компания","Тюменская область"]
["ОАО \"Сургутнефтегаз\"","8602060555","997150001","Сетевая компания","Тюменская область"]
["ОАО \"ТНК-Нягань\"","8610010727","997150001","Сетевая компания","Тюменская область"]
["ОАО \"Тюменский завод медицинского оборудования и инструментов\"","7203000834","720301001","Сетевая компания","Тюменская область"]
["ОАО \"Тюменский электромеханический завод\"","7204003108","720401001","Сетевая компания","Тюменская область"]
["ОАО \"Тюменьэнерго\"","8602060185","997450001","Сетевая компания","Тюменская область"]
["ОАО \"Уренгойгорэлектросеть\"","8904046645","890401001","Сетевая компания","Тюменская область"]
["ОАО \"ФСК ЕЭС\"","4716016979","772801001","Сетевая компания","Тюменская область"]
["ОАО \"ФСК ЕЭС\"","4716016979","997450001","Сетевая компания","Тюменская область"]
["ОАО \"Черногорэнерго\"","8620001023","860301001","Сетевая компания","Тюменская область"]
["ОАО \"Элек\"","8602066853","860201001","Сетевая компания","Тюменская область"]
["ОАО \"Энерго-Газ-Ноябрьск\"","8905033649","890501001","Сетевая компания","Тюменская область"]
["ОАО \"ЮРЭСК\"","8601045152","860101001","Сетевая компания","Тюменская область"]
["ОАО \"ЮТЭК-Покачи\"","8621005479","862101001","Сетевая компания","Тюменская область"]
["ОАО \"ЮТЭК-Региональные сети\"","8601033125","860101001","Сетевая компания","Тюменская область"]
["ОАО \"Ямальская железнодорожная компания\"","8904042048","890401001","Сетевая компания","Тюменская область"]
["ОАО ТТК \"КРОСНО\"","7203001250","720301001","Сетевая компания","Тюменская область"]
["ООО \" Тюменская электросетевая компания\"","7204160220","720401001","Сетевая компания","Тюменская область"]
["ООО \"Агентство Интеллект-Сервис\"","7202082778","720201001","Сетевая компания","Тюменская область"]
["ООО \"Агропромэнергия\"","7224014468","722401001","Сетевая компания","Тюменская область"]
["ООО \"Альтера\"","7203252461","720301001","Сетевая компания","Тюменская область"]
["ООО \"Аэропорт Советский\"","8615001243","861501001","Сетевая компания","Тюменская область"]
["ООО \"Башнефть-Добыча\"","0277106840","027501001","Сетевая компания","Тюменская область"]
["ООО \"Белозерный газоперерабатывающий комплекс\"","8603138733","862450001","Сетевая компания","Тюменская область"]
["ООО \"Газпром добыча Уренгой\"","8904034784","997250001","Сетевая компания","Тюменская область"]
["ООО \"Газпром переработка\"","1102054991","997250001","Сетевая компания","Тюменская область"]
["ООО \"Газпром трансгаз Сургут\"","8617002073","997250001","Сетевая компания","Тюменская область"]
["ООО \"Газпром трансгаз Сургут\" Демьянское ЛПУ МГ","8617002073","722503003","Сетевая компания","Тюменская область"]
["ООО \"Газпром трансгаз Сургут\" Ишимское ЛПУ МГ","8617002073","720503001","Сетевая компания","Тюменская область"]
["ООО \"Газпром трансгаз Сургут\" Тобольское ЛПУ МГ","8617002073","720603002","Сетевая компания","Тюменская область"]
["ООО \"Газпром трансгаз Сургут\" Туртасское ЛПУ МГ","8617002073","722503004","Сетевая компания","Тюменская область"]
["ООО \"Газпром трансгаз Сургут\" Ярковское ЛПУ МГ","8617002073","722943001","Сетевая компания","Тюменская область"]
["ООО \"Газпром энерго\" в зоне деятельности Сургутского филиала","7736186950","860202001","Сетевая компания","Тюменская область"]
["ООО \"ДОК-Энерго\"","7204129541","720401001","Сетевая компания","Тюменская область"]
["ООО \"ДСК-Энерго\"","7203144385","720301001","Сетевая компания","Тюменская область"]
["ООО \"Западно-Малобалыкское\"","8619010665","997150001","Сетевая компания","Тюменская область"]
["ООО \"ИНТЕГРУС\"","7202190565","720201001","Сетевая компания","Тюменская область"]
["ООО \"ЛУКОЙЛ-ЭНЕРГОСЕТИ\"","5260230051","525350001","Сетевая компания","Тюменская область"]
["ООО \"Луч-Электро\"","8603097124","860301001","Сетевая компания","Тюменская область"]
["ООО \"Мегионэнергонефть\"","8605016890","862450001","Сетевая компания","Тюменская область"]
["ООО \"МинЭл\"","8614008550","861401001","Сетевая компания","Тюменская область"]
["ООО \"Нижневартовский газоперерабатывающий комплекс\"","8603138726","862450001","Сетевая компания","Тюменская область"]
["ООО \"Нижневартовскэнергонефть\"","8603104220","862450001","Сетевая компания","Тюменская область"]
["ООО \"Ноябрьскэнергонефть\"","8905032490","891450001","Сетевая компания","Тюменская область"]
["ООО \"Няганьгазпереработка\"","8610012450","861001001","Сетевая компания","Тюменская область"]
["ООО \"РН - Юганскнефтегаз\"","8604035473","997150001","Сетевая компания","Тюменская область"]
["ООО \"Ремэнергостройсервис\"","7224023014","722401001","Сетевая компания","Тюменская область"]
["ООО \"Русская тепловая компания\"","8602062560","860201001","Сетевая компания","Тюменская область"]
["ООО \"Северремприбор\"","8602248187","860201001","Сетевая компания","Тюменская область"]
["ООО \"Сетевая компания \"Вектор\"","7204143715","720401001","Сетевая компания","Тюменская область"]
["ООО \"Сибирь-Электро\"","7224035725","722401001","Сетевая компания","Тюменская область"]
["ООО \"Сибтрансэлектро\"","8604010454","860401001","Сетевая компания","Тюменская область"]
["ООО \"Статус\"","7202153919","720401001","Сетевая компания","Тюменская область"]
["ООО \"Сургутские городские электрические сети\"","8602015464","860201001","Сетевая компания","Тюменская область"]
["ООО \"Тарманское-Центральное\"","7203141497","720301001","Сетевая компания","Тюменская область"]
["ООО \"Тобольск-Нефтехим\"","7206025040","723150001","Сетевая компания","Тюменская область"]
["ООО \"Тобольскпромэнергосеть\"","7206032440","720601001","Сетевая компания","Тюменская область"]
["ООО \"Транзит-Электро-Тюмень\"","7203249540","720301001","Сетевая компания","Тюменская область"]
["ООО \"Управляющая компания - Тюменские моторостроители\"","7203179282","720301001","Сетевая компания","Тюменская область"]
["ООО \"Электроспецстрой\"","7224038532","722401001","Сетевая компания","Тюменская область"]
["ООО \"Элтранс\"","7224042747","720401001","Сетевая компания","Тюменская область"]
["ООО \"Энергия-2006\"","7203180111","720301001","Сетевая компания","Тюменская область"]
["ООО \"Энерго Тюмень\"","7204161070","720401001","Сетевая компания","Тюменская область"]
["ООО \"Энерго-Лидер\"","7204162073","720401001","Сетевая компания","Тюменская область"]
["ООО \"Энергонефть Томск\"","7022010799","702201001","Сетевая компания","Тюменская область"]
["ООО \"Юграавиа\"","8601002529","860101001","Сетевая компания","Тюменская область"]
["Открытое акционерное общество \"Оборонэнерго\" - филиал \"Уральский\"","7704726225","667243001","Сетевая компания","Тюменская область"]
["Северная дирекция по энергообеспечению - структурное подразделение Трансэнерго - филиала ОАО \"Российские железные дороги\"","7708503727","760445013","Сетевая компания","Тюменская область"]
["Уренгойский филиал ООО \"Газпром энерго\"","7736186950","890402001","Сетевая компания","Тюменская область"]
["ФБУ \"Центр реабилитации ФСС РФ \"Тараскуль\"","7204013642","720401001","Сетевая компания","Тюменская область"]
["ФГУП \"Стройтранс №1\"","7203019680","720201001","Сетевая компания","Тюменская область"]
["филиал ОАО \"РЖД\" - Свердловская ж.д. (Сургутская дистанция)","7708503727","860245012","Сетевая компания","Тюменская область"]
["филиал ОАО \"РЖД\"- Свердловская ж.д. (Тюменская дистанция)","7708503727","720445015","Сетевая компания","Тюменская область"]
["ЗАО \"ЛУКОЙЛ-АИК\"","8608180070","860801001","Станция - поставщик ЭЭ","Тюменская область"]
["ЗАО Нижневартовская ГРЭС","8620018330","862450001","Станция - поставщик ЭЭ","Тюменская область"]
["ОАО \"Вторая генерирующая компания оптового рынка электроэнергии\" в зоне деятельности филиала  Сургутская ГРЭС-1","2607018122","860202001","Станция - поставщик ЭЭ","Тюменская область"]
["ОАО \"ИНТЕР РАО - Электрогенерация\"","7704784450","862450001","Станция - поставщик ЭЭ","Тюменская область"]
["ОАО \"Межрегионэнергосбыт\"","7705750968","772901001","Станция - поставщик ЭЭ","Тюменская область"]
["ОАО \"Передвижная энергетика\"","7719019846","771901001","Станция - поставщик ЭЭ","Тюменская область"]
["ОАО \"Передвижная энергетика\"  филиал ПЭС \"Уренгой\"","7719019846","890402001","Станция - поставщик ЭЭ","Тюменская область"]
["ОАО \"Передвижная энергетика\" филиал \"ПЭС Казым\"","7719019846","861102001","Станция - поставщик ЭЭ","Тюменская область"]
["ОАО \"Славнефть-Мегионнефтегаз\"","8605003932","860501001","Станция - поставщик ЭЭ","Тюменская область"]
["ОАО \"ТНК-Нягань\"","8610010727","997150001","Станция - поставщик ЭЭ","Тюменская область"]
["ОАО \"Тюменская энергосбытовая компания\"","8602067215","862450001","Станция - поставщик ЭЭ","Тюменская область"]
["ОАО \"Фортум\"","7203162698","997450001","Станция - поставщик ЭЭ","Тюменская область"]
["ОАО \"Фортум\" (Няганская ГРЭС)","7203162698","861002001","Станция - поставщик ЭЭ","Тюменская область"]
["ОАО \"Фортум\" (Тобольская ТЭЦ)","7203162698","720602001","Станция - поставщик ЭЭ","Тюменская область"]
["ОАО \"Фортум\" (Тюменская ТЭЦ-1)","7203162698","720302001","Станция - поставщик ЭЭ","Тюменская область"]
["ОАО \"Э.ОН Россия\"","8602067092","860201001","Станция - поставщик ЭЭ","Тюменская область"]
["ОАО \"Э.ОН Россия\" в зоне деятеьности филиала \"Сургутская ГРЭС-2\" ОАО \"Э.ОН Россия\"","8602067092","860202001","Станция - поставщик ЭЭ","Тюменская область"]
["ООО \"Газпром добыча Уренгой\"","8904034784","997250001","Станция - поставщик ЭЭ","Тюменская область"]
["ООО \"Газпром добыча Ямбург\"","8904034777","890401001","Станция - поставщик ЭЭ","Тюменская область"]
["ООО \"Западно-Малобалыкское\"","8619010665","997150001","Станция - поставщик ЭЭ","Тюменская область"]
["ООО \"ЛУКОЙЛ-Западная Сибирь\"","8608048498","860602001","Станция - поставщик ЭЭ","Тюменская область"]
["ООО \"Ноябрьская ПГЭ\"","8905037499","890501001","Станция - поставщик ЭЭ","Тюменская область"]
["ООО \"Салым Петролеум\"","8619013320","861901001","Станция - поставщик ЭЭ","Тюменская область"]
["ООО \"Северная ПЛЭС\"","7716605105","890345001","Станция - поставщик ЭЭ","Тюменская область"]
["Обособленное подразделение Тюменская ТЭЦ-2 филиала Энергосистема \"Западная Сибирь\" ОАО \"Фортум\"","7203162698","720302003","Станция - поставщик ЭЭ","Тюменская область"]
["Филиал \"Уренгойская ГРЭС\" ОАО \"ИНТЕР РАО - Электрогенерация\"","7704784450","890443001","Станция - поставщик ЭЭ","Тюменская область"]
["МП \"ГЭС\" г. Ханты-Мансийск\"","8601005865","860101001","ЭСО","Тюменская область"]
["ОАО \"СУЭНКО\"","7205011944","720501001","ЭСО","Тюменская область"]
["ЗАО \"ЛУКОЙЛ-АИК\"","8608180070","860801001","Региональная генерация","Ханты-Мансийский автономный округ"]
["ОАО \"ИНТЕР РАО - Электрогенерация\"","7704784450","862450001","Региональная генерация","Ханты-Мансийский автономный округ"]
["ОАО \"Славнефть-Мегионнефтегаз\"","8605003932","860501001","Региональная генерация","Ханты-Мансийский автономный округ"]
["ОАО \"ТНК-Нягань\"","8610010727","997150001","Региональная генерация","Ханты-Мансийский автономный округ"]
["ОАО \"Югорская Генерирующая Компания\"\"","8601029263","860101001","Региональная генерация","Ханты-Мансийский автономный округ"]
["ООО \"Газпром трансгаз Югорск\"","8622000931","997250001","Региональная генерация","Ханты-Мансийский автономный округ"]
["ООО \"Газпромнефть-Хантос\"","8618006063","862450001","Региональная генерация","Ханты-Мансийский автономный округ"]
["ООО \"ЛУКОЙЛ-Западная Сибирь\"","8608048498","860602001","Региональная генерация","Ханты-Мансийский автономный округ"]
["ООО \"Салым Петролеум\"","8619013320","861901001","Региональная генерация","Ханты-Мансийский автономный округ"]
["МП \"ГЭС\" г. Ханты-Мансийск\"","8601005865","860101001","Сбытовая компания","Ханты-Мансийский автономный округ"]
["ОАО \"ОБОРОНЭНЕРГОСБЫТ\" филиал \"УРАЛЬСКИЙ\"","7704731218","720445001","Сбытовая компания","Ханты-Мансийский автономный округ"]
["ОАО \"Оборонэнергосбыт\"","7704731218","770401001","Сбытовая компания","Ханты-Мансийский автономный округ"]
["ОАО \"Тюменская энергосбытовая компания\"","8602067215","862450001","Сбытовая компания","Ханты-Мансийский автономный округ"]
["ОАО \"Энергосбытовая компания \"Восток\"","7705424509","770101001","Сбытовая компания","Ханты-Мансийский автономный округ"]
["ОАО \"ЮТЭК\"","8601022317","860101001","Сбытовая компания","Ханты-Мансийский автономный округ"]
["ООО \"Газпром трансгаз Югорск\"","8622000931","997250001","Сбытовая компания","Ханты-Мансийский автономный округ"]
["ООО \"Независимое энергосбытовое предприятие\"","8602171819","860201001","Сбытовая компания","Ханты-Мансийский автономный округ"]
["ООО \"Нижневартовская энергосбытовая компания\"","8603109926","860301001","Сбытовая компания","Ханты-Мансийский автономный округ"]
["ООО \"Сургутская энергосбытовая компания\"","8602153048","860201001","Сбытовая компания","Ханты-Мансийский автономный округ"]
["ООО \"ТЭК-Энерго\"","8602173527","860201001","Сбытовая компания","Ханты-Мансийский автономный округ"]
["ООО \"Энергосбытовая компания Черногорэнерго\"","8603126569","860301001","Сбытовая компания","Ханты-Мансийский автономный округ"]
["ООО Энергосбытовая компания \"Аган\",г.Радужный","8609018048","860901001","Сбытовая компания","Ханты-Мансийский автономный округ"]
["ЗАО \"Сибэнергокомплектмонтаж\"","8602057175","860201001","Сетевая компания","Ханты-Мансийский автономный округ"]
["МП \"ГЭС\" г. Ханты-Мансийск\"","8601005865","860101001","Сетевая компания","Ханты-Мансийский автономный округ"]
["МУП \"Сургутские районные электрические сети\" МО Сургутский район","8617017320","861701001","Сетевая компания","Ханты-Мансийский автономный округ"]
["Муниципальное предприятие \"Эксплуатационная генерирующая компания\"  муниципального образования городское поселение Приобье","8614008285","861401001","Сетевая компания","Ханты-Мансийский автономный округ"]
["ОАО \"Аэропорт Белоярский\"","8611002077","861101001","Сетевая компания","Ханты-Мансийский автономный округ"]
["ОАО \"Аэропорт Сургут\"","8602060523","860201001","Сетевая компания","Ханты-Мансийский автономный округ"]
["ОАО \"Аэропорт Урай\"","8606010379","860601001","Сетевая компания","Ханты-Мансийский автономный округ"]
["ОАО \"Варьеганэнергонефть\"","8609003059","860901001","Сетевая компания","Ханты-Мансийский автономный округ"]
["ОАО \"ГЭС\" г. Мегион","8605017251","860501001","Сетевая компания","Ханты-Мансийский автономный округ"]
["ОАО \"Городские электрические сети\" г.Нижневартовск","8603004190","860301001","Сетевая компания","Ханты-Мансийский автономный округ"]
["ОАО \"Кондинский комплексный лесопромышленный комбинат\"","8616000203","861601001","Сетевая компания","Ханты-Мансийский автономный округ"]
["ОАО \"Нижневартовское нефтегазодобывающее предприятие\"","8603089941","997150001","Сетевая компания","Ханты-Мансийский автономный округ"]
["ОАО \"Пойковские электрические сети\"","8619013546","861901001","Сетевая компания","Ханты-Мансийский автономный округ"]
["ОАО \"РГЭС\"","8609004670","860901001","Сетевая компания","Ханты-Мансийский автономный округ"]
["ОАО \"Самотлорнефтегаз\"","8603089934","997150001","Сетевая компания","Ханты-Мансийский автономный округ"]
["ОАО \"Строительно-промышленный комбинат\"","8603108023","860301001","Сетевая компания","Ханты-Мансийский автономный округ"]
["ОАО \"Сургутнефтегаз\"","8602060555","997150001","Сетевая компания","Ханты-Мансийский автономный округ"]
["ОАО \"ТНК-Нягань\"","8610010727","997150001","Сетевая компания","Ханты-Мансийский автономный округ"]
["ОАО \"Тюменьэнерго\"","8602060185","997450001","Сетевая компания","Ханты-Мансийский автономный округ"]
["ОАО \"Черногорэнерго\"","8620001023","860301001","Сетевая компания","Ханты-Мансийский автономный округ"]
["ОАО \"Элек\"","8602066853","860201001","Сетевая компания","Ханты-Мансийский автономный округ"]
["ОАО \"ЮРЭСК\"","8601045152","860101001","Сетевая компания","Ханты-Мансийский автономный округ"]
["ОАО \"ЮТЭК-Покачи\"","8621005479","862101001","Сетевая компания","Ханты-Мансийский автономный округ"]
["ОАО \"ЮТЭК-Региональные сети\"","8601033125","860101001","Сетевая компания","Ханты-Мансийский автономный округ"]
["ООО \"Аэропорт Советский\"","8615001243","861501001","Сетевая компания","Ханты-Мансийский автономный округ"]
["ООО \"Белозерный газоперерабатывающий комплекс\"","8603138733","862450001","Сетевая компания","Ханты-Мансийский автономный округ"]
["ООО \"Газпром переработка\"","1102054991","997250001","Сетевая компания","Ханты-Мансийский автономный округ"]
["ООО \"Газпром трансгаз Сургут\"","8617002073","997250001","Сетевая компания","Ханты-Мансийский автономный округ"]
["ООО \"Газпром трансгаз Югорск\"","8622000931","997250001","Сетевая компания","Ханты-Мансийский автономный округ"]
["ООО \"Газпром энерго\"","7736186950","773601001","Сетевая компания","Ханты-Мансийский автономный округ"]
["ООО \"Западно-Малобалыкское\"","8619010665","997150001","Сетевая компания","Ханты-Мансийский автономный округ"]
["ООО \"ЛУКОЙЛ-ЭНЕРГОСЕТИ\"","5260230051","525350001","Сетевая компания","Ханты-Мансийский автономный округ"]
["ООО \"Луч-Электро\"","8603097124","860301001","Сетевая компания","Ханты-Мансийский автономный округ"]
["ООО \"Мегионэнергонефть\"","8605016890","862450001","Сетевая компания","Ханты-Мансийский автономный округ"]
["ООО \"МинЭл\"","8614008550","861401001","Сетевая компания","Ханты-Мансийский автономный округ"]
["ООО \"Нижневартовский газоперерабатывающий комплекс\"","8603138726","862450001","Сетевая компания","Ханты-Мансийский автономный округ"]
["ООО \"Нижневартовскэнергонефть\"","8603104220","862450001","Сетевая компания","Ханты-Мансийский автономный округ"]
["ООО \"Няганьгазпереработка\"","8610012450","861001001","Сетевая компания","Ханты-Мансийский автономный округ"]
["ООО \"РН - Юганскнефтегаз\"","8604035473","997150001","Сетевая компания","Ханты-Мансийский автономный округ"]
["ООО \"Русская тепловая компания\"","8602062560","860201001","Сетевая компания","Ханты-Мансийский автономный округ"]
["ООО \"Северремприбор\"","8602248187","860201001","Сетевая компания","Ханты-Мансийский автономный округ"]
["ООО \"Сибтрансэлектро\"","8604010454","860401001","Сетевая компания","Ханты-Мансийский автономный округ"]
["ООО \"Сургутские городские электрические сети\"","8602015464","860201001","Сетевая компания","Ханты-Мансийский автономный округ"]
["ООО \"Юграавиа\"","8601002529","860101001","Сетевая компания","Ханты-Мансийский автономный округ"]
["Открытое акционерное общество \"РН-НЯГАНЬНЕФТЕГАЗ\"","8610010727","861001001","Сетевая компания","Ханты-Мансийский автономный округ"]
["филиал ОАО \"РЖД\" - Свердловская ж.д. (Сургутская дистанция)","7708503727","860245012","Сетевая компания","Ханты-Мансийский автономный округ"]
["ЗАО \"ЛУКОЙЛ-АИК\"","8608180070","860801001","Станция - поставщик ЭЭ","Ханты-Мансийский автономный округ"]
["ЗАО Нижневартовская ГРЭС","8620018330","862450001","Станция - поставщик ЭЭ","Ханты-Мансийский автономный округ"]
["ОАО \"Вторая генерирующая компания оптового рынка электроэнергии\" в зоне деятельности филиала  Сургутская ГРЭС-1","2607018122","860202001","Станция - поставщик ЭЭ","Ханты-Мансийский автономный округ"]
["ОАО \"ИНТЕР РАО - Электрогенерация\"","7704784450","862450001","Станция - поставщик ЭЭ","Ханты-Мансийский автономный округ"]
["ОАО \"Передвижная энергетика\" филиал \"ПЭС Казым\"","7719019846","861102001","Станция - поставщик ЭЭ","Ханты-Мансийский автономный округ"]
["ОАО \"Славнефть-Мегионнефтегаз\"","8605003932","860501001","Станция - поставщик ЭЭ","Ханты-Мансийский автономный округ"]
["ОАО \"ТНК-Нягань\"","8610010727","997150001","Станция - поставщик ЭЭ","Ханты-Мансийский автономный округ"]
["ОАО \"Фортум\" (Няганская ГРЭС)","7203162698","861002001","Станция - поставщик ЭЭ","Ханты-Мансийский автономный округ"]
["ОАО \"Э.ОН Россия\"","8602067092","860201001","Станция - поставщик ЭЭ","Ханты-Мансийский автономный округ"]
["ОАО \"Э.ОН Россия\" в зоне деятеьности филиала \"Сургутская ГРЭС-2\" ОАО \"Э.ОН Россия\"","8602067092","860202001","Станция - поставщик ЭЭ","Ханты-Мансийский автономный округ"]
["ООО \"ЛУКОЙЛ-Западная Сибирь\"","8608048498","860602001","Станция - поставщик ЭЭ","Ханты-Мансийский автономный округ"]
["ООО \"Салым Петролеум\"","8619013320","861901001","Станция - поставщик ЭЭ","Ханты-Мансийский автономный округ"]
["МП \"ГЭС\" г. Ханты-Мансийск\"","8601005865","860101001","ЭСО","Ханты-Мансийский автономный округ"]
["Муниципальное предприятие \"Эксплуатационная генерирующая компания\"  муниципального образования городское поселение Приобье","8614008285","861401001","ЭСО","Ханты-Мансийский автономный округ"]
["ОАО \"Славнефть-Мегионнефтегаз\"","8605003932","860501001","ЭСО","Ханты-Мансийский автономный округ"]
["ОАО \"Сургутнефтегаз\"","8602060555","997150001","ЭСО","Ханты-Мансийский автономный округ"]
["ООО \"Аэропорт Советский\"","8615001243","861501001","ЭСО","Ханты-Мансийский автономный округ"]
["ООО \"Белозерный газоперерабатывающий комплекс\"","8603138733","862450001","ЭСО","Ханты-Мансийский автономный округ"]
["ООО \"Газпром переработка\"","1102054991","997250001","ЭСО","Ханты-Мансийский автономный округ"]
["ООО \"Газпром трансгаз Сургут\"","8617002073","997250001","ЭСО","Ханты-Мансийский автономный округ"]
["ООО \"Газпром трансгаз Югорск\"","8622000931","997250001","ЭСО","Ханты-Мансийский автономный округ"]
["ООО \"Русская тепловая компания\"","8602062560","860201001","ЭСО","Ханты-Мансийский автономный округ"]
["ООО \"Юграавиа\"","8601002529","860101001","ЭСО","Ханты-Мансийский автономный округ"]
["Открытое акционерное общество \"РН-НЯГАНЬНЕФТЕГАЗ\"","8610010727","861001001","ЭСО","Ханты-Мансийский автономный округ"]
["филиал ОАО \"РЖД\" - Свердловская ж.д. (Сургутская дистанция)","7708503727","860245012","ЭСО","Ханты-Мансийский автономный округ"]
["Государственное бюджетное учреждение  \"Ямалтур\"","8901019080","890101001","Региональная генерация","Ямало-Ненецкий автономный округ"]
["МП \"Белоярское ПП ЖКХ\"","8908000218","890801001","Региональная генерация","Ямало-Ненецкий автономный округ"]
["МП \"Горковское ЖКХ\"","8907000014","890701001","Региональная генерация","Ямало-Ненецкий автономный округ"]
["МП \"Мужевское ЖКХ\"","8907000134","890701001","Региональная генерация","Ямало-Ненецкий автономный округ"]
["МП \"Овгортское ЖКХ\"","8907000127","890701001","Региональная генерация","Ямало-Ненецкий автономный округ"]
["МП \"Панаевское ЖКХ\"","8909002803","890901001","Региональная генерация","Ямало-Ненецкий автономный округ"]
["МП \"Салехардэнерго\"","8901008521","890101001","Региональная генерация","Ямало-Ненецкий автономный округ"]
["МП \"Ямалгаз\"","8909001599","890901001","Региональная генерация","Ямало-Ненецкий автономный округ"]
["МП ЖКХ \"Каскад\"","8909000309","890901001","Региональная генерация","Ямало-Ненецкий автономный округ"]
["МП ЖКХ \"Энергия\"","8909001020","890901001","Региональная генерация","Ямало-Ненецкий автономный округ"]
["МПП ЖКХ МО г. Лабытнанги \"Ямал\"","8902009197","890201001","Региональная генерация","Ямало-Ненецкий автономный округ"]
["МУП \"Тазовскэнерго\"","8910003544","891001001","Региональная генерация","Ямало-Ненецкий автономный округ"]
["МУП \"Управление энергоснабжения и инженерных сетей\"","8903028065","890301001","Региональная генерация","Ямало-Ненецкий автономный округ"]
["МЯПП ЖКХ","8909000179","890901001","Региональная генерация","Ямало-Ненецкий автономный округ"]
["ОАО \"Аэропорт Сургут\"","8602060523","860201001","Региональная генерация","Ямало-Ненецкий автономный округ"]
["ОАО \"Передвижная энергетика\" филиал \"ПЭС Лабытнанги\"","7719019846","890202001","Региональная генерация","Ямало-Ненецкий автономный округ"]
["ОАО \"Ростелеком\" Ханты-Мансийский филиал макрорегионального филиала \"Урал\"","7707049388","720332001","Региональная генерация","Ямало-Ненецкий автономный округ"]
["ОАО \"Харп-Энерго-Газ\"","8901016850","890801001","Региональная генерация","Ямало-Ненецкий автономный округ"]
["ОАО \"Ямалкоммунэнерго\" филиал в Шурышкарском районе","8901025421","890701001","Региональная генерация","Ямало-Ненецкий автономный округ"]
["ОАО \"Ямалкоммунэнерго\" филиал в п.г.т.Тазовский","8901025421","891000354","Региональная генерация","Ямало-Ненецкий автономный округ"]
["ООО \"Белэнерго\"","8908002494","890801001","Региональная генерация","Ямало-Ненецкий автономный округ"]
["ООО \"Газпром добыча Уренгой\"","8904034784","997250001","Региональная генерация","Ямало-Ненецкий автономный округ"]
["ООО \"Газпром добыча Ямбург\"","8904034777","890401001","Региональная генерация","Ямало-Ненецкий автономный округ"]
["ООО \"Газпромтранс\" (Ямальский филиал)","7728262893","890243001","Региональная генерация","Ямало-Ненецкий автономный округ"]
["ООО \"Геолог-Инвест\"","8901024146","890101001","Региональная генерация","Ямало-Ненецкий автономный округ"]
["ООО \"Ныдинское\"","8903027590","890301001","Региональная генерация","Ямало-Ненецкий автономный округ"]
["ООО \"Прогресс\"","8908002279","890801001","Региональная генерация","Ямало-Ненецкий автономный округ"]
["ООО \"Ратта\"","8912002352","891201001","Региональная генерация","Ямало-Ненецкий автономный округ"]
["ООО \"Самбургские электрические сети\"","8911024755","891101001","Региональная генерация","Ямало-Ненецкий автономный округ"]
["ООО \"Северная ПЛЭС\"","7716605105","890345001","Региональная генерация","Ямало-Ненецкий автономный округ"]
["ООО \"Фотон\"","8910002438","890401001","Региональная генерация","Ямало-Ненецкий автономный округ"]
["ООО \"Энергетическая компания \"Урал Промышленный - Урал Полярный\"","8908002631","890801001","Региональная генерация","Ямало-Ненецкий автономный округ"]
["ООО \"Ямал-Энерго\"","8912002546","891201001","Региональная генерация","Ямало-Ненецкий автономный округ"]
["ООО ГЖКП \"Энергия\"","8910003230","891001001","Региональная генерация","Ямало-Ненецкий автономный округ"]
["ООО ЭК \"Тепло-Водо-Электро-Сервис\"","8912002592","891201001","Региональная генерация","Ямало-Ненецкий автономный округ"]
["СМП ЖКХ \"Ямал\"","8909000059","890901001","Региональная генерация","Ямало-Ненецкий автономный округ"]
["Тазовский филиал ОАО \"Аэропорт Сургут\"","7204002873","891043001","Региональная генерация","Ямало-Ненецкий автономный округ"]
["Управление \"Ямалэнергогаз\" ООО \"Газпром добыча Надым\"","8903019871","890303004","Региональная генерация","Ямало-Ненецкий автономный округ"]
["Филиал \"Уренгойская ГРЭС\" ОАО \"ИНТЕР РАО - Электрогенерация\"","7704784450","890443001","Региональная генерация","Ямало-Ненецкий автономный округ"]
["филиал - Надымское нефтегазодобывающее управление ООО \"Газпром Добыча Надым\"","8903019871","890303005","Региональная генерация","Ямало-Ненецкий автономный округ"]
["Государственное бюджетное учреждение  \"Ямалтур\"","8901019080","890101001","Сбытовая компания","Ямало-Ненецкий автономный округ"]
["МП \"Белоярское ПП ЖКХ\"","8908000218","890801001","Сбытовая компания","Ямало-Ненецкий автономный округ"]
["МП \"Горковское ЖКХ\"","8907000014","890701001","Сбытовая компания","Ямало-Ненецкий автономный округ"]
["МП \"Мужевское ЖКХ\"","8907000134","890701001","Сбытовая компания","Ямало-Ненецкий автономный округ"]
["МП \"Овгортское ЖКХ\"","8907000127","890701001","Сбытовая компания","Ямало-Ненецкий автономный округ"]
["МП \"Панаевское ЖКХ\"","8909002803","890901001","Сбытовая компания","Ямало-Ненецкий автономный округ"]
["МП \"Салехардэнерго\"","8901008521","890101001","Сбытовая компания","Ямало-Ненецкий автономный округ"]
["МП \"Ямалгаз\"","8909001599","890901001","Сбытовая компания","Ямало-Ненецкий автономный округ"]
["МП ЖКХ \"Каскад\"","8909000309","890901001","Сбытовая компания","Ямало-Ненецкий автономный округ"]
["МП ЖКХ \"Энергия\"","8909001020","890901001","Сбытовая компания","Ямало-Ненецкий автономный округ"]
["МПП ЖКХ МО г. Лабытнанги \"Ямал\"","8902009197","890201001","Сбытовая компания","Ямало-Ненецкий автономный округ"]
["МУП \"Тазовскэнерго\"","8910003544","891001001","Сбытовая компания","Ямало-Ненецкий автономный округ"]
["МУП \"Теплоэнергоремонт\"","8903003575","890301001","Сбытовая компания","Ямало-Ненецкий автономный округ"]
["МУП \"Управление энергоснабжения и инженерных сетей\"","8903028065","890301001","Сбытовая компания","Ямало-Ненецкий автономный округ"]
["МЯПП ЖКХ","8909000179","890901001","Сбытовая компания","Ямало-Ненецкий автономный округ"]
["ОАО \"ОБОРОНЭНЕРГОСБЫТ\" филиал \"УРАЛЬСКИЙ\"","7704731218","720445001","Сбытовая компания","Ямало-Ненецкий автономный округ"]
["ОАО \"Оборонэнергосбыт\"","7704731218","770401001","Сбытовая компания","Ямало-Ненецкий автономный округ"]
["ОАО \"Передвижная энергетика\" филиал \"ПЭС Лабытнанги\"","7719019846","890202001","Сбытовая компания","Ямало-Ненецкий автономный округ"]
["ОАО \"Ростелеком\" Ханты-Мансийский филиал макрорегионального филиала \"Урал\"","7707049388","720332001","Сбытовая компания","Ямало-Ненецкий автономный округ"]
["ОАО \"Северная энергетическая компания\"","8911019579","890501001","Сбытовая компания","Ямало-Ненецкий автономный округ"]
["ОАО \"Тюменская энергосбытовая компания\"","8602067215","862450001","Сбытовая компания","Ямало-Ненецкий автономный округ"]
["ОАО \"Тюменьэнергосбыт\"","7205011951","720201001","Сбытовая компания","Ямало-Ненецкий автономный округ"]
["ОАО \"Харп-Энерго-Газ\"","8901016850","890801001","Сбытовая компания","Ямало-Ненецкий автономный округ"]
["ОАО \"Ямалкоммунэнерго\"","8901025421","890101001","Сбытовая компания","Ямало-Ненецкий автономный округ"]
["ОАО \"Ямалкоммунэнерго\" филиал в Шурышкарском районе","8901025421","890701001","Сбытовая компания","Ямало-Ненецкий автономный округ"]
["ОАО \"Ямалкоммунэнерго\" филиал в п.г.т.Тазовский","8901025421","891000354","Сбытовая компания","Ямало-Ненецкий автономный округ"]
["ООО \"Белэнерго\"","8908002494","890801001","Сбытовая компания","Ямало-Ненецкий автономный округ"]
["ООО \"Газпром добыча Ямбург\"","8904034777","890401001","Сбытовая компания","Ямало-Ненецкий автономный округ"]
["ООО \"Газпромтранс\" (Ямальский филиал)","7728262893","890243001","Сбытовая компания","Ямало-Ненецкий автономный округ"]
["ООО \"Геолог-Инвест\"","8901024146","890101001","Сбытовая компания","Ямало-Ненецкий автономный округ"]
["ООО \"Ныдинское\"","8903027590","890301001","Сбытовая компания","Ямало-Ненецкий автономный округ"]
["ООО \"Прогресс\"","8908002279","890801001","Сбытовая компания","Ямало-Ненецкий автономный округ"]
["ООО \"Ратта\"","8912002352","891201001","Сбытовая компания","Ямало-Ненецкий автономный округ"]
["ООО \"Самбургские электрические сети\"","8911024755","891101001","Сбытовая компания","Ямало-Ненецкий автономный округ"]
["ООО \"Фотон\"","8910002438","890401001","Сбытовая компания","Ямало-Ненецкий автономный округ"]
["ООО \"Энергетическая компания \"Урал Промышленный - Урал Полярный\"","8908002631","890801001","Сбытовая компания","Ямало-Ненецкий автономный округ"]
["ООО \"Энергострим - Энергосбыт\"","7724669350","770401001","Сбытовая компания","Ямало-Ненецкий автономный округ"]
["ООО \"Ямал-Энерго\"","8912002546","891201001","Сбытовая компания","Ямало-Ненецкий автономный округ"]
["ООО ГЖКП \"Энергия\"","8910003230","891001001","Сбытовая компания","Ямало-Ненецкий автономный округ"]
["ООО ЭК \"Тепло-Водо-Электро-Сервис\"","8912002592","891201001","Сбытовая компания","Ямало-Ненецкий автономный округ"]
["СМП ЖКХ \"Ямал\"","8909000059","890901001","Сбытовая компания","Ямало-Ненецкий автономный округ"]
["Тазовский филиал ОАО \"Аэропорт Сургут\"","7204002873","891043001","Сбытовая компания","Ямало-Ненецкий автономный округ"]
["Управление \"Ямалэнергогаз\" ООО \"Газпром добыча Надым\"","8903019871","890303004","Сбытовая компания","Ямало-Ненецкий автономный округ"]
["филиал - Надымское нефтегазодобывающее управление ООО \"Газпром Добыча Надым\"","8903019871","890303005","Сбытовая компания","Ямало-Ненецкий автономный округ"]
["ЗАО \"НадымЭнергоСбыт\"","8903032551","890301001","Сетевая компания","Ямало-Ненецкий автономный округ"]
["МУП \"Губкинские городские электрические сети\"","8913000830","891301001","Сетевая компания","Ямало-Ненецкий автономный округ"]
["МУП \"Муравленковское предприятие городских электрических сетей\"","8906000460","890601001","Сетевая компания","Ямало-Ненецкий автономный округ"]
["МУП \"Надымские городские электрические сети\"","8903030850","890301001","Сетевая компания","Ямало-Ненецкий автономный округ"]
["МУП \"Пуровские электрические сети\"","8911018938","891101001","Сетевая компания","Ямало-Ненецкий автономный округ"]
["МУП ЖКХ \"Лимбей\"","8904008329","890401001","Сетевая компания","Ямало-Ненецкий автономный округ"]
["Надымский филиал ООО \"Газпром энерго\"","7736186950","890302001","Сетевая компания","Ямало-Ненецкий автономный округ"]
["Ноябрьский филиал ОАО \"Аэропорт Сургут\"","8602060523","890543001","Сетевая компания","Ямало-Ненецкий автономный округ"]
["ОАО \"Аэропорт Сургут\"","8602060523","860201001","Сетевая компания","Ямало-Ненецкий автономный округ"]
["ОАО \"Вынгапуровский тепловодоканал\"","8905045443","890501001","Сетевая компания","Ямало-Ненецкий автономный округ"]
["ОАО \"Надымское авиапредприятие\"","8903025610","890301001","Сетевая компания","Ямало-Ненецкий автономный округ"]
["ОАО \"Новоуренгойский объединенный авиаотряд\"","8904045602","891450001","Сетевая компания","Ямало-Ненецкий автономный округ"]
["ОАО \"Тюменьэнерго\"","8602060185","997450001","Сетевая компания","Ямало-Ненецкий автономный округ"]
["ОАО \"Уренгойгорэлектросеть\"","8904046645","890401001","Сетевая компания","Ямало-Ненецкий автономный округ"]
["ОАО \"Энерго-Газ-Ноябрьск\"","8905033649","890501001","Сетевая компания","Ямало-Ненецкий автономный округ"]
["ОАО \"Ямальская железнодорожная компания\"","8904042048","890401001","Сетевая компания","Ямало-Ненецкий автономный округ"]
["ООО \"Газпром трансгаз Сургут\"","8617002073","997250001","Сетевая компания","Ямало-Ненецкий автономный округ"]
["ООО \"Ноябрьскэнергонефть\"","8905032490","891450001","Сетевая компания","Ямало-Ненецкий автономный округ"]
["Северная дирекция по энергообеспечению - структурное подразделение Трансэнерго - филиала ОАО \"Российские железные дороги\"","7708503727","760445013","Сетевая компания","Ямало-Ненецкий автономный округ"]
["Уренгойский филиал ООО \"Газпром энерго\"","7736186950","890402001","Сетевая компания","Ямало-Ненецкий автономный округ"]
["Филиал ОАО энергетики и электрификации \"Тюменьэнерго\" Ноябрьские электрические сети","8602060185","890502001","Сетевая компания","Ямало-Ненецкий автономный округ"]
["ОАО \"Передвижная энергетика\"  филиал ПЭС \"Уренгой\"","7719019846","890402001","Станция - поставщик ЭЭ","Ямало-Ненецкий автономный округ"]
["ОАО \"Тюменская энергосбытовая компания\"","8602067215","862450001","Станция - поставщик ЭЭ","Ямало-Ненецкий автономный округ"]
["ООО \"Белэнерго\"","8908002494","890801001","Станция - поставщик ЭЭ","Ямало-Ненецкий автономный округ"]
["ООО \"Газпром добыча Уренгой\"","8904034784","997250001","Станция - поставщик ЭЭ","Ямало-Ненецкий автономный округ"]
["ООО \"Газпром добыча Ямбург\"","8904034777","890401001","Станция - поставщик ЭЭ","Ямало-Ненецкий автономный округ"]
["ООО \"Геолог-Инвест\"","8901024146","890101001","Станция - поставщик ЭЭ","Ямало-Ненецкий автономный округ"]
["ООО \"Ноябрьская ПГЭ\"","8905037499","890501001","Станция - поставщик ЭЭ","Ямало-Ненецкий автономный округ"]
["филиал - Надымское нефтегазодобывающее управление ООО \"Газпром Добыча Надым\"","8903019871","890303005","Станция - поставщик ЭЭ","Ямало-Ненецкий автономный округ"]
["ОАО \"Ямалкоммунэнерго\"","8901025421","890101001","ЭСО","Ямало-Ненецкий автономный округ"]
["ООО \"Газпром трансгаз Югорск\" Ново-Уренгойское ЛПУ МГ","8622000931","890402001","ЭСО","Ямало-Ненецкий автономный округ"]
[]
[]
[]
["tso_name",null,null,"title_tso_name",null,null,null,"sbwt_name",null,null,null,"title_sbwt_name",null,null,null,"sbwt_name_p",null,null,null,"post_name",null,null,null,"title_post_name",null,null,null,"tso_name_p",null,null,null,"potr_name",null,null,null,"sbwt_post_name",null,null,null,"sbwt_name_o",null,null,null,"sbwt_name_oep"]
["ОРГАНИЗАЦИЯ","ИНН","КПП","ОРГАНИЗАЦИЯ","ИНН","КПП",null,"ОРГАНИЗАЦИЯ","ИНН","КПП",null,"ОРГАНИЗАЦИЯ","ИНН","КПП",null,"ОРГАНИЗАЦИЯ","ИНН","КПП",null,"ОРГАНИЗАЦИЯ","ИНН","КПП",null,"ОРГАНИЗАЦИЯ","ИНН","КПП",null,"ОРГАНИЗАЦИЯ","ИНН","КПП",null,"ОРГАНИЗАЦИЯ","ИНН","КПП",null,"ОРГАНИЗАЦИЯ","ИНН","КПП",null,"ОРГАНИЗАЦИЯ","ИНН","КПП",null,"ОРГАНИЗАЦИЯ","ИНН","КПП"]
["ЗАО \" Тюменский приборостроительный завод\"","7203000841","720301001","ЗАО \" Тюменский приборостроительный завод\"","7203000841","720301001",null,"Закрытое акционерное общество \"Энергопромышленная компания\", г. Екатеринбург","6661105959","666101001",null,"Закрытое акционерное общество \"Энергопромышленная компания\", г. Екатеринбург","6661105959","666101001",null,"Закрытое акционерное общество \"Энергопромышленная компания\", г. Екатеринбург","6661105959","666101001",null,"Блокстанции ТЭ","7200000000","720000001",null,"Блокстанции ТЭ","7200000000","720000001",null,"Блокстанции ТЭ","7200000000","720000001",null,"Конечные потребители (кроме ТСО)",null,null,null,"Блокстанции ТЭ","7200000000","720000001",null,"Закрытое акционерное общество \"Энергопромышленная компания\", г. Екатеринбург","6661105959","666101001",null,"Закрытое акционерное общество \"Энергопромышленная компания\", г. Екатеринбург","6661105959","666101001"]
["ЗАО \"Завод Тюменьремдормаш\"","7204005867","722401001","ЗАО \"Завод Тюменьремдормаш\"","7204005867","722401001",null,"ЗАО \"Дирекция по энергообеспечению Восточного промузла\"","7203009876","720301001",null,"ЗАО \"Дирекция по энергообеспечению Восточного промузла\"","7203009876","720301001",null,"ЗАО \"Дирекция по энергообеспечению Восточного промузла\"","7203009876","720301001",null,"ЕНЭС",null,null,null,"ЕНЭС",null,null,null,"ЕНЭС",null,null,null,null,null,null,null,"Закрытое акционерное общество \"Энергопромышленная компания\", г. Екатеринбург","6661105959","666101001",null,"ЗАО \"Дирекция по энергообеспечению Восточного промузла\"","7203009876","720301001",null,"ЗАО \"Дирекция по энергообеспечению Восточного промузла\"","7203009876","720301001"]
["ЗАО \"НадымЭнергоСбыт\"","8903032551","890301001","ЗАО \"НадымЭнергоСбыт\"","8903032551","890301001",null,"ЗАО \"ЕЭСнК\"","7727232575","771401001",null,"ЗАО \"ЕЭСнК\"","7727232575","771401001",null,"ЗАО \"ЕЭСнК\"","7727232575","771401001",null,"ЗАО \"ЛУКОЙЛ-АИК\"","8608180070","860801001",null,"ЗАО \"ЛУКОЙЛ-АИК\"","8608180070","860801001",null,"ЗАО \" Тюменский приборостроительный завод\"","7203000841","720301001",null,null,null,null,null,"ЗАО \"Дирекция по энергообеспечению Восточного промузла\"","7203009876","720301001",null,"ЗАО \"ЕЭСнК\"","7727232575","771401001",null,"ЗАО \"ЕЭСнК\"","7727232575","771401001"]
["ЗАО \"Сибэнергокомплектмонтаж\"","8602057175","860201001","ЗАО \"Сибэнергокомплектмонтаж\"","8602057175","860201001",null,"МП \"ГЭС\" г. Ханты-Мансийск\"","8601005865","860101001",null,"МП \"ГЭС\" г. Ханты-Мансийск\"","8601005865","860101001",null,"МП \"ГЭС\" г. Ханты-Мансийск\"","8601005865","860101001",null,"ЗАО \"ЛУКОЙЛ-АИК\"","8608180070","860801001",null,"ЗАО \"ЛУКОЙЛ-АИК\"","8608180070","860801001",null,"ЗАО \"Завод Тюменьремдормаш\"","7204005867","722401001",null,null,null,null,null,"ЗАО \"ЕЭСнК\"","7727232575","771401001",null,"МП \"ГЭС\" г. Ханты-Мансийск\"","8601005865","860101001",null,"МП \"ГЭС\" г. Ханты-Мансийск\"","8601005865","860101001"]
["МП \"ГЭС\" г. Ханты-Мансийск\"","8601005865","860101001","МП \"ГЭС\" г. Ханты-Мансийск\"","8601005865","860101001",null,"МП \"ГЭС\" г. Ханты-Мансийск\"","8601005865","860101001",null,"МП \"ГЭС\" г. Ханты-Мансийск\"","8601005865","860101001",null,"МП \"ГЭС\" г. Ханты-Мансийск\"","8601005865","860101001",null,"ЗАО Нижневартовская ГРЭС","8620018330","862450001",null,"ЗАО Нижневартовская ГРЭС","8620018330","862450001",null,"ЗАО \"ЛУКОЙЛ-АИК\"","8608180070","860801001",null,null,null,null,null,"ЗАО \"ЛУКОЙЛ-АИК\"","8608180070","860801001",null,"МП \"ГЭС\" г. Ханты-Мансийск\"","8601005865","860101001",null,"МП \"ГЭС\" г. Ханты-Мансийск\"","8601005865","860101001"]
["МП \"ГЭС\" г. Ханты-Мансийск\"","8601005865","860101001","МП \"ГЭС\" г. Ханты-Мансийск\"","8601005865","860101001",null,"ОАО \"Межрегионэнергосбыт\"","7705750968","772901001",null,"ОАО \"Межрегионэнергосбыт\"","7705750968","772901001",null,"ОАО \"Межрегионэнергосбыт\"","7705750968","772901001",null,"МУП Байкаловский КПП","7223000825","722301001",null,"МУП Байкаловский КПП","7223000825","722301001",null,"ЗАО \"ЛУКОЙЛ-АИК\"","8608180070","860801001",null,null,null,null,null,"ЗАО \"ЛУКОЙЛ-АИК\"","8608180070","860801001",null,"ОАО \"Межрегионэнергосбыт\"","7705750968","772901001",null,"ОАО \"Межрегионэнергосбыт\"","7705750968","772901001"]
["Муниципальное предприятие \"Эксплуатационная генерирующая компания\"  муниципального образования городское поселение Приобье","8614008285","861401001","Муниципальное предприятие \"Эксплуатационная генерирующая компания\"  муниципального образования городское поселение Приобье","8614008285","861401001",null,"ОАО \"Оборонэнергосбыт\"","7704731218","770401001",null,"ОАО \"Оборонэнергосбыт\"","7704731218","770401001",null,"ОАО \"Оборонэнергосбыт\"","7704731218","770401001",null,"ОАО \"Вторая генерирующая компания оптового рынка электроэнергии\" в зоне деятельности филиала  Сургутская ГРЭС-1","2607018122","860202001",null,"ОАО \"Вторая генерирующая компания оптового рынка электроэнергии\" в зоне деятельности филиала  Сургутская ГРЭС-1","2607018122","860202001",null,"ЗАО \"НадымЭнергоСбыт\"","8903032551","890301001",null,null,null,null,null,"ЗАО Нижневартовская ГРЭС","8620018330","862450001",null,"ОАО \"Оборонэнергосбыт\"","7704731218","770401001",null,"ОАО \"Оборонэнергосбыт\"","7704731218","770401001"]
["МУП \"Губкинские городские электрические сети\"","8913000830","891301001","МУП \"Губкинские городские электрические сети\"","8913000830","891301001",null,"ОАО \"ОБОРОНЭНЕРГОСБЫТ\" филиал \"УРАЛЬСКИЙ\"","7704731218","720445001",null,"ОАО \"ОБОРОНЭНЕРГОСБЫТ\" филиал \"УРАЛЬСКИЙ\"","7704731218","720445001",null,"ОАО \"ОБОРОНЭНЕРГОСБЫТ\" филиал \"УРАЛЬСКИЙ\"","7704731218","720445001",null,"ОАО \"ИНТЕР РАО - Электрогенерация\"","7704784450","862450001",null,"ОАО \"ИНТЕР РАО - Электрогенерация\"","7704784450","862450001",null,"ЗАО \"Сибэнергокомплектмонтаж\"","8602057175","860201001",null,null,null,null,null,"МП \"ГЭС\" г. Ханты-Мансийск\"","8601005865","860101001",null,"ОАО \"ОБОРОНЭНЕРГОСБЫТ\" филиал \"УРАЛЬСКИЙ\"","7704731218","720445001",null,"ОАО \"ОБОРОНЭНЕРГОСБЫТ\" филиал \"УРАЛЬСКИЙ\"","7704731218","720445001"]
["МУП \"Муравленковское предприятие городских электрических сетей\"","8906000460","890601001","МУП \"Муравленковское предприятие городских электрических сетей\"","8906000460","890601001",null,"ОАО \"Промышленная энергетика\"","7705736716","770501001",null,"ОАО \"Промышленная энергетика\"","7705736716","770501001",null,"ОАО \"Промышленная энергетика\"","7705736716","770501001",null,"ОАО \"ИНТЕР РАО - Электрогенерация\"","7704784450","862450001",null,"ОАО \"ИНТЕР РАО - Электрогенерация\"","7704784450","862450001",null,"ЗАО Нижневартовская ГРЭС","8620018330","862450001",null,null,null,null,null,"МП \"ГЭС\" г. Ханты-Мансийск\"","8601005865","860101001",null,"ОАО \"Промышленная энергетика\"","7705736716","770501001",null,"ОАО \"Промышленная энергетика\"","7705736716","770501001"]
["МУП \"Надымские городские электрические сети\"","8903030850","890301001","МУП \"Надымские городские электрические сети\"","8903030850","890301001",null,"ОАО \"Северная энергетическая компания\"","8911019579","890501001",null,"ОАО \"Северная энергетическая компания\"","8911019579","890501001",null,"ОАО \"Северная энергетическая компания\"","8911019579","890501001",null,"ОАО \"Межрегионэнергосбыт\"","7705750968","772901001",null,"ОАО \"Межрегионэнергосбыт\"","7705750968","772901001",null,"МП \"ГЭС\" г. Ханты-Мансийск\"","8601005865","860101001",null,null,null,null,null,"МУП Байкаловский КПП","7223000825","722301001",null,"ОАО \"Северная энергетическая компания\"","8911019579","890501001",null,"ОАО \"Северная энергетическая компания\"","8911019579","890501001"]
["МУП \"Пуровские электрические сети\"","8911018938","891101001","МУП \"Пуровские электрические сети\"","8911018938","891101001",null,"ОАО \"Сибурэнергоменеджмент\"","7727276526","366750001",null,"ОАО \"Сибурэнергоменеджмент\"","7727276526","366750001",null,"ОАО \"Сибурэнергоменеджмент\"","7727276526","366750001",null,"ОАО \"Первая генерирующая компания оптового рынка электроэнергии\"","7203158282","770401001",null,"ОАО \"Первая генерирующая компания оптового рынка электроэнергии\"","7203158282","770401001",null,"МП \"ГЭС\" г. Ханты-Мансийск\"","8601005865","860101001",null,null,null,null,null,"ОАО \"Вторая генерирующая компания оптового рынка электроэнергии\" в зоне деятельности филиала  Сургутская ГРЭС-1","2607018122","860202001",null,"ОАО \"Сибурэнергоменеджмент\"","7727276526","366750001",null,"ОАО \"Сибурэнергоменеджмент\"","7727276526","366750001"]
["МУП \"Сургутские районные электрические сети\" МО Сургутский район","8617017320","861701001","МУП \"Сургутские районные электрические сети\" МО Сургутский район","8617017320","861701001",null,"ОАО \"СУЭНКО\"","7205011944","720501001",null,"ОАО \"СУЭНКО\"","7205011944","720501001",null,"ОАО \"СУЭНКО\"","7205011944","720501001",null,"ОАО \"Передвижная энергетика\"","7719019846","771901001",null,"ОАО \"Передвижная энергетика\"","7719019846","771901001",null,"Муниципальное предприятие \"Эксплуатационная генерирующая компания\"  муниципального образования городское поселение Приобье","8614008285","861401001",null,null,null,null,null,"ОАО \"ИНТЕР РАО - Электрогенерация\"","7704784450","862450001",null,"ОАО \"СУЭНКО\"","7205011944","720501001",null,"ОАО \"СУЭНКО\"","7205011944","720501001"]
["МУП ЖКХ \"Лимбей\"","8904008329","890401001","МУП ЖКХ \"Лимбей\"","8904008329","890401001",null,"ОАО \"Тюменская энергосбытовая компания\"","8602067215","862450001",null,"ОАО \"Тюменская энергосбытовая компания\"","8602067215","862450001",null,"ОАО \"Тюменская энергосбытовая компания\"","8602067215","862450001",null,"ОАО \"Передвижная энергетика\"  филиал ПЭС \"Уренгой\"","7719019846","890402001",null,"ОАО \"Передвижная энергетика\"  филиал ПЭС \"Уренгой\"","7719019846","890402001",null,"МУП \"Губкинские городские электрические сети\"","8913000830","891301001",null,null,null,null,null,"ОАО \"ИНТЕР РАО - Электрогенерация\"","7704784450","862450001",null,"ОАО \"Тюменская энергосбытовая компания\"","8602067215","862450001",null,"ОАО \"Тюменская энергосбытовая компания\"","8602067215","862450001"]
["ОАО \"Аэропорт Белоярский\"","8611002077","861101001","ОАО \"Аэропорт Белоярский\"","8611002077","861101001",null,"ОАО \"Тюменьэнергосбыт\"","7205011951","720201001",null,"ОАО \"Тюменьэнергосбыт\"","7205011951","720201001",null,"ОАО \"Тюменьэнергосбыт\"","7205011951","720201001",null,"ОАО \"Передвижная энергетика\" филиал \"ПЭС Казым\"","7719019846","861102001",null,"ОАО \"Передвижная энергетика\" филиал \"ПЭС Казым\"","7719019846","861102001",null,"МУП \"Муравленковское предприятие городских электрических сетей\"","8906000460","890601001",null,null,null,null,null,"ОАО \"Межрегионэнергосбыт\"","7705750968","772901001",null,"ОАО \"Тюменьэнергосбыт\"","7205011951","720201001",null,"ОАО \"Тюменьэнергосбыт\"","7205011951","720201001"]
["ОАО \"Аэропорт Рощино\"","7204660086","720401001","ОАО \"Аэропорт Рощино\"","7204660086","720401001",null,"ОАО \"Энергосбытовая компания \"Восток\"","7705424509","770101001",null,"ОАО \"Энергосбытовая компания \"Восток\"","7705424509","770101001",null,"ОАО \"Энергосбытовая компания \"Восток\"","7705424509","770101001",null,"ОАО \"Славнефть-Мегионнефтегаз\"","8605003932","860501001",null,"ОАО \"Славнефть-Мегионнефтегаз\"","8605003932","860501001",null,"МУП \"Надымские городские электрические сети\"","8903030850","890301001",null,null,null,null,null,"ОАО \"Межрегионэнергосбыт\"","7705750968","772901001",null,"ОАО \"Энергосбытовая компания \"Восток\"","7705424509","770101001",null,"ОАО \"Энергосбытовая компания \"Восток\"","7705424509","770101001"]
["ОАО \"Аэропорт Сургут\"","8602060523","860201001","ОАО \"Аэропорт Сургут\"","8602060523","860201001",null,"ОАО \"ЮТЭК\"","8601022317","860101001",null,"ОАО \"ЮТЭК\"","8601022317","860101001",null,"ОАО \"ЮТЭК\"","8601022317","860101001",null,"ОАО \"Славнефть-Мегионнефтегаз\"","8605003932","860501001",null,"ОАО \"Славнефть-Мегионнефтегаз\"","8605003932","860501001",null,"МУП \"Пуровские электрические сети\"","8911018938","891101001",null,null,null,null,null,"ОАО \"Оборонэнергосбыт\"","7704731218","770401001",null,"ОАО \"ЮТЭК\"","8601022317","860101001",null,"ОАО \"ЮТЭК\"","8601022317","860101001"]
["ОАО \"Аэропорт Урай\"","8606010379","860601001","ОАО \"Аэропорт Урай\"","8606010379","860601001",null,"Общество с ограниченной ответственностью «Энергосбытовая компания»","0275075272","027501001",null,"Общество с ограниченной ответственностью «Энергосбытовая компания»","0275075272","027501001",null,"Общество с ограниченной ответственностью «Энергосбытовая компания»","0275075272","027501001",null,"ОАО \"Сургутнефтегаз\"","8602060555","997150001",null,"ОАО \"Сургутнефтегаз\"","8602060555","997150001",null,"МУП \"Сургутские районные электрические сети\" МО Сургутский район","8617017320","861701001",null,null,null,null,null,"ОАО \"ОБОРОНЭНЕРГОСБЫТ\" филиал \"УРАЛЬСКИЙ\"","7704731218","720445001",null,"Общество с ограниченной ответственностью «Энергосбытовая компания»","0275075272","027501001",null,"Общество с ограниченной ответственностью «Энергосбытовая компания»","0275075272","027501001"]
["ОАО \"Варьеганэнергонефть\"","8609003059","860901001","ОАО \"Варьеганэнергонефть\"","8609003059","860901001",null,"ООО \"Газпром добыча Ямбург\"","8904034777","890401001",null,"ООО \"Газпром добыча Ямбург\"","8904034777","890401001",null,"ООО \"Газпром добыча Ямбург\"","8904034777","890401001",null,"ОАО \"СУЭНКО\"","7205011944","720501001",null,"ОАО \"СУЭНКО\"","7205011944","720501001",null,"МУП Байкаловский КПП","7223000825","722301001",null,null,null,null,null,"ОАО \"Первая генерирующая компания оптового рынка электроэнергии\"","7203158282","770401001",null,"ООО \"Газпром добыча Ямбург\"","8904034777","890401001",null,"ООО \"Газпром добыча Ямбург\"","8904034777","890401001"]
["ОАО \"Вынгапуровский тепловодоканал\"","8905045443","890501001","ОАО \"Вынгапуровский тепловодоканал\"","8905045443","890501001",null,"ООО \"КНАУФ ЭНЕРГИЯ\"","7729677594","772901001",null,"ООО \"КНАУФ ЭНЕРГИЯ\"","7729677594","772901001",null,"ООО \"КНАУФ ЭНЕРГИЯ\"","7729677594","772901001",null,"ОАО \"ТНК-Нягань\"","8610010727","997150001",null,"ОАО \"ТНК-Нягань\"","8610010727","997150001",null,"МУП ЖКХ \"Лимбей\"","8904008329","890401001",null,null,null,null,null,"ОАО \"Передвижная энергетика\"","7719019846","771901001",null,"ООО \"КНАУФ ЭНЕРГИЯ\"","7729677594","772901001",null,"ООО \"КНАУФ ЭНЕРГИЯ\"","7729677594","772901001"]
["ОАО \"Городские электрические сети\" г.Нижневартовск","8603004190","860301001","ОАО \"Городские электрические сети\" г.Нижневартовск","8603004190","860301001",null,"ООО \"ЛУКОЙЛ-ЭНЕРГОСЕРВИС\"","5030040730","503001001",null,"ООО \"ЛУКОЙЛ-ЭНЕРГОСЕРВИС\"","5030040730","503001001",null,"ООО \"ЛУКОЙЛ-ЭНЕРГОСЕРВИС\"","5030040730","503001001",null,"ОАО \"ТНК-Нягань\"","8610010727","997150001",null,"ОАО \"ТНК-Нягань\"","8610010727","997150001",null,"ОАО \"Аэропорт Белоярский\"","8611002077","861101001",null,null,null,null,null,"ОАО \"Передвижная энергетика\"  филиал ПЭС \"Уренгой\"","7719019846","890402001",null,"ООО \"ЛУКОЙЛ-ЭНЕРГОСЕРВИС\"","5030040730","503001001",null,"ООО \"ЛУКОЙЛ-ЭНЕРГОСЕРВИС\"","5030040730","503001001"]
["ОАО \"ГЭС\" г. Мегион","8605017251","860501001","ОАО \"ГЭС\" г. Мегион","8605017251","860501001",null,"ООО \"МагнитЭнерго\"","7715902899","771501001",null,"ООО \"МагнитЭнерго\"","7715902899","771501001",null,"ООО \"МагнитЭнерго\"","7715902899","771501001",null,"ОАО \"Тюменская энергосбытовая компания\"","8602067215","862450001",null,"ОАО \"Тюменская энергосбытовая компания\"","8602067215","862450001",null,"ОАО \"Аэропорт Рощино\"","7204660086","720401001",null,null,null,null,null,"ОАО \"Передвижная энергетика\" филиал \"ПЭС Казым\"","7719019846","861102001",null,"ООО \"МагнитЭнерго\"","7715902899","771501001",null,"ООО \"МагнитЭнерго\"","7715902899","771501001"]
["ОАО \"Кондинский комплексный лесопромышленный комбинат\"","8616000203","861601001","ОАО \"Кондинский комплексный лесопромышленный комбинат\"","8616000203","861601001",null,"ООО \"Независимое энергосбытовое предприятие\"","8602171819","860201001",null,"ООО \"Независимое энергосбытовое предприятие\"","8602171819","860201001",null,"ООО \"Независимое энергосбытовое предприятие\"","8602171819","860201001",null,"ОАО \"Фортум\"","7203162698","997450001",null,"ОАО \"Фортум\"","7203162698","997450001",null,"ОАО \"Аэропорт Сургут\"","8602060523","860201001",null,null,null,null,null,"ОАО \"Промышленная энергетика\"","7705736716","770501001",null,"ООО \"Независимое энергосбытовое предприятие\"","8602171819","860201001",null,"ООО \"Независимое энергосбытовое предприятие\"","8602171819","860201001"]
["ОАО \"Надымское авиапредприятие\"","8903025610","890301001","ОАО \"Надымское авиапредприятие\"","8903025610","890301001",null,"ООО \"Нижневартовская энергосбытовая компания\"","8603109926","860301001",null,"ООО \"Нижневартовская энергосбытовая компания\"","8603109926","860301001",null,"ООО \"Нижневартовская энергосбытовая компания\"","8603109926","860301001",null,"ОАО \"Фортум\" (Няганская ГРЭС)","7203162698","861002001",null,"ОАО \"Фортум\" (Няганская ГРЭС)","7203162698","861002001",null,"ОАО \"Аэропорт Урай\"","8606010379","860601001",null,null,null,null,null,"ОАО \"Северная энергетическая компания\"","8911019579","890501001",null,"ООО \"Нижневартовская энергосбытовая компания\"","8603109926","860301001",null,"ООО \"Нижневартовская энергосбытовая компания\"","8603109926","860301001"]
["ОАО \"Нижневартовское нефтегазодобывающее предприятие\"","8603089941","997150001","ОАО \"Нижневартовское нефтегазодобывающее предприятие\"","8603089941","997150001",null,"ООО \"Промэнергосбыт\"","7206036155","720601001",null,"ООО \"Промэнергосбыт\"","7206036155","720601001",null,"ООО \"Промэнергосбыт\"","7206036155","720601001",null,"ОАО \"Фортум\" (Тобольская ТЭЦ)","7203162698","720602001",null,"ОАО \"Фортум\" (Тобольская ТЭЦ)","7203162698","720602001",null,"ОАО \"Варьеганэнергонефть\"","8609003059","860901001",null,null,null,null,null,"ОАО \"Сибурэнергоменеджмент\"","7727276526","366750001",null,"ООО \"Промэнергосбыт\"","7206036155","720601001",null,"ООО \"Промэнергосбыт\"","7206036155","720601001"]
["ОАО \"Новоуренгойский объединенный авиаотряд\"","8904045602","891450001","ОАО \"Новоуренгойский объединенный авиаотряд\"","8904045602","891450001",null,"ООО \"Региональная энергосбытовая компания\" (ОПП)","4633017746","463301001",null,"ООО \"Региональная энергосбытовая компания\" (ОПП)","4633017746","463301001",null,"ООО \"Региональная энергосбытовая компания\" (ОПП)","4633017746","463301001",null,"ОАО \"Фортум\" (Тюменская ТЭЦ-1)","7203162698","720302001",null,"ОАО \"Фортум\" (Тюменская ТЭЦ-1)","7203162698","720302001",null,"ОАО \"Вторая генерирующая компания оптового рынка электроэнергии\" в зоне деятельности филиала  Сургутская ГРЭС-1","2607018122","860202001",null,null,null,null,null,"ОАО \"Славнефть-Мегионнефтегаз\"","8605003932","860501001",null,"ООО \"Региональная энергосбытовая компания\" (ОПП)","4633017746","463301001",null,"ООО \"Региональная энергосбытовая компания\" (ОПП)","4633017746","463301001"]
["ОАО \"Пойковские электрические сети\"","8619013546","861901001","ОАО \"Пойковские электрические сети\"","8619013546","861901001",null,"ООО \"РН-Энерго\"","7706525041","772501001",null,"ООО \"РН-Энерго\"","7706525041","772501001",null,"ООО \"РН-Энерго\"","7706525041","772501001",null,"ОАО \"Э.ОН Россия\"","8602067092","860201001",null,"ОАО \"Э.ОН Россия\"","8602067092","860201001",null,"ОАО \"Вынгапуровский тепловодоканал\"","8905045443","890501001",null,null,null,null,null,"ОАО \"Славнефть-Мегионнефтегаз\"","8605003932","860501001",null,"ООО \"РН-Энерго\"","7706525041","772501001",null,"ООО \"РН-Энерго\"","7706525041","772501001"]
["ОАО \"Птицефабрика \"Боровская\"","7224008030","722401001","ОАО \"Птицефабрика \"Боровская\"","7224008030","722401001",null,"ООО \"Русэнергоресурс\"","7706288496","770601001",null,"ООО \"Русэнергоресурс\"","7706288496","770601001",null,"ООО \"Русэнергоресурс\"","7706288496","770601001",null,"ОАО \"Э.ОН Россия\" в зоне деятеьности филиала \"Сургутская ГРЭС-2\" ОАО \"Э.ОН Россия\"","8602067092","860202001",null,"ОАО \"Э.ОН Россия\" в зоне деятеьности филиала \"Сургутская ГРЭС-2\" ОАО \"Э.ОН Россия\"","8602067092","860202001",null,"ОАО \"Городские электрические сети\" г.Нижневартовск","8603004190","860301001",null,null,null,null,null,"ОАО \"Сургутнефтегаз\"","8602060555","997150001",null,"ООО \"Русэнергоресурс\"","7706288496","770601001",null,"ООО \"Русэнергоресурс\"","7706288496","770601001"]
["ОАО \"РГЭС\"","8609004670","860901001","ОАО \"РГЭС\"","8609004670","860901001",null,"ООО \"РУСЭНЕРГОСБЫТ\"","7706284124","770601001",null,"ООО \"РУСЭНЕРГОСБЫТ\"","7706284124","770601001",null,"ООО \"РУСЭНЕРГОСБЫТ\"","7706284124","770601001",null,"ОАО \"Югорская Генерирующая Компания\"\"","8601029263","860101001",null,"ОАО \"Югорская Генерирующая Компания\"\"","8601029263","860101001",null,"ОАО \"ГЭС\" г. Мегион","8605017251","860501001",null,null,null,null,null,"ОАО \"СУЭНКО\"","7205011944","720501001",null,"ООО \"РУСЭНЕРГОСБЫТ\"","7706284124","770601001",null,"ООО \"РУСЭНЕРГОСБЫТ\"","7706284124","770601001"]
["ОАО \"Самотлорнефтегаз\"","8603089934","997150001","ОАО \"Самотлорнефтегаз\"","8603089934","997150001",null,"ООО \"Сургутская энергосбытовая компания\"","8602153048","860201001",null,"ООО \"Сургутская энергосбытовая компания\"","8602153048","860201001",null,"ООО \"Сургутская энергосбытовая компания\"","8602153048","860201001",null,"Обособленное подразделение Тюменская ТЭЦ-2 филиала Энергосистема \"Западная Сибирь\" ОАО \"Фортум\"","7203162698","720302003",null,"Обособленное подразделение Тюменская ТЭЦ-2 филиала Энергосистема \"Западная Сибирь\" ОАО \"Фортум\"","7203162698","720302003",null,"ОАО \"ИНТЕР РАО - Электрогенерация\"","7704784450","862450001",null,null,null,null,null,"ОАО \"СУЭНКО\"","7205011944","720501001",null,"ООО \"Сургутская энергосбытовая компания\"","8602153048","860201001",null,"ООО \"Сургутская энергосбытовая компания\"","8602153048","860201001"]
["ОАО \"Сибнефтепровод\"","7201000726","720301001","ОАО \"Сибнефтепровод\"","7201000726","720301001",null,"ООО \"Транснефтьэнерго\"","7703552167","772301001",null,"ООО \"Транснефтьэнерго\"","7703552167","772301001",null,"ООО \"Транснефтьэнерго\"","7703552167","772301001",null,"ООО \"Газпром добыча Уренгой\"","8904034784","997250001",null,"ООО \"Газпром добыча Уренгой\"","8904034784","997250001",null,"ОАО \"ИНТЕР РАО - Электрогенерация\"","7704784450","862450001",null,null,null,null,null,"ОАО \"ТНК-Нягань\"","8610010727","997150001",null,"ООО \"Транснефтьэнерго\"","7703552167","772301001",null,"ООО \"Транснефтьэнерго\"","7703552167","772301001"]
["ОАО \"Строительно-промышленный комбинат\"","8603108023","860301001","ОАО \"Строительно-промышленный комбинат\"","8603108023","860301001",null,"ООО \"ТЭК-Энерго\"","8602173527","860201001",null,"ООО \"ТЭК-Энерго\"","8602173527","860201001",null,"ООО \"ТЭК-Энерго\"","8602173527","860201001",null,"ООО \"Газпром добыча Уренгой\"","8904034784","997250001",null,"ООО \"Газпром добыча Уренгой\"","8904034784","997250001",null,"ОАО \"Кондинский комплексный лесопромышленный комбинат\"","8616000203","861601001",null,null,null,null,null,"ОАО \"ТНК-Нягань\"","8610010727","997150001",null,"ООО \"ТЭК-Энерго\"","8602173527","860201001",null,"ООО \"ТЭК-Энерго\"","8602173527","860201001"]
["ОАО \"Сургутнефтегаз\"","8602060555","997150001","ОАО \"Сургутнефтегаз\"","8602060555","997150001",null,"ООО \"Энергосбытовая компания Черногорэнерго\"","8603126569","860301001",null,"ООО \"Энергосбытовая компания Черногорэнерго\"","8603126569","860301001",null,"ООО \"Энергосбытовая компания Черногорэнерго\"","8603126569","860301001",null,"ООО \"Газпром добыча Ямбург\"","8904034777","890401001",null,"ООО \"Газпром добыча Ямбург\"","8904034777","890401001",null,"ОАО \"Межрегионэнергосбыт\"","7705750968","772901001",null,null,null,null,null,"ОАО \"Тюменская энергосбытовая компания\"","8602067215","862450001",null,"ООО \"Энергосбытовая компания Черногорэнерго\"","8603126569","860301001",null,"ООО \"Энергосбытовая компания Черногорэнерго\"","8603126569","860301001"]
["ОАО \"СУЭНКО\"","7205011944","720501001","ОАО \"СУЭНКО\"","7205011944","720501001",null,"ООО \"Энергострим - Энергосбыт\"","7724669350","770401001",null,"ООО \"Энергострим - Энергосбыт\"","7724669350","770401001",null,"ООО \"Энергострим - Энергосбыт\"","7724669350","770401001",null,"ООО \"Газпром добыча Ямбург\"","8904034777","890401001",null,"ООО \"Газпром добыча Ямбург\"","8904034777","890401001",null,"ОАО \"Надымское авиапредприятие\"","8903025610","890301001",null,null,null,null,null,"ОАО \"Тюменская энергосбытовая компания\"","8602067215","862450001",null,"ООО \"Энергострим - Энергосбыт\"","7724669350","770401001",null,"ООО \"Энергострим - Энергосбыт\"","7724669350","770401001"]
["ОАО \"СУЭНКО\"","7205011944","720501001","ОАО \"СУЭНКО\"","7205011944","720501001",null,"ООО Энергосбытовая компания \"Аган\",г.Радужный","8609018048","860901001",null,"ООО Энергосбытовая компания \"Аган\",г.Радужный","8609018048","860901001",null,"ООО Энергосбытовая компания \"Аган\",г.Радужный","8609018048","860901001",null,"ООО \"Газпромнефть-Хантос\"","8618006063","862450001",null,"ООО \"Газпромнефть-Хантос\"","8618006063","862450001",null,"ОАО \"Нижневартовское нефтегазодобывающее предприятие\"","8603089941","997150001",null,null,null,null,null,"ОАО \"Тюменьэнергосбыт\"","7205011951","720201001",null,"ООО Энергосбытовая компания \"Аган\",г.Радужный","8609018048","860901001",null,"ООО Энергосбытовая компания \"Аган\",г.Радужный","8609018048","860901001"]
["ОАО \"ТНК-Нягань\"","8610010727","997150001","ОАО \"ТНК-Нягань\"","8610010727","997150001",null,"РЭУ  ОАО \"Запсибгазпром\"","7203001796","720345001",null,"РЭУ  ОАО \"Запсибгазпром\"","7203001796","720345001",null,"Прямой договор",null,null,null,"ООО \"Западно-Малобалыкское\"","8619010665","997150001",null,"ООО \"Западно-Малобалыкское\"","8619010665","997150001",null,"ОАО \"Новоуренгойский объединенный авиаотряд\"","8904045602","891450001",null,null,null,null,null,"ОАО \"Фортум\"","7203162698","997450001",null,"Оптовый рынок",null,null,null,"Прочие конечные потребители"]
["ОАО \"Тюменский завод медицинского оборудования и инструментов\"","7203000834","720301001","ОАО \"Тюменский завод медицинского оборудования и инструментов\"","7203000834","720301001",null,null,null,null,null,null,null,null,null,"РЭУ  ОАО \"Запсибгазпром\"","7203001796","720345001",null,"ООО \"Западно-Малобалыкское\"","8619010665","997150001",null,"ООО \"Западно-Малобалыкское\"","8619010665","997150001",null,"ОАО \"Первая генерирующая компания оптового рынка электроэнергии\"","7203158282","770401001",null,null,null,null,null,"ОАО \"Фортум\" (Няганская ГРЭС)","7203162698","861002001",null,"РЭУ  ОАО \"Запсибгазпром\"","7203001796","720345001",null,"РЭУ  ОАО \"Запсибгазпром\"","7203001796","720345001"]
["ОАО \"Тюменский электромеханический завод\"","7204003108","720401001","ОАО \"Тюменский электромеханический завод\"","7204003108","720401001",null,null,null,null,null,null,null,null,null,null,null,null,null,"ООО \"ЛУКОЙЛ-Западная Сибирь\"","8608048498","860602001",null,"ООО \"ЛУКОЙЛ-Западная Сибирь\"","8608048498","860602001",null,"ОАО \"Передвижная энергетика\"","7719019846","771901001",null,null,null,null,null,"ОАО \"Фортум\" (Тобольская ТЭЦ)","7203162698","720602001"]
["ОАО \"Тюменьэнерго\"","8602060185","997450001","ОАО \"Тюменьэнерго\"","8602060185","997450001",null,null,null,null,null,null,null,null,null,null,null,null,null,"ООО \"ЛУКОЙЛ-Западная Сибирь\"","8608048498","860602001",null,"ООО \"ЛУКОЙЛ-Западная Сибирь\"","8608048498","860602001",null,"ОАО \"Передвижная энергетика\"  филиал ПЭС \"Уренгой\"","7719019846","890402001",null,null,null,null,null,"ОАО \"Фортум\" (Тюменская ТЭЦ-1)","7203162698","720302001"]
["ОАО \"Уренгойгорэлектросеть\"","8904046645","890401001","ОАО \"Уренгойгорэлектросеть\"","8904046645","890401001",null,null,null,null,null,null,null,null,null,null,null,null,null,"ООО \"Ноябрьская ПГЭ\"","8905037499","890501001",null,"ООО \"Ноябрьская ПГЭ\"","8905037499","890501001",null,"ОАО \"Передвижная энергетика\" филиал \"ПЭС Казым\"","7719019846","861102001",null,null,null,null,null,"ОАО \"Э.ОН Россия\"","8602067092","860201001"]
["ОАО \"ФСК ЕЭС\"","4716016979","772801001","ОАО \"ФСК ЕЭС\"","4716016979","772801001",null,null,null,null,null,null,null,null,null,null,null,null,null,"ООО \"Салым Петролеум\"","8619013320","861901001",null,"ООО \"Салым Петролеум\"","8619013320","861901001",null,"ОАО \"Пойковские электрические сети\"","8619013546","861901001",null,null,null,null,null,"ОАО \"Э.ОН Россия\" в зоне деятеьности филиала \"Сургутская ГРЭС-2\" ОАО \"Э.ОН Россия\"","8602067092","860202001"]
["ОАО \"ФСК ЕЭС\"","4716016979","997450001","ОАО \"ФСК ЕЭС\"","4716016979","997450001",null,null,null,null,null,null,null,null,null,null,null,null,null,"ООО \"Салым Петролеум\"","8619013320","861901001",null,"ООО \"Салым Петролеум\"","8619013320","861901001",null,"ОАО \"Птицефабрика \"Боровская\"","7224008030","722401001",null,null,null,null,null,"ОАО \"Энергосбытовая компания \"Восток\"","7705424509","770101001"]
["ОАО \"Черногорэнерго\"","8620001023","860301001","ОАО \"Черногорэнерго\"","8620001023","860301001",null,null,null,null,null,null,null,null,null,null,null,null,null,"ООО \"Северная ПЛЭС\"","7716605105","890345001",null,"ООО \"Северная ПЛЭС\"","7716605105","890345001",null,"ОАО \"РГЭС\"","8609004670","860901001",null,null,null,null,null,"ОАО \"Югорская Генерирующая Компания\"\"","8601029263","860101001"]
["ОАО \"Элек\"","8602066853","860201001","ОАО \"Элек\"","8602066853","860201001",null,null,null,null,null,null,null,null,null,null,null,null,null,"ООО \"Северная ПЛЭС\"","7716605105","890345001",null,"ООО \"Северная ПЛЭС\"","7716605105","890345001",null,"ОАО \"Самотлорнефтегаз\"","8603089934","997150001",null,null,null,null,null,"ОАО \"ЮТЭК\"","8601022317","860101001"]
["ОАО \"Энерго-Газ-Ноябрьск\"","8905033649","890501001","ОАО \"Энерго-Газ-Ноябрьск\"","8905033649","890501001",null,null,null,null,null,null,null,null,null,null,null,null,null,"ПИИ ОАО \"Газтурбосервис\"","7203078728","720301001",null,"ПИИ ОАО \"Газтурбосервис\"","7203078728","720301001",null,"ОАО \"Сибнефтепровод\"","7201000726","720301001",null,null,null,null,null,"Обособленное подразделение Тюменская ТЭЦ-2 филиала Энергосистема \"Западная Сибирь\" ОАО \"Фортум\"","7203162698","720302003"]
["ОАО \"ЮРЭСК\"","8601045152","860101001","ОАО \"ЮРЭСК\"","8601045152","860101001",null,null,null,null,null,null,null,null,null,null,null,null,null,"Филиал \"Уренгойская ГРЭС\" ОАО \"ИНТЕР РАО - Электрогенерация\"","7704784450","890443001",null,"Филиал \"Уренгойская ГРЭС\" ОАО \"ИНТЕР РАО - Электрогенерация\"","7704784450","890443001",null,"ОАО \"Славнефть-Мегионнефтегаз\"","8605003932","860501001",null,null,null,null,null,"Общество с ограниченной ответственностью «Энергосбытовая компания»","0275075272","027501001"]
["ОАО \"ЮТЭК-Покачи\"","8621005479","862101001","ОАО \"ЮТЭК-Покачи\"","8621005479","862101001",null,null,null,null,null,null,null,null,null,null,null,null,null,null,null,null,null,null,null,null,null,"ОАО \"Славнефть-Мегионнефтегаз\"","8605003932","860501001",null,null,null,null,null,"ООО \"Газпром добыча Уренгой\"","8904034784","997250001"]
["ОАО \"ЮТЭК-Региональные сети\"","8601033125","860101001","ОАО \"ЮТЭК-Региональные сети\"","8601033125","860101001",null,null,null,null,null,null,null,null,null,null,null,null,null,null,null,null,null,null,null,null,null,"ОАО \"Строительно-промышленный комбинат\"","8603108023","860301001",null,null,null,null,null,"ООО \"Газпром добыча Уренгой\"","8904034784","997250001"]
["ОАО \"Ямальская железнодорожная компания\"","8904042048","890401001","ОАО \"Ямальская железнодорожная компания\"","8904042048","890401001",null,null,null,null,null,null,null,null,null,null,null,null,null,null,null,null,null,null,null,null,null,"ОАО \"Сургутнефтегаз\"","8602060555","997150001",null,null,null,null,null,"ООО \"Газпром добыча Ямбург\"","8904034777","890401001"]
["ОАО ТТК \"КРОСНО\"","7203001250","720301001","ОАО ТТК \"КРОСНО\"","7203001250","720301001",null,null,null,null,null,null,null,null,null,null,null,null,null,null,null,null,null,null,null,null,null,"ОАО \"Сургутнефтегаз\"","8602060555","997150001",null,null,null,null,null,"ООО \"Газпром добыча Ямбург\"","8904034777","890401001"]
["ООО \" Тюменская электросетевая компания\"","7204160220","720401001","ООО \" Тюменская электросетевая компания\"","7204160220","720401001",null,null,null,null,null,null,null,null,null,null,null,null,null,null,null,null,null,null,null,null,null,"ОАО \"СУЭНКО\"","7205011944","720501001",null,null,null,null,null,"ООО \"Газпром добыча Ямбург\"","8904034777","890401001"]
["ООО \"Агентство Интеллект-Сервис\"","7202082778","720201001","ООО \"Агентство Интеллект-Сервис\"","7202082778","720201001",null,null,null,null,null,null,null,null,null,null,null,null,null,null,null,null,null,null,null,null,null,"ОАО \"СУЭНКО\"","7205011944","720501001",null,null,null,null,null,"ООО \"Газпромнефть-Хантос\"","8618006063","862450001"]
["ООО \"Агропромэнергия\"","7224014468","722401001","ООО \"Агропромэнергия\"","7224014468","722401001",null,null,null,null,null,null,null,null,null,null,null,null,null,null,null,null,null,null,null,null,null,"ОАО \"СУЭНКО\"","7205011944","720501001",null,null,null,null,null,"ООО \"Западно-Малобалыкское\"","8619010665","997150001"]
["ООО \"Альтера\"","7203252461","720301001","ООО \"Альтера\"","7203252461","720301001",null,null,null,null,null,null,null,null,null,null,null,null,null,null,null,null,null,null,null,null,null,"ОАО \"ТНК-Нягань\"","8610010727","997150001",null,null,null,null,null,"ООО \"Западно-Малобалыкское\"","8619010665","997150001"]
["ООО \"Аэропорт Советский\"","8615001243","861501001","ООО \"Аэропорт Советский\"","8615001243","861501001",null,null,null,null,null,null,null,null,null,null,null,null,null,null,null,null,null,null,null,null,null,"ОАО \"ТНК-Нягань\"","8610010727","997150001",null,null,null,null,null,"ООО \"КНАУФ ЭНЕРГИЯ\"","7729677594","772901001"]
["ООО \"Башнефть-Добыча\"","0277106840","027501001","ООО \"Башнефть-Добыча\"","0277106840","027501001",null,null,null,null,null,null,null,null,null,null,null,null,null,null,null,null,null,null,null,null,null,"ОАО \"ТНК-Нягань\"","8610010727","997150001",null,null,null,null,null,"ООО \"ЛУКОЙЛ-Западная Сибирь\"","8608048498","860602001"]
["ООО \"Белозерный газоперерабатывающий комплекс\"","8603138733","862450001","ООО \"Белозерный газоперерабатывающий комплекс\"","8603138733","862450001",null,null,null,null,null,null,null,null,null,null,null,null,null,null,null,null,null,null,null,null,null,"ОАО \"Тюменская энергосбытовая компания\"","8602067215","862450001",null,null,null,null,null,"ООО \"ЛУКОЙЛ-Западная Сибирь\"","8608048498","860602001"]
["ООО \"Газпром добыча Уренгой\"","8904034784","997250001","ООО \"Газпром добыча Уренгой\"","8904034784","997250001",null,null,null,null,null,null,null,null,null,null,null,null,null,null,null,null,null,null,null,null,null,"ОАО \"Тюменский завод медицинского оборудования и инструментов\"","7203000834","720301001",null,null,null,null,null,"ООО \"ЛУКОЙЛ-ЭНЕРГОСЕРВИС\"","5030040730","503001001"]
["ООО \"Газпром переработка\"","1102054991","997250001","ООО \"Газпром переработка\"","1102054991","997250001",null,null,null,null,null,null,null,null,null,null,null,null,null,null,null,null,null,null,null,null,null,"ОАО \"Тюменский электромеханический завод\"","7204003108","720401001",null,null,null,null,null,"ООО \"МагнитЭнерго\"","7715902899","771501001"]
["ООО \"Газпром трансгаз Сургут\"","8617002073","997250001","ООО \"Газпром трансгаз Сургут\"","8617002073","997250001",null,null,null,null,null,null,null,null,null,null,null,null,null,null,null,null,null,null,null,null,null,"ОАО \"Тюменьэнерго\"","8602060185","997450001",null,null,null,null,null,"ООО \"Независимое энергосбытовое предприятие\"","8602171819","860201001"]
["ООО \"Газпром трансгаз Сургут\" Демьянское ЛПУ МГ","8617002073","722503003","ООО \"Газпром трансгаз Сургут\" Демьянское ЛПУ МГ","8617002073","722503003",null,null,null,null,null,null,null,null,null,null,null,null,null,null,null,null,null,null,null,null,null,"ОАО \"Уренгойгорэлектросеть\"","8904046645","890401001",null,null,null,null,null,"ООО \"Нижневартовская энергосбытовая компания\"","8603109926","860301001"]
["ООО \"Газпром трансгаз Сургут\" Ишимское ЛПУ МГ","8617002073","720503001","ООО \"Газпром трансгаз Сургут\" Ишимское ЛПУ МГ","8617002073","720503001",null,null,null,null,null,null,null,null,null,null,null,null,null,null,null,null,null,null,null,null,null,"ОАО \"Фортум\"","7203162698","997450001",null,null,null,null,null,"ООО \"Ноябрьская ПГЭ\"","8905037499","890501001"]
["ООО \"Газпром трансгаз Сургут\" Тобольское ЛПУ МГ","8617002073","720603002","ООО \"Газпром трансгаз Сургут\" Тобольское ЛПУ МГ","8617002073","720603002",null,null,null,null,null,null,null,null,null,null,null,null,null,null,null,null,null,null,null,null,null,"ОАО \"Фортум\" (Няганская ГРЭС)","7203162698","861002001",null,null,null,null,null,"ООО \"Промэнергосбыт\"","7206036155","720601001"]
["ООО \"Газпром трансгаз Сургут\" Туртасское ЛПУ МГ","8617002073","722503004","ООО \"Газпром трансгаз Сургут\" Туртасское ЛПУ МГ","8617002073","722503004",null,null,null,null,null,null,null,null,null,null,null,null,null,null,null,null,null,null,null,null,null,"ОАО \"Фортум\" (Тобольская ТЭЦ)","7203162698","720602001",null,null,null,null,null,"ООО \"Региональная энергосбытовая компания\" (ОПП)","4633017746","463301001"]
["ООО \"Газпром трансгаз Сургут\" Ярковское ЛПУ МГ","8617002073","722943001","ООО \"Газпром трансгаз Сургут\" Ярковское ЛПУ МГ","8617002073","722943001",null,null,null,null,null,null,null,null,null,null,null,null,null,null,null,null,null,null,null,null,null,"ОАО \"Фортум\" (Тюменская ТЭЦ-1)","7203162698","720302001",null,null,null,null,null,"ООО \"РН-Энерго\"","7706525041","772501001"]
["ООО \"Газпром энерго\" в зоне деятельности Сургутского филиала","7736186950","860202001","ООО \"Газпром энерго\" в зоне деятельности Сургутского филиала","7736186950","860202001",null,null,null,null,null,null,null,null,null,null,null,null,null,null,null,null,null,null,null,null,null,"ОАО \"ФСК ЕЭС\"","4716016979","772801001",null,null,null,null,null,"ООО \"Русэнергоресурс\"","7706288496","770601001"]
["ООО \"ДОК-Энерго\"","7204129541","720401001","ООО \"ДОК-Энерго\"","7204129541","720401001",null,null,null,null,null,null,null,null,null,null,null,null,null,null,null,null,null,null,null,null,null,"ОАО \"ФСК ЕЭС\"","4716016979","997450001",null,null,null,null,null,"ООО \"РУСЭНЕРГОСБЫТ\"","7706284124","770601001"]
["ООО \"ДСК-Энерго\"","7203144385","720301001","ООО \"ДСК-Энерго\"","7203144385","720301001",null,null,null,null,null,null,null,null,null,null,null,null,null,null,null,null,null,null,null,null,null,"ОАО \"Черногорэнерго\"","8620001023","860301001",null,null,null,null,null,"ООО \"Салым Петролеум\"","8619013320","861901001"]
["ООО \"Западно-Малобалыкское\"","8619010665","997150001","ООО \"Западно-Малобалыкское\"","8619010665","997150001",null,null,null,null,null,null,null,null,null,null,null,null,null,null,null,null,null,null,null,null,null,"ОАО \"Э.ОН Россия\"","8602067092","860201001",null,null,null,null,null,"ООО \"Салым Петролеум\"","8619013320","861901001"]
["ООО \"ИНТЕГРУС\"","7202190565","720201001","ООО \"ИНТЕГРУС\"","7202190565","720201001",null,null,null,null,null,null,null,null,null,null,null,null,null,null,null,null,null,null,null,null,null,"ОАО \"Э.ОН Россия\" в зоне деятеьности филиала \"Сургутская ГРЭС-2\" ОАО \"Э.ОН Россия\"","8602067092","860202001",null,null,null,null,null,"ООО \"Северная ПЛЭС\"","7716605105","890345001"]
["ООО \"ЛУКОЙЛ-ЭНЕРГОСЕТИ\"","5260230051","525350001","ООО \"ЛУКОЙЛ-ЭНЕРГОСЕТИ\"","5260230051","525350001",null,null,null,null,null,null,null,null,null,null,null,null,null,null,null,null,null,null,null,null,null,"ОАО \"Элек\"","8602066853","860201001",null,null,null,null,null,"ООО \"Северная ПЛЭС\"","7716605105","890345001"]
["ООО \"Луч-Электро\"","8603097124","860301001","ООО \"Луч-Электро\"","8603097124","860301001",null,null,null,null,null,null,null,null,null,null,null,null,null,null,null,null,null,null,null,null,null,"ОАО \"Энерго-Газ-Ноябрьск\"","8905033649","890501001",null,null,null,null,null,"ООО \"Сургутская энергосбытовая компания\"","8602153048","860201001"]
["ООО \"Мегионэнергонефть\"","8605016890","862450001","ООО \"Мегионэнергонефть\"","8605016890","862450001",null,null,null,null,null,null,null,null,null,null,null,null,null,null,null,null,null,null,null,null,null,"ОАО \"Югорская Генерирующая Компания\"\"","8601029263","860101001",null,null,null,null,null,"ООО \"Транснефтьэнерго\"","7703552167","772301001"]
["ООО \"МинЭл\"","8614008550","861401001","ООО \"МинЭл\"","8614008550","861401001",null,null,null,null,null,null,null,null,null,null,null,null,null,null,null,null,null,null,null,null,null,"ОАО \"ЮРЭСК\"","8601045152","860101001",null,null,null,null,null,"ООО \"ТЭК-Энерго\"","8602173527","860201001"]
["ООО \"Нижневартовский газоперерабатывающий комплекс\"","8603138726","862450001","ООО \"Нижневартовский газоперерабатывающий комплекс\"","8603138726","862450001",null,null,null,null,null,null,null,null,null,null,null,null,null,null,null,null,null,null,null,null,null,"ОАО \"ЮТЭК-Покачи\"","8621005479","862101001",null,null,null,null,null,"ООО \"Энергосбытовая компания Черногорэнерго\"","8603126569","860301001"]
["ООО \"Нижневартовскэнергонефть\"","8603104220","862450001","ООО \"Нижневартовскэнергонефть\"","8603104220","862450001",null,null,null,null,null,null,null,null,null,null,null,null,null,null,null,null,null,null,null,null,null,"ОАО \"ЮТЭК-Региональные сети\"","8601033125","860101001",null,null,null,null,null,"ООО \"Энергострим - Энергосбыт\"","7724669350","770401001"]
["ООО \"Ноябрьскэнергонефть\"","8905032490","891450001","ООО \"Ноябрьскэнергонефть\"","8905032490","891450001",null,null,null,null,null,null,null,null,null,null,null,null,null,null,null,null,null,null,null,null,null,"ОАО \"Ямальская железнодорожная компания\"","8904042048","890401001",null,null,null,null,null,"ООО Энергосбытовая компания \"Аган\",г.Радужный","8609018048","860901001"]
["ООО \"Няганьгазпереработка\"","8610012450","861001001","ООО \"Няганьгазпереработка\"","8610012450","861001001",null,null,null,null,null,null,null,null,null,null,null,null,null,null,null,null,null,null,null,null,null,"ОАО ТТК \"КРОСНО\"","7203001250","720301001",null,null,null,null,null,"ПИИ ОАО \"Газтурбосервис\"","7203078728","720301001"]
["ООО \"Ремэнергостройсервис\"","7224023014","722401001","ООО \"Ремэнергостройсервис\"","7224023014","722401001",null,null,null,null,null,null,null,null,null,null,null,null,null,null,null,null,null,null,null,null,null,"Обособленное подразделение Тюменская ТЭЦ-2 филиала Энергосистема \"Западная Сибирь\" ОАО \"Фортум\"","7203162698","720302003",null,null,null,null,null,"РЭУ  ОАО \"Запсибгазпром\"","7203001796","720345001"]
["ООО \"РН - Юганскнефтегаз\"","8604035473","997150001","ООО \"РН - Юганскнефтегаз\"","8604035473","997150001",null,null,null,null,null,null,null,null,null,null,null,null,null,null,null,null,null,null,null,null,null,"ООО \" Тюменская электросетевая компания\"","7204160220","720401001",null,null,null,null,null,"Филиал \"Уренгойская ГРЭС\" ОАО \"ИНТЕР РАО - Электрогенерация\"","7704784450","890443001"]
["ООО \"Русская тепловая компания\"","8602062560","860201001","ООО \"Русская тепловая компания\"","8602062560","860201001",null,null,null,null,null,null,null,null,null,null,null,null,null,null,null,null,null,null,null,null,null,"ООО \"Агентство Интеллект-Сервис\"","7202082778","720201001"]
["ООО \"Северремприбор\"","8602248187","860201001","ООО \"Северремприбор\"","8602248187","860201001",null,null,null,null,null,null,null,null,null,null,null,null,null,null,null,null,null,null,null,null,null,"ООО \"Агропромэнергия\"","7224014468","722401001"]
["ООО \"Сетевая компания \"Вектор\"","7204143715","720401001","ООО \"Сетевая компания \"Вектор\"","7204143715","720401001",null,null,null,null,null,null,null,null,null,null,null,null,null,null,null,null,null,null,null,null,null,"ООО \"Альтера\"","7203252461","720301001"]
["ООО \"Сибирь-Электро\"","7224035725","722401001","ООО \"Сибирь-Электро\"","7224035725","722401001",null,null,null,null,null,null,null,null,null,null,null,null,null,null,null,null,null,null,null,null,null,"ООО \"Аэропорт Советский\"","8615001243","861501001"]
["ООО \"Сибтрансэлектро\"","8604010454","860401001","ООО \"Сибтрансэлектро\"","8604010454","860401001",null,null,null,null,null,null,null,null,null,null,null,null,null,null,null,null,null,null,null,null,null,"ООО \"Башнефть-Добыча\"","0277106840","027501001"]
["ООО \"Статус\"","7202153919","720401001","ООО \"Статус\"","7202153919","720401001",null,null,null,null,null,null,null,null,null,null,null,null,null,null,null,null,null,null,null,null,null,"ООО \"Белозерный газоперерабатывающий комплекс\"","8603138733","862450001"]
["ООО \"Сургутские городские электрические сети\"","8602015464","860201001","ООО \"Сургутские городские электрические сети\"","8602015464","860201001",null,null,null,null,null,null,null,null,null,null,null,null,null,null,null,null,null,null,null,null,null,"ООО \"Газпром добыча Уренгой\"","8904034784","997250001"]
["ООО \"Тарманское-Центральное\"","7203141497","720301001","ООО \"Тарманское-Центральное\"","7203141497","720301001",null,null,null,null,null,null,null,null,null,null,null,null,null,null,null,null,null,null,null,null,null,"ООО \"Газпром добыча Уренгой\"","8904034784","997250001"]
["ООО \"Тобольск-Нефтехим\"","7206025040","723150001","ООО \"Тобольск-Нефтехим\"","7206025040","723150001",null,null,null,null,null,null,null,null,null,null,null,null,null,null,null,null,null,null,null,null,null,"ООО \"Газпром добыча Уренгой\"","8904034784","997250001"]
["ООО \"Тобольскпромэнергосеть\"","7206032440","720601001","ООО \"Тобольскпромэнергосеть\"","7206032440","720601001",null,null,null,null,null,null,null,null,null,null,null,null,null,null,null,null,null,null,null,null,null,"ООО \"Газпром добыча Ямбург\"","8904034777","890401001"]
["ООО \"Транзит-Электро-Тюмень\"","7203249540","720301001","ООО \"Транзит-Электро-Тюмень\"","7203249540","720301001",null,null,null,null,null,null,null,null,null,null,null,null,null,null,null,null,null,null,null,null,null,"ООО \"Газпром добыча Ямбург\"","8904034777","890401001"]
["ООО \"Управляющая компания - Тюменские моторостроители\"","7203179282","720301001","ООО \"Управляющая компания - Тюменские моторостроители\"","7203179282","720301001",null,null,null,null,null,null,null,null,null,null,null,null,null,null,null,null,null,null,null,null,null,"ООО \"Газпром переработка\"","1102054991","997250001"]
["ООО \"Электроспецстрой\"","7224038532","722401001","ООО \"Электроспецстрой\"","7224038532","722401001",null,null,null,null,null,null,null,null,null,null,null,null,null,null,null,null,null,null,null,null,null,"ООО \"Газпром трансгаз Сургут\"","8617002073","997250001"]
["ООО \"Элтранс\"","7224042747","720401001","ООО \"Элтранс\"","7224042747","720401001",null,null,null,null,null,null,null,null,null,null,null,null,null,null,null,null,null,null,null,null,null,"ООО \"Газпром трансгаз Сургут\" Демьянское ЛПУ МГ","8617002073","722503003"]
["ООО \"Энергия-2006\"","7203180111","720301001","ООО \"Энергия-2006\"","7203180111","720301001",null,null,null,null,null,null,null,null,null,null,null,null,null,null,null,null,null,null,null,null,null,"ООО \"Газпром трансгаз Сургут\" Ишимское ЛПУ МГ","8617002073","720503001"]
["ООО \"Энерго Тюмень\"","7204161070","720401001","ООО \"Энерго Тюмень\"","7204161070","720401001",null,null,null,null,null,null,null,null,null,null,null,null,null,null,null,null,null,null,null,null,null,"ООО \"Газпром трансгаз Сургут\" Тобольское ЛПУ МГ","8617002073","720603002"]
["ООО \"Энерго-Лидер\"","7204162073","720401001","ООО \"Энерго-Лидер\"","7204162073","720401001",null,null,null,null,null,null,null,null,null,null,null,null,null,null,null,null,null,null,null,null,null,"ООО \"Газпром трансгаз Сургут\" Туртасское ЛПУ МГ","8617002073","722503004"]
["ООО \"Энергонефть Томск\"","7022010799","702201001","ООО \"Энергонефть Томск\"","7022010799","702201001",null,null,null,null,null,null,null,null,null,null,null,null,null,null,null,null,null,null,null,null,null,"ООО \"Газпром трансгаз Сургут\" Ярковское ЛПУ МГ","8617002073","722943001"]
["ООО \"Юграавиа\"","8601002529","860101001","ООО \"Юграавиа\"","8601002529","860101001",null,null,null,null,null,null,null,null,null,null,null,null,null,null,null,null,null,null,null,null,null,"ООО \"Газпром энерго\" в зоне деятельности Сургутского филиала","7736186950","860202001"]
["Открытое акционерное общество \"Оборонэнерго\" - филиал \"Уральский\"","7704726225","667243001","Открытое акционерное общество \"Оборонэнерго\" - филиал \"Уральский\"","7704726225","667243001",null,null,null,null,null,null,null,null,null,null,null,null,null,null,null,null,null,null,null,null,null,"ООО \"Газпромнефть-Хантос\"","8618006063","862450001"]
["Северная дирекция по энергообеспечению - структурное подразделение Трансэнерго - филиала ОАО \"Российские железные дороги\"","7708503727","760445013","Северная дирекция по энергообеспечению - структурное подразделение Трансэнерго - филиала ОАО \"Российские железные дороги\"","7708503727","760445013",null,null,null,null,null,null,null,null,null,null,null,null,null,null,null,null,null,null,null,null,null,"ООО \"ДОК-Энерго\"","7204129541","720401001"]
["Уренгойский филиал ООО \"Газпром энерго\"","7736186950","890402001","Уренгойский филиал ООО \"Газпром энерго\"","7736186950","890402001",null,null,null,null,null,null,null,null,null,null,null,null,null,null,null,null,null,null,null,null,null,"ООО \"ДСК-Энерго\"","7203144385","720301001"]
["ФБУ \"Центр реабилитации ФСС РФ \"Тараскуль\"","7204013642","720401001","ФБУ \"Центр реабилитации ФСС РФ \"Тараскуль\"","7204013642","720401001",null,null,null,null,null,null,null,null,null,null,null,null,null,null,null,null,null,null,null,null,null,"ООО \"Западно-Малобалыкское\"","8619010665","997150001"]
["ФГУП \"Стройтранс №1\"","7203019680","720201001","ФГУП \"Стройтранс №1\"","7203019680","720201001",null,null,null,null,null,null,null,null,null,null,null,null,null,null,null,null,null,null,null,null,null,"ООО \"Западно-Малобалыкское\"","8619010665","997150001"]
["филиал ОАО \"РЖД\" - Свердловская ж.д. (Сургутская дистанция)","7708503727","860245012","филиал ОАО \"РЖД\" - Свердловская ж.д. (Сургутская дистанция)","7708503727","860245012",null,null,null,null,null,null,null,null,null,null,null,null,null,null,null,null,null,null,null,null,null,"ООО \"Западно-Малобалыкское\"","8619010665","997150001"]
["филиал ОАО \"РЖД\"- Свердловская ж.д. (Тюменская дистанция)","7708503727","720445015","филиал ОАО \"РЖД\"- Свердловская ж.д. (Тюменская дистанция)","7708503727","720445015",null,null,null,null,null,null,null,null,null,null,null,null,null,null,null,null,null,null,null,null,null,"ООО \"ИНТЕГРУС\"","7202190565","720201001"]
[null,null,null,null,null,null,null,null,null,null,null,null,null,null,null,null,null,null,null,null,null,null,null,null,null,null,null,"ООО \"ЛУКОЙЛ-Западная Сибирь\"","8608048498","860602001"]
[null,null,null,null,null,null,null,null,null,null,null,null,null,null,null,null,null,null,null,null,null,null,null,null,null,null,null,"ООО \"ЛУКОЙЛ-Западная Сибирь\"","8608048498","860602001"]
[null,null,null,null,null,null,null,null,null,null,null,null,null,null,null,null,null,null,null,null,null,null,null,null,null,null,null,"ООО \"ЛУКОЙЛ-ЭНЕРГОСЕТИ\"","5260230051","525350001"]
[null,null,null,null,null,null,null,null,null,null,null,null,null,null,null,null,null,null,null,null,null,null,null,null,null,null,null,"ООО \"Луч-Электро\"","8603097124","860301001"]
[null,null,null,null,null,null,null,null,null,null,null,null,null,null,null,null,null,null,null,null,null,null,null,null,null,null,null,"ООО \"Мегионэнергонефть\"","8605016890","862450001"]
[null,null,null,null,null,null,null,null,null,null,null,null,null,null,null,null,null,null,null,null,null,null,null,null,null,null,null,"ООО \"МинЭл\"","8614008550","861401001"]
[null,null,null,null,null,null,null,null,null,null,null,null,null,null,null,null,null,null,null,null,null,null,null,null,null,null,null,"ООО \"Нижневартовский газоперерабатывающий комплекс\"","8603138726","862450001"]
[null,null,null,null,null,null,null,null,null,null,null,null,null,null,null,null,null,null,null,null,null,null,null,null,null,null,null,"ООО \"Нижневартовскэнергонефть\"","8603104220","862450001"]
[null,null,null,null,null,null,null,null,null,null,null,null,null,null,null,null,null,null,null,null,null,null,null,null,null,null,null,"ООО \"Ноябрьская ПГЭ\"","8905037499","890501001"]
[null,null,null,null,null,null,null,null,null,null,null,null,null,null,null,null,null,null,null,null,null,null,null,null,null,null,null,"ООО \"Ноябрьскэнергонефть\"","8905032490","891450001"]
[null,null,null,null,null,null,null,null,null,null,null,null,null,null,null,null,null,null,null,null,null,null,null,null,null,null,null,"ООО \"Няганьгазпереработка\"","8610012450","861001001"]
[null,null,null,null,null,null,null,null,null,null,null,null,null,null,null,null,null,null,null,null,null,null,null,null,null,null,null,"ООО \"Ремэнергостройсервис\"","7224023014","722401001"]
[null,null,null,null,null,null,null,null,null,null,null,null,null,null,null,null,null,null,null,null,null,null,null,null,null,null,null,"ООО \"РН - Юганскнефтегаз\"","8604035473","997150001"]
[null,null,null,null,null,null,null,null,null,null,null,null,null,null,null,null,null,null,null,null,null,null,null,null,null,null,null,"ООО \"Русская тепловая компания\"","8602062560","860201001"]
[null,null,null,null,null,null,null,null,null,null,null,null,null,null,null,null,null,null,null,null,null,null,null,null,null,null,null,"ООО \"Салым Петролеум\"","8619013320","861901001"]
[null,null,null,null,null,null,null,null,null,null,null,null,null,null,null,null,null,null,null,null,null,null,null,null,null,null,null,"ООО \"Салым Петролеум\"","8619013320","861901001"]
[null,null,null,null,null,null,null,null,null,null,null,null,null,null,null,null,null,null,null,null,null,null,null,null,null,null,null,"ООО \"Северная ПЛЭС\"","7716605105","890345001"]
[null,null,null,null,null,null,null,null,null,null,null,null,null,null,null,null,null,null,null,null,null,null,null,null,null,null,null,"ООО \"Северная ПЛЭС\"","7716605105","890345001"]
[null,null,null,null,null,null,null,null,null,null,null,null,null,null,null,null,null,null,null,null,null,null,null,null,null,null,null,"ООО \"Северремприбор\"","8602248187","860201001"]
[null,null,null,null,null,null,null,null,null,null,null,null,null,null,null,null,null,null,null,null,null,null,null,null,null,null,null,"ООО \"Сетевая компания \"Вектор\"","7204143715","720401001"]
[null,null,null,null,null,null,null,null,null,null,null,null,null,null,null,null,null,null,null,null,null,null,null,null,null,null,null,"ООО \"Сибирь-Электро\"","7224035725","722401001"]
[null,null,null,null,null,null,null,null,null,null,null,null,null,null,null,null,null,null,null,null,null,null,null,null,null,null,null,"ООО \"Сибтрансэлектро\"","8604010454","860401001"]
[null,null,null,null,null,null,null,null,null,null,null,null,null,null,null,null,null,null,null,null,null,null,null,null,null,null,null,"ООО \"Статус\"","7202153919","720401001"]
[null,null,null,null,null,null,null,null,null,null,null,null,null,null,null,null,null,null,null,null,null,null,null,null,null,null,null,"ООО \"Сургутские городские электрические сети\"","8602015464","860201001"]
[null,null,null,null,null,null,null,null,null,null,null,null,null,null,null,null,null,null,null,null,null,null,null,null,null,null,null,"ООО \"Тарманское-Центральное\"","7203141497","720301001"]
[null,null,null,null,null,null,null,null,null,null,null,null,null,null,null,null,null,null,null,null,null,null,null,null,null,null,null,"ООО \"Тобольск-Нефтехим\"","7206025040","723150001"]
[null,null,null,null,null,null,null,null,null,null,null,null,null,null,null,null,null,null,null,null,null,null,null,null,null,null,null,"ООО \"Тобольскпромэнергосеть\"","7206032440","720601001"]
[null,null,null,null,null,null,null,null,null,null,null,null,null,null,null,null,null,null,null,null,null,null,null,null,null,null,null,"ООО \"Транзит-Электро-Тюмень\"","7203249540","720301001"]
[null,null,null,null,null,null,null,null,null,null,null,null,null,null,null,null,null,null,null,null,null,null,null,null,null,null,null,"ООО \"Управляющая компания - Тюменские моторостроители\"","7203179282","720301001"]
[null,null,null,null,null,null,null,null,null,null,null,null,null,null,null,null,null,null,null,null,null,null,null,null,null,null,null,"ООО \"Электроспецстрой\"","7224038532","722401001"]
[null,null,null,null,null,null,null,null,null,null,null,null,null,null,null,null,null,null,null,null,null,null,null,null,null,null,null,"ООО \"Элтранс\"","7224042747","720401001"]
[null,null,null,null,null,null,null,null,null,null,null,null,null,null,null,null,null,null,null,null,null,null,null,null,null,null,null,"ООО \"Энергия-2006\"","7203180111","720301001"]
[null,null,null,null,null,null,null,null,null,null,null,null,null,null,null,null,null,null,null,null,null,null,null,null,null,null,null,"ООО \"Энерго Тюмень\"","7204161070","720401001"]
[null,null,null,null,null,null,null,null,null,null,null,null,null,null,null,null,null,null,null,null,null,null,null,null,null,null,null,"ООО \"Энерго-Лидер\"","7204162073","720401001"]
[null,null,null,null,null,null,null,null,null,null,null,null,null,null,null,null,null,null,null,null,null,null,null,null,null,null,null,"ООО \"Энергонефть Томск\"","7022010799","702201001"]
[null,null,null,null,null,null,null,null,null,null,null,null,null,null,null,null,null,null,null,null,null,null,null,null,null,null,null,"ООО \"Юграавиа\"","8601002529","860101001"]
[null,null,null,null,null,null,null,null,null,null,null,null,null,null,null,null,null,null,null,null,null,null,null,null,null,null,null,"Открытое акционерное общество \"Оборонэнерго\" - филиал \"Уральский\"","7704726225","667243001"]
[null,null,null,null,null,null,null,null,null,null,null,null,null,null,null,null,null,null,null,null,null,null,null,null,null,null,null,"ПИИ ОАО \"Газтурбосервис\"","7203078728","720301001"]
[null,null,null,null,null,null,null,null,null,null,null,null,null,null,null,null,null,null,null,null,null,null,null,null,null,null,null,"Северная дирекция по энергообеспечению - структурное подразделение Трансэнерго - филиала ОАО \"Российские железные дороги\"","7708503727","760445013"]
[null,null,null,null,null,null,null,null,null,null,null,null,null,null,null,null,null,null,null,null,null,null,null,null,null,null,null,"Уренгойский филиал ООО \"Газпром энерго\"","7736186950","890402001"]
[null,null,null,null,null,null,null,null,null,null,null,null,null,null,null,null,null,null,null,null,null,null,null,null,null,null,null,"ФБУ \"Центр реабилитации ФСС РФ \"Тараскуль\"","7204013642","720401001"]
[null,null,null,null,null,null,null,null,null,null,null,null,null,null,null,null,null,null,null,null,null,null,null,null,null,null,null,"ФГУП \"Стройтранс №1\"","7203019680","720201001"]
[null,null,null,null,null,null,null,null,null,null,null,null,null,null,null,null,null,null,null,null,null,null,null,null,null,null,null,"Филиал \"Уренгойская ГРЭС\" ОАО \"ИНТЕР РАО - Электрогенерация\"","7704784450","890443001"]
[null,null,null,null,null,null,null,null,null,null,null,null,null,null,null,null,null,null,null,null,null,null,null,null,null,null,null,"филиал ОАО \"РЖД\" - Свердловская ж.д. (Сургутская дистанция)","7708503727","860245012"]
[null,null,null,null,null,null,null,null,null,null,null,null,null,null,null,null,null,null,null,null,null,null,null,null,null,null,null,"филиал ОАО \"РЖД\"- Свердловская ж.д. (Тюменская дистанция)","7708503727","720445015"]

{"sheet":"modP1_30","index":29,"n_rows":0,"n_cols":0,"rows_kept":0,"cut":false,"hidden":true,"merged":[]}

{"sheet":"modfrmReestr","index":30,"n_rows":0,"n_cols":0,"rows_kept":0,"cut":false,"hidden":true,"merged":[]}

{"sheet":"modAuthorizationUtilities","index":31,"n_rows":0,"n_cols":0,"rows_kept":0,"cut":false,"hidden":true,"merged":[]}

{"sheet":"AUTHORIZATION","index":32,"n_rows":0,"n_cols":0,"rows_kept":0,"cut":false,"hidden":true,"merged":[]}

{"sheet":"modfrmCheckInIsInProgress","index":33,"n_rows":0,"n_cols":0,"rows_kept":0,"cut":false,"hidden":true,"merged":[]}

{"sheet":"modOrgData","index":34,"n_rows":3912,"n_cols":3,"rows_kept":3912,"cut":false,"hidden":true,"merged":[]}
[]
[]
[]
[]
[]
[]
[]
[]
[]
[]
[]
[]
[]
[]
[]
[]
[]
[]
[]
[]
[]
[]
[]
[]
[]
[]
[]
[]
[]
[]
[]
[]
[]
[]
[]
[]
[]
[]
[]
[]
[]
[]
[]
[]
[]
[]
[]
[]
[]
[]
[]
[]
[]
[]
[]
[]
[]
[]
[]
[]
[]
[]
[]
[]
[]
[]
[]
[]
[]
[]
[]
[]
[]
[]
[]
[]
[]
[]
[]
[]
[]
[]
[]
[]
[]
[]
[]
[]
[]
[]
[]
[]
[]
[]
[]
[]
[]
[]
[]
[]
[]
[]
[]
[]
[]
[]
[]
[]
[]
[]
[]
[]
[]
[]
[]
[]
[]
[]
[]
[]
[]
[]
[]
[]
[]
[]
[]
[]
[]
[]
[]
[]
[]
[]
[]
[]
[]
[]
[]
[]
[]
[]
[]
[]
[]
[]
[]
[]
[]
[]
[]
[]
[]
[]
[]
[]
[]
[]
[]
[]
[]
[]
[]
[]
[]
[]
[]
[]
[]
[]
[]
[]
[]
[]
[]
[]
[]
[]
[]
[]
[]
[]
[]
[]
[]
[]
[]
[]
[]
[]
[]
[]
[]
[]
[]
[]
[]
[]
[]
[]
[]
[]
[]
[]
[]
[]
[]
[]
[]
[]
[]
[]
[]
[]
[]
[]
[]
[]
[]
[]
[]
[]
[]
[]
[]
[]
[]
[]
[]
[]
[]
[]
[]
[]
[]
[]
[]
[]
[]
[]
[]
[]
[]
[]
[]
[]
[]
[]
[]
[]
[]
[]
[]
[]
[]
[]
[]
[]
[]
[]
[]
[]
[]
[]
[]
[]
[]
[]
[]
[]
[]
[]
[]
[]
[]
[]
[]
[]
[]
[]
[]
[]
[]
[]
[]
[]
[]
[]
[]
[]
[]
[]
[]
[]
[]
[]
[]
[]
[]
[]
[]
[]
[]
[]
[]
[]
[]
[]
[]
[]
[]
[]
[]
[]
[null,null,"заработная плата прочего персонала, относимого на регулируемый вид деятельности"]
[]
[]
[]
[]
[]
[]
[]
[]
[]
[]
[]
[]
[]
[]
[]
[]
[]
[]
[]
[]
[]
[]
[]
[]
[]
[]
[]
[]
[]
[]
[]
[]
[]
[]
[]
[]
[]
[]
[]
[]
[]
[]
[]
[]
[]
[]
[]
[]
[]
[]
[]
[]
[]
[]
[]
[]
[]
[]
[]
[]
[]
[]
[]
[]
[]
[]
[]
[]
[]
[]
[]
[]
[]
[]
[]
[]
[]
[]
[]
[]
[]
[]
[]
[]
[]
[]
[]
[]
[]
[]
[]
[]
[]
[]
[]
[]
[]
[]
[]
[]
[]
[]
[]
[]
[]
[]
[]
[]
[]
[]
[]
[]
[]
[]
[]
[]
[]
[]
[]
[]
[]
[]
[]
[]
[]
[]
[]
[]
[]
[]
[]
[]
[]
[]
[]
[]
[]
[]
[]
[]
[]
[]
[]
[]
[]
[]
[]
[]
[]
[]
[]
[]
[]
[]
[]
[]
[]
[]
[]
[]
[]
[]
[]
[]
[]
[]
[]
[]
[]
[]
[]
[]
[]
[]
[]
[]
[]
[]
[]
[]
[]
[]
[]
[]
[]
[]
[]
[]
[]
[]
[]
[]
[]
[]
[]
[]
[]
[]
[]
[]
[]
[]
[]
[]
[]
[]
[]
[]
[]
[]
[]
[]
[]
[]
[]
[]
[]
[]
[]
[]
[]
[]
[]
[]
[]
[]
[]
[]
[]
[]
[]
[]
[]
[]
[]
[]
[]
[]
[]
[]
[]
[]
[]
[]
[]
[]
[]
[]
[]
[]
[]
[]
[]
[]
[]
[]
[]
[]
[]
[]
[]
[]
[]
[]
[]
[]
[]
[]
[]
[]
[]
[]
[]
[]
[]
[]
[]
[]
[]
[]
[]
[]
[]
[]
[]
[]
[]
[]
[]
[]
[]
[]
[]
[]
[]
[]
[]
[]
[]
[]
[]
[]
[]
[]
[]
[]
[]
[]
[]
[]
[]
[]
[]
[]
[]
[]
[]
[]
[]
[]
[]
[]
[]
[]
[]
[]
[]
[]
[]
[]
[]
[]
[]
[]
[]
[]
[]
[]
[]
[]
[]
[]
[]
[]
[]
[]
[]
[]
[]
[]
[]
[]
[]
[]
[]
[]
[]
[]
[]
[]
[]
[]
[]
[]
[]
[]
[]
[]
[]
[]
[]
[]
[]
[]
[]
[]
[]
[]
[]
[]
[]
[]
[]
[]
[]
[]
[]
[]
[]
[]
[]
[]
[]
[]
[]
[]
[]
[]
[]
[null,null,"заработная плата прочего персонала, относимого на регулируемый вид деятельности"]
[]
[]
[]
[]
[]
[]
[]
[]
[]
[]
[]
[]
[]
[]
[]
[]
[]
[]
[]
[]
[]
[]
[]
[]
[]
[]
[]
[]
[]
[]
[]
[]
[]
[]
[]
[]
[]
[]
[]
[]
[]
[]
[]
[]
[]
[]
[]
[]
[]
[]
[]
[]
[]
[]
[]
[]
[]
[]
[]
[]
[]
[]
[]
[]
[]
[]
[]
[]
[]
[]
[]
[]
[]
[]
[]
[]
[]
[]
[]
[]
[]
[]
[]
[]
[]
[]
[]
[]
[]
[]
[]
[]
[]
[]
[]
[]
[]
[]
[]
[]
[]
[]
[]
[]
[]
[]
[]
[]
[]
[]
[]
[]
[]
[]
[]
[]
[]
[]
[]
[]
[]
[]
[]
[]
[]
[]
[]
[]
[]
[]
[]
[]
[]
[]
[]
[]
[]
[]
[]
[]
[]
[]
[]
[]
[]
[]
[]
[]
[]
[]
[]
[]
[]
[]
[]
[]
[]
[]
[]
[]
[]
[]
[]
[]
[]
[]
[]
[]
[]
[]
[]
[]
[]
[]
[]
[]
[]
[]
[]
[]
[]
[]
[]
[]
[]
[]
[]
[]
[]
[]
[]
[]
[]
[]
[]
[]
[]
[]
[]
[]
[]
[]
[]
[]
[]
[]
[]
[]
[]
[]
[]
[]
[]
[]
[]
[]
[]
[]
[]
[]
[]
[]
[]
[]
[]
[]
[]
[]
[]
[]
[]
[]
[]
[]
[]
[]
[]
[]
[]
[]
[]
[]
[]
[]
[]
[]
[]
[]
[]
[]
[]
[]
[]
[]
[]
[]
[]
[]
[]
[]
[]
[]
[]
[]
[]
[]
[]
[]
[]
[]
[]
[]
[]
[]
[]
[]
[]
[]
[]
[]
[]
[]
[]
[]
[]
[]
[]
[]
[]
[]
[]
[]
[]
[]
[]
[]
[]
[]
[]
[]
[]
[]
[]
[]
[]
[]
[]
[]
[]
[]
[]
[]
[]
[]
[]
[]
[]
[]
[]
[]
[]
[]
[]
[]
[]
[]
[]
[]
[]
[]
[]
[]
[]
[]
[]
[]
[]
[]
[]
[]
[]
[]
[]
[]
[]
[]
[]
[]
[]
[]
[]
[]
[]
[]
[]
[]
[]
[]
[]
[]
[]
[]
[]
[]
[]
[]
[]
[]
[]
[]
[]
[]
[]
[]
[]
[]
[]
[]
[]
[]
[]
[]
[]
[]
[]
[]
[]
[]
[]
[]
[]
[]
[]
[]
[]
[]
[]
[]
[]
[null,null,"заработная плата прочего персонала, относимого на регулируемый вид деятельности"]
[]
[]
[]
[]
[]
[]
[]
[]
[]
[]
[]
[]
[]
[]
[]
[]
[]
[]
[]
[]
[]
[]
[]
[]
[]
[]
[]
[]
[]
[]
[]
[]
[]
[]
[]
[]
[]
[]
[]
[]
[]
[]
[]
[]
[]
[]
[]
[]
[]
[]
[]
[]
[]
[]
[]
[]
[]
[]
[]
[]
[]
[]
[]
[]
[]
[]
[]
[]
[]
[]
[]
[]
[]
[]
[]
[]
[]
[]
[]
[]
[]
[]
[]
[]
[]
[]
[]
[]
[]
[]
[]
[]
[]
[]
[]
[]
[]
[]
[]
[]
[]
[]
[]
[]
[]
[]
[]
[]
[]
[]
[]
[]
[]
[]
[]
[]
[]
[]
[]
[]
[]
[]
[]
[]
[]
[]
[]
[]
[]
[]
[]
[]
[]
[]
[]
[]
[]
[]
[]
[]
[]
[]
[]
[]
[]
[]
[]
[]
[]
[]
[]
[]
[]
[]
[]
[]
[]
[]
[]
[]
[]
[]
[]
[]
[]
[]
[]
[]
[]
[]
[]
[]
[]
[]
[]
[]
[]
[]
[]
[]
[]
[]
[]
[]
[]
[]
[]
[]
[]
[]
[]
[]
[]
[]
[]
[]
[]
[]
[]
[]
[]
[]
[]
[]
[]
[]
[]
[]
[]
[]
[]
[]
[]
[]
[]
[]
[]
[]
[]
[]
[]
[]
[]
[]
[]
[]
[]
[]
[]
[]
[]
[]
[]
[]
[]
[]
[]
[]
[]
[]
[]
[]
[]
[]
[]
[]
[]
[]
[]
[]
[]
[]
[]
[]
[]
[]
[]
[]
[]
[]
[]
[]
[]
[]
[]
[]
[]
[]
[]
[]
[]
[]
[]
[]
[]
[]
[]
[]
[]
[]
[]
[]
[]
[]
[]
[]
[]
[]
[]
[]
[]
[]
[]
[]
[]
[]
[]
[]
[]
[]
[]
[]
[]
[]
[]
[]
[]
[]
[]
[]
[]
[]
[]
[]
[]
[]
[]
[]
[]
[]
[]
[]
[]
[]
[]
[]
[]
[]
[]
[]
[]
[]
[]
[]
[]
[]
[]
[]
[]
[]
[]
[]
[]
[]
[]
[]
[]
[]
[]
[]
[]
[]
[]
[]
[]
[]
[]
[]
[]
[]
[]
[]
[]
[]
[]
[]
[]
[]
[]
[]
[]
[]
[]
[]
[]
[]
[]
[]
[]
[]
[]
[]
[]
[]
[]
[]
[]
[]
[]
[]
[]
[]
[]
[]
[]
[]
[null,null,"заработная плата прочего персонала, относимого на регулируемый вид деятельности"]
[]
[]
[]
[]
[]
[]
[]
[]
[]
[]
[]
[]
[]
[]
[]
[]
[]
[]
[]
[]
[]
[]
[]
[]
[]
[]
[]
[]
[]
[]
[]
[]
[]
[]
[]
[]
[]
[]
[]
[]
[]
[]
[]
[]
[]
[]
[]
[]
[]
[]
[]
[]
[]
[]
[]
[]
[]
[]
[]
[]
[]
[]
[]
[]
[]
[]
[]
[]
[]
[]
[]
[]
[]
[]
[]
[]
[]
[]
[]
[]
[]
[]
[]
[]
[]
[]
[]
[]
[]
[]
[]
[]
[]
[]
[]
[]
[]
[]
[]
[]
[]
[]
[]
[]
[]
[]
[]
[]
[]
[]
[]
[]
[]
[]
[]
[]
[]
[]
[]
[]
[]
[]
[]
[]
[]
[]
[]
[]
[]
[]
[]
[]
[]
[]
[]
[]
[]
[]
[]
[]
[]
[]
[]
[]
[]
[]
[]
[]
[]
[]
[]
[]
[]
[]
[]
[]
[]
[]
[]
[]
[]
[]
[]
[]
[]
[]
[]
[]
[]
[]
[]
[]
[]
[]
[]
[]
[]
[]
[]
[]
[]
[]
[]
[]
[]
[]
[]
[]
[]
[]
[]
[]
[]
[]
[]
[]
[]
[]
[]
[]
[]
[]
[]
[]
[]
[]
[]
[]
[]
[]
[]
[]
[]
[]
[]
[]
[]
[]
[]
[]
[]
[]
[]
[]
[]
[]
[]
[]
[]
[]
[]
[]
[]
[]
[]
[]
[]
[]
[]
[]
[]
[]
[]
[]
[]
[]
[]
[]
[]
[]
[]
[]
[]
[]
[]
[]
[]
[]
[]
[]
[]
[]
[]
[]
[]
[]
[]
[]
[]
[]
[]
[]
[]
[]
[]
[]
[]
[]
[]
[]
[]
[]
[]
[]
[]
[]
[]
[]
[]
[]
[]
[]
[]
[]
[]
[]
[]
[]
[]
[]
[]
[]
[]
[]
[]
[]
[]
[]
[]
[]
[]
[]
[]
[]
[]
[]
[]
[]
[]
[]
[]
[]
[]
[]
[]
[]
[]
[]
[]
[]
[]
[]
[]
[]
[]
[]
[]
[]
[]
[]
[]
[]
[]
[]
[]
[]
[]
[]
[]
[]
[]
[]
[]
[]
[]
[]
[]
[]
[]
[]
[]
[]
[]
[]
[]
[]
[]
[]
[]
[]
[]
[]
[]
[]
[]
[]
[]
[]
[]
[]
[]
[]
[]
[]
[]
[]
[]
[]
[]
[]
[]
[]
[]
[]
[]
[]
[]
[]
[]
[null,null,"заработная плата прочего персонала, относимого на регулируемый вид деятельности"]
[]
[]
[]
[]
[]
[]
[]
[]
[]
[]
[]
[]
[]
[]
[]
[]
[]
[]
[]
[]
[]
[]
[]
[]
[]
[]
[]
[]
[]
[]
[]
[]
[]
[]
[]
[]
[]
[]
[]
[]
[]
[]
[]
[]
[]
[]
[]
[]
[]
[]
[]
[]
[]
[]
[]
[]
[]
[]
[]
[]
[]
[]
[]
[]
[]
[]
[]
[]
[]
[]
[]
[]
[]
[]
[]
[]
[]
[]
[]
[]
[]
[]
[]
[]
[]
[]
[]
[]
[]
[]
[]
[]
[]
[]
[]
[]
[]
[]
[]
[]
[]
[]
[]
[]
[]
[]
[]
[]
[]
[]
[]
[]
[]
[]
[]
[]
[]
[]
[]
[]
[]
[]
[]
[]
[]
[]
[]
[]
[]
[]
[]
[]
[]
[]
[]
[]
[]
[]
[]
[]
[]
[]
[]
[]
[]
[]
[]
[]
[]
[]
[]
[]
[]
[]
[]
[]
[]
[]
[]
[]
[]
[]
[]
[]
[]
[]
[]
[]
[]
[]
[]
[]
[]
[]
[]
[]
[]
[]
[]
[]
[]
[]
[]
[]
[]
[]
[]
[]
[]
[]
[]
[]
[]
[]
[]
[]
[]
[]
[]
[]
[]
[]
[]
[]
[]
[]
[]
[]
[]
[]
[]
[]
[]
[]
[]
[]
[]
[]
[]
[]
[]
[]
[]
[]
[]
[]
[]
[]
[]
[]
[]
[]
[]
[]
[]
[]
[]
[]
[]
[]
[]
[]
[]
[]
[]
[]
[]
[]
[]
[]
[]
[]
[]
[]
[]
[]
[]
[]
[]
[]
[]
[]
[]
[]
[]
[]
[]
[]
[]
[]
[]
[]
[]
[]
[]
[]
[]
[]
[]
[]
[]
[]
[]
[]
[]
[]
[]
[]
[]
[]
[]
[]
[]
[]
[]
[]
[]
[]
[]
[]
[]
[]
[]
[]
[]
[]
[]
[]
[]
[]
[]
[]
[]
[]
[]
[]
[]
[]
[]
[]
[]
[]
[]
[]
[]
[]
[]
[]
[]
[]
[]
[]
[]
[]
[]
[]
[]
[]
[]
[]
[]
[]
[]
[]
[]
[]
[]
[]
[]
[]
[]
[]
[]
[]
[]
[]
[]
[]
[]
[]
[]
[]
[]
[]
[]
[]
[]
[]
[]
[]
[]
[]
[]
[]
[]
[]
[]
[]
[]
[]
[]
[]
[]
[]
[]
[]
[]
[]
[]
[]
[]
[]
[]
[]
[]
[]
[]
[]
[]
[null,null,"заработная плата прочего персонала, относимого на регулируемый вид деятельности"]
[]
[]
[]
[]
[]
[]
[]
[]
[]
[]
[]
[]
[]
[]
[]
[]
[]
[]
[]
[]
[]
[]
[]
[]
[]
[]
[]
[]
[]
[]
[]
[]
[]
[]
[]
[]
[]
[]
[]
[]
[]
[]
[]
[]
[]
[]
[]
[]
[]
[]
[]
[]
[]
[]
[]
[]
[]
[]
[]
[]
[]
[]
[]
[]
[]
[]
[]
[]
[]
[]
[]
[]
[]
[]
[]
[]
[]
[]
[]
[]
[]
[]
[]
[]
[]
[]
[]
[]
[]
[]
[]
[]
[]
[]
[]
[]
[]
[]
[]
[]
[]
[]
[]
[]
[]
[]
[]
[]
[]
[]
[]
[]
[]
[]
[]
[]
[]
[]
[]
[]
[]
[]
[]
[]
[]
[]
[]
[]
[]
[]
[]
[]
[]
[]
[]
[]
[]
[]
[]
[]
[]
[]
[]
[]
[]
[]
[]
[]
[]
[]
[]
[]
[]
[]
[]
[]
[]
[]
[]
[]
[]
[]
[]
[]
[]
[]
[]
[]
[]
[]
[]
[]
[]
[]
[]
[]
[]
[]
[]
[]
[]
[]
[]
[]
[]
[]
[]
[]
[]
[]
[]
[]
[]
[]
[]
[]
[]
[]
[]
[]
[]
[]
[]
[]
[]
[]
[]
[]
[]
[]
[]
[]
[]
[]
[]
[]
[]
[]
[]
[]
[]
[]
[]
[]
[]
[]
[]
[]
[]
[]
[]
[]
[]
[]
[]
[]
[]
[]
[]
[]
[]
[]
[]
[]
[]
[]
[]
[]
[]
[]
[]
[]
[]
[]
[]
[]
[]
[]
[]
[]
[]
[]
[]
[]
[]
[]
[]
[]
[]
[]
[]
[]
[]
[]
[]
[]
[]
[]
[]
[]
[]
[]
[]
[]
[]
[]
[]
[]
[]
[]
[]
[]
[]
[]
[]
[]
[]
[]
[]
[]
[]
[]
[]
[]
[]
[]
[]
[]
[]
[]
[]
[]
[]
[]
[]
[]
[]
[]
[]
[]
[]
[]
[]
[]
[]
[]
[]
[]
[]
[]
[]
[]
[]
[]
[]
[]
[]
[]
[]
[]
[]
[]
[]
[]
[]
[]
[]
[]
[]
[]
[]
[]
[]
[]
[]
[]
[]
[]
[]
[]
[]
[]
[]
[]
[]
[]
[]
[]
[]
[]
[]
[]
[]
[]
[]
[]
[]
[]
[]
[]
[]
[]
[]
[]
[]
[]
[]
[]
[]
[]
[]
[]
[]
[]
[]
[]
[]
[]
[]
[]
[]
[]
[]
[]
[]
[]
[]
[]
[]
[]
[]
[]
[]
[]
[]
[]
[]
[]
[]
[]
[]
[]
[]
[]
[]
[]
[]
[]
[]
[]
[]
[]
[]
[]
[]
[]
[]
[]
[]
[]
[]
[]
[]
[]
[]
[]
[]
[]
[]
[]
[]
[]
[]
[]
[]
[]
[]
[]
[]
[]
[]
[]
[]
[]
[]
[]
[]
[]
[]
[]
[]
[]
[]
[]
[]
[]
[]
[]
[]
[]
[]
[]
[]
[]
[]
[]
[]
[]
[]
[]
[]
[]
[]
[]
[]
[]
[]
[]
[]
[]
[]
[]
[]
[]
[]
[]
[]
[]
[]
[]
[]
[]
[]
[]
[]
[]
[]
[]
[]
[]
[]
[]
[]
[]
[]
[]
[]
[]
[]
[]
[]
[]
[]
[]
[]
[]
[]
[]
[]
[]
[]
[]
[]
[]
[]
[]
[]
[]
[]
[]
[]
[]
[]
[]
[]
[]
[]
[]
[]
[]
[]
[]
[]
[]
[]
[]
[]
[]
[]
[]
[]
[]
[]
[]
[]
[]
[]
[]
[]
[]
[]
[]
[]
[]
[]
[]
[]
[]
[]
[]
[]
[]
[]
[]
[]
[]
[]
[]
[]
[]
[]
[]
[]
[]
[]
[]
[]
[]
[]
[]
[]
[]
[]
[]
[]
[]
[]
[]
[]
[]
[]
[]
[]
[]
[]
[]
[]
[]
[]
[]
[]
[]
[]
[]
[]
[]
[]
[]
[]
[]
[]
[]
[]
[]
[]
[]
[]
[]
[]
[]
[]
[]
[]
[]
[]
[]
[]
[]
[]
[]
[]
[]
[]
[]
[]
[]
[]
[]
[]
[]
[]
[]
[]
[]
[]
[]
[]
[]
[]
[]
[]
[]
[]
[]
[]
[]
[]
[]
[]
[]
[]
[]
[]
[]
[]
[]
[]
[]
[]
[]
[]
[]
[]
[]
[]
[]
[]
[]
[]
[]
[]
[]
[]
[]
[]
[]
[]
[]
[]
[]
[]
[]
[]
[]
[]
[]
[]
[]
[]
[]
[]
[]
[]
[]
[]
[]
[]
[]
[]
[]
[]
[]
[]
[]
[]
[]
[]
[]
[]
[]
[]
[]
[]
[]
[]
[]
[]
[]
[]
[]
[]
[]
[]
[]
[]
[]
[]
[]
[]
[]
[]
[]
[]
[]
[]
[]
[]
[]
[]
[]
[]
[]
[]
[]
[]
[]
[]
[]
[]
[]
[]
[]
[]
[]
[]
[]
[]
[]
[]
[]
[]
[]
[]
[]
[]
[]
[]
[]
[]
[]
[]
[]
[]
[]
[]
[]
[]
[]
[]
[]
[]
[]
[]
[]
[]
[]
[]
[]
[]
[]
[]
[]
[]
[]
[]
[]
[]
[]
[]
[]
[]
[]
[]
[]
[]
[]
[]
[]
[]
[]
[]
[]
[]
[]
[]
[]
[]
[]
[]
[]
[]
[]
[]
[]
[]
[]
[]
[]
[]
[]
[]
[]
[]
[]
[]
[]
[]
[]
[]
[]
[]
[]
[]
[]
[]
[]
[]
[]
[]
[]
[]
[]
[]
[]
[]
[]
[]
[]
[]
[]
[]
[]
[]
[]
[]
[]
[]
[]
[]
[]
[]
[]
[]
[]
[]
[]
[]
[]
[]
[]
[]
[]
[]
[]
[]
[]
[]
[]
[]
[]
[]
[]
[]
[]
[]
[]
[]
[]
[]
[]
[]
[]
[]
[]
[]
[]
[]
[]
[]
[]
[]
[]
[]
[]
[]
[]
[]
[]
[]
[]
[]
[]
[]
[]
[]
[]
[]
[]
[]
[]
[]
[]
[]
[]
[]
[]
[]
[]
[]
[]
[]
[]
[]
[]
[]
[]
[]
[]
[]
[]
[]
[]
[]
[]
[]
[]
[]
[]
[]
[]
[]
[]
[]
[]
[]
[]
[]
[]
[]
[]
[]
[]
[]
[]
[]
[]
[]
[]
[]
[]
[]
[]
[]
[]
[]
[]
[]
[]
[]
[]
[]
[]
[]
[]
[]
[]
[]
[]
[]
[]
[]
[]
[]
[]
[]
[]
[]
[]
[]
[]
[]
[]
[]
[]
[]
[]
[]
[]
[]
[]
[]
[]
[]
[]
[]
[]
[]
[]
[]
[]
[]
[]
[]
[]
[]
[]
[]
[]
[]
[]
[]
[]
[]
[]
[]
[]
[]
[]
[]
[]
[]
[]
[]
[]
[]
[]
[]
[]
[]
[]
[]
[]
[]
[]
[]
[]
[]
[]
[]
[]
[]
[]
[]
[]
[]
[]
[]
[]
[]
[]
[]
[]
[]
[]
[]
[]
[]
[]
[]
[]
[]
[]
[]
[]
[]
[]
[]
[]
[]
[]
[]
[]
[]
[]
[]
[]
[]
[]
[]
[]
[]
[]
[]
[]
[]
[]
[]
[]
[]
[]
[]
[]
[]
[]
[]
[]
[]
[]
[]
[]
[]
[]
[]
[]
[]
[]
[]
[]
[]
[]
[]
[]
[]
[]
[]
[]
[]
[]
[]
[]
[]
[]
[]
[]
[]
[]
[]
[]
[]
[]
[]
[]
[]
[]
[]
[]
[]
[]
[]
[]
[]
[]
[]
[]
[]
[]
[]
[]
[]
[]
[]
[]
[]
[]
[]
[]
[]
[]
[]
[]
[]
[]
[]
[]
[]
[]
[]
[]
[]
[]
[]
[]
[]
[]
[]
[]
[]
[]
[]
[]
[]
[]
[]
[]
[]
[]
[]
[]
[]
[]
[]
[]
[]
[]
[]
[]
[]
[]
[]
[]
[]
[]
[]
[]
[]
[]
[]
[]
[]
[]
[]
[]
[]
[]
[]
[]
[]
[]
[]
[]
[]
[]
[]
[]
[]
[]
[]
[]
[]
[]
[]
[]
[]
[]
[]
[]
[]
[]
[]
[]
[]
[]
[]
[]
[]
[]
[]
[]
[]
[]
[]
[]
[]
[]
[]
[]
[]
[]
[]
[]
[]
[]
[]
[]
[]
[]
[]
[]
[]
[]
[]
[]
[]
[]
[]
[]
[]
[]
[]
[]
[]
[]
[]
[]
[]
[]
[]
[]
[]
[]
[]
[]
[]
[]
[]
[]
[]
[]
[]
[]
[]
[]
[]
[]
[]
[]
[]
[]
[]
[]
[]
[]
[]
[]
[]
[]
[]
[]
[]
[]
[]
[]
[]
[]
[]
[]
[]
[]
[]
[]
[]
[]
[]
[]
[]
[]
[]
[]
[]
[]
[]
[]
[]
[]
[]
[]
[]
[]
[]
[]
[]
[]
[]
[]
[]
[]
[]
[]
[]
[]
[]
[]
[]
[]
[]
[]
[]
[]
[]
[]
[]
[]
[]
[]
[]
[]
[]
[]
[]
[]
[]
[]
[]
[]
[]
[]
[]
[]
[]
[]
[]
[]
[]
[]
[]
[]
[]
[]
[]
[]
[]
[]
[]
[]
[]
[]
[]
[]
[]
[]
[]
[]
[]
[]
[]
[]
[]
[]
[]
[]
[]
[]
[]
[]
[]
[]
[]
[]
[]
[]
[]
[]
[]
[]
[]
[]
[]
[]
[]
[]
[]
[]
[]
[]
[]
[]
[]
[]
[]
[]
[]
[]
[]
[]
[]
[]
[]
[]
[]
[]
[]
[]
[]
[]
[]
[]
[]
[]
[]
[]
[]
[]
[]
[]
[]
[]
[]
[]
[]
[]
[]
[]
[]
[]
[]
[]
[]
[]
[]
[]
[]
[]
[]
[]
[]
[]
[]
[]
[]
[]
[]
[]
[]
[]
[]
[]
[]
[]
[]
[]
[]
[]
[]
[]
[]
[]
[]
[]
[]
[]
[]
[]
[]
[]
[]
[]
[]
[]
[]
[null,null,"заработная плата прочего персонала, относимого на регулируемый вид деятельности"]

{"sheet":"Лист1","index":35,"n_rows":0,"n_cols":0,"rows_kept":0,"cut":false,"hidden":false,"merged":[]}